BEGIN:VCALENDAR
VERSION:2.0
PRODID:-//Sovereign Grace Church - ECPv6.15.20//NONSGML v1.0//EN
CALSCALE:GREGORIAN
METHOD:PUBLISH
X-ORIGINAL-URL:https://sovgracechurch.ca
X-WR-CALDESC:Events for Sovereign Grace Church
REFRESH-INTERVAL;VALUE=DURATION:PT1H
X-Robots-Tag:noindex
X-PUBLISHED-TTL:PT1H
BEGIN:VTIMEZONE
TZID:America/Toronto
BEGIN:DAYLIGHT
TZOFFSETFROM:-0500
TZOFFSETTO:-0400
TZNAME:EDT
DTSTART:20230312T070000
END:DAYLIGHT
BEGIN:STANDARD
TZOFFSETFROM:-0400
TZOFFSETTO:-0500
TZNAME:EST
DTSTART:20231105T060000
END:STANDARD
BEGIN:DAYLIGHT
TZOFFSETFROM:-0500
TZOFFSETTO:-0400
TZNAME:EDT
DTSTART:20240310T070000
END:DAYLIGHT
BEGIN:STANDARD
TZOFFSETFROM:-0400
TZOFFSETTO:-0500
TZNAME:EST
DTSTART:20241103T060000
END:STANDARD
BEGIN:DAYLIGHT
TZOFFSETFROM:-0500
TZOFFSETTO:-0400
TZNAME:EDT
DTSTART:20250309T070000
END:DAYLIGHT
BEGIN:STANDARD
TZOFFSETFROM:-0400
TZOFFSETTO:-0500
TZNAME:EST
DTSTART:20251102T060000
END:STANDARD
END:VTIMEZONE
BEGIN:VEVENT
DTSTART;TZID=America/Toronto:20240703T193000
DTEND;TZID=America/Toronto:20240703T210000
DTSTAMP:20260424T211142
CREATED:20240304T224412Z
LAST-MODIFIED:20240304T224412Z
UID:10004006-1720035000-1720040400@sovgracechurch.ca
SUMMARY:Prayer Meeting
DESCRIPTION:Join us during this mid-week service to pray together. \nWe meet every 1st and 3rd Wednesday of the month! \nPlease email info@sovgracechurch.ca for more information.
URL:https://sovgracechurch.ca/event/prayer-meeting-2-2-2/2024-07-03/
LOCATION:Sovereign Grace Church\, 1466 5th Sideroad\, Bradford\, Ontario\, L3Z4A8\, Canada
GEO:44.044413;-79.62542
X-APPLE-STRUCTURED-LOCATION;VALUE=URI;X-ADDRESS=Sovereign Grace Church 1466 5th Sideroad Bradford Ontario L3Z4A8 Canada;X-APPLE-RADIUS=500;X-TITLE=1466 5th Sideroad:geo:-79.62542,44.044413
END:VEVENT
BEGIN:VEVENT
DTSTART;TZID=America/Toronto:20240705T193000
DTEND;TZID=America/Toronto:20240705T213000
DTSTAMP:20260424T211142
CREATED:20240304T223315Z
LAST-MODIFIED:20240304T223315Z
UID:10003985-1720207800-1720215000@sovgracechurch.ca
SUMMARY:Young Adults
DESCRIPTION:This is for young adults aged 18-30. \nWe meet every 1st and 3rd Friday of the month at the church! \nPlease email info@sovgracechurch.ca for more information. \n 
URL:https://sovgracechurch.ca/event/young-adults-2/2024-07-05/
LOCATION:Sovereign Grace Church\, 1466 5th Sideroad\, Bradford\, Ontario\, L3Z4A8\, Canada
GEO:44.044413;-79.62542
X-APPLE-STRUCTURED-LOCATION;VALUE=URI;X-ADDRESS=Sovereign Grace Church 1466 5th Sideroad Bradford Ontario L3Z4A8 Canada;X-APPLE-RADIUS=500;X-TITLE=1466 5th Sideroad:geo:-79.62542,44.044413
END:VEVENT
BEGIN:VEVENT
DTSTART;TZID=America/Toronto:20240707T103000
DTEND;TZID=America/Toronto:20240707T123000
DTSTAMP:20260424T211142
CREATED:20240304T210358Z
LAST-MODIFIED:20240304T225237Z
UID:10003507-1720348200-1720355400@sovgracechurch.ca
SUMMARY:Sunday Gathering
DESCRIPTION:Join us! Everyone is welcomed. \nWe gather every Sunday for singing\, teaching and fellowship. \nPre-service prayer is at 9:45am in the family room.
URL:https://sovgracechurch.ca/event/__trashed-7/2024-07-07/
LOCATION:Sovereign Grace Church\, 1466 5th Sideroad\, Bradford\, Ontario\, L3Z4A8\, Canada
CATEGORIES:Sunday Services
GEO:44.044413;-79.62542
X-APPLE-STRUCTURED-LOCATION;VALUE=URI;X-ADDRESS=Sovereign Grace Church 1466 5th Sideroad Bradford Ontario L3Z4A8 Canada;X-APPLE-RADIUS=500;X-TITLE=1466 5th Sideroad:geo:-79.62542,44.044413
END:VEVENT
BEGIN:VEVENT
DTSTART;TZID=America/Toronto:20240707T123000
DTEND;TZID=America/Toronto:20240707T140000
DTSTAMP:20260424T211142
CREATED:20240625T215134Z
LAST-MODIFIED:20240625T215134Z
UID:10004601-1720355400-1720360800@sovgracechurch.ca
SUMMARY:Baptism Class
DESCRIPTION:
URL:https://sovgracechurch.ca/event/baptism-class/
END:VEVENT
BEGIN:VEVENT
DTSTART;TZID=America/Toronto:20240714T103000
DTEND;TZID=America/Toronto:20240714T123000
DTSTAMP:20260424T211142
CREATED:20240304T210358Z
LAST-MODIFIED:20240304T225237Z
UID:10003508-1720953000-1720960200@sovgracechurch.ca
SUMMARY:Sunday Gathering
DESCRIPTION:Join us! Everyone is welcomed. \nWe gather every Sunday for singing\, teaching and fellowship. \nPre-service prayer is at 9:45am in the family room.
URL:https://sovgracechurch.ca/event/__trashed-7/2024-07-14/
LOCATION:Sovereign Grace Church\, 1466 5th Sideroad\, Bradford\, Ontario\, L3Z4A8\, Canada
CATEGORIES:Sunday Services
GEO:44.044413;-79.62542
X-APPLE-STRUCTURED-LOCATION;VALUE=URI;X-ADDRESS=Sovereign Grace Church 1466 5th Sideroad Bradford Ontario L3Z4A8 Canada;X-APPLE-RADIUS=500;X-TITLE=1466 5th Sideroad:geo:-79.62542,44.044413
END:VEVENT
BEGIN:VEVENT
DTSTART;TZID=America/Toronto:20240717T193000
DTEND;TZID=America/Toronto:20240717T210000
DTSTAMP:20260424T211142
CREATED:20240327T130144Z
LAST-MODIFIED:20240327T130144Z
UID:10004023-1721244600-1721250000@sovgracechurch.ca
SUMMARY:Praise and Worship Night
DESCRIPTION:Join us for our Praise and Worship Night! \nPlease email info@sovgracechurch.ca for more information.
URL:https://sovgracechurch.ca/event/prayer-meeting-3/
LOCATION:Sovereign Grace Church\, 1466 5th Sideroad\, Bradford\, Ontario\, L3Z4A8\, Canada
GEO:44.044413;-79.62542
X-APPLE-STRUCTURED-LOCATION;VALUE=URI;X-ADDRESS=Sovereign Grace Church 1466 5th Sideroad Bradford Ontario L3Z4A8 Canada;X-APPLE-RADIUS=500;X-TITLE=1466 5th Sideroad:geo:-79.62542,44.044413
END:VEVENT
BEGIN:VEVENT
DTSTART;TZID=America/Toronto:20240719T140000
DTEND;TZID=America/Toronto:20240719T170000
DTSTAMP:20260424T211142
CREATED:20240529T164516Z
LAST-MODIFIED:20240529T164516Z
UID:10004594-1721397600-1721408400@sovgracechurch.ca
SUMMARY:(Rental)
DESCRIPTION:
URL:https://sovgracechurch.ca/event/rental-15/
END:VEVENT
BEGIN:VEVENT
DTSTART;TZID=America/Toronto:20240719T193000
DTEND;TZID=America/Toronto:20240719T213000
DTSTAMP:20260424T211142
CREATED:20240305T161831Z
LAST-MODIFIED:20240305T161831Z
UID:10004534-1721417400-1721424600@sovgracechurch.ca
SUMMARY:Young Adults
DESCRIPTION:This is for young adults aged 18-30. \nWe meet every 1st and 3rd Friday of the month at the church! \nPlease email info@sovgracechurch.ca for more information. \n 
URL:https://sovgracechurch.ca/event/young-adults-3/2024-07-19/
LOCATION:Sovereign Grace Church\, 1466 5th Sideroad\, Bradford\, Ontario\, L3Z4A8\, Canada
GEO:44.044413;-79.62542
X-APPLE-STRUCTURED-LOCATION;VALUE=URI;X-ADDRESS=Sovereign Grace Church 1466 5th Sideroad Bradford Ontario L3Z4A8 Canada;X-APPLE-RADIUS=500;X-TITLE=1466 5th Sideroad:geo:-79.62542,44.044413
END:VEVENT
BEGIN:VEVENT
DTSTART;TZID=America/Toronto:20240720T080000
DTEND;TZID=America/Toronto:20240720T170000
DTSTAMP:20260424T211142
CREATED:20240506T013251Z
LAST-MODIFIED:20240506T013251Z
UID:10004590-1721462400-1721494800@sovgracechurch.ca
SUMMARY:(Rental)
DESCRIPTION:
URL:https://sovgracechurch.ca/event/rental-13/
END:VEVENT
BEGIN:VEVENT
DTSTART;TZID=America/Toronto:20240721T103000
DTEND;TZID=America/Toronto:20240721T123000
DTSTAMP:20260424T211142
CREATED:20240304T210358Z
LAST-MODIFIED:20240304T225237Z
UID:10003509-1721557800-1721565000@sovgracechurch.ca
SUMMARY:Sunday Gathering
DESCRIPTION:Join us! Everyone is welcomed. \nWe gather every Sunday for singing\, teaching and fellowship. \nPre-service prayer is at 9:45am in the family room.
URL:https://sovgracechurch.ca/event/__trashed-7/2024-07-21/
LOCATION:Sovereign Grace Church\, 1466 5th Sideroad\, Bradford\, Ontario\, L3Z4A8\, Canada
CATEGORIES:Sunday Services
GEO:44.044413;-79.62542
X-APPLE-STRUCTURED-LOCATION;VALUE=URI;X-ADDRESS=Sovereign Grace Church 1466 5th Sideroad Bradford Ontario L3Z4A8 Canada;X-APPLE-RADIUS=500;X-TITLE=1466 5th Sideroad:geo:-79.62542,44.044413
END:VEVENT
BEGIN:VEVENT
DTSTART;TZID=America/Toronto:20240721T123000
DTEND;TZID=America/Toronto:20240721T140000
DTSTAMP:20260424T211142
CREATED:20240702T193358Z
LAST-MODIFIED:20240702T193419Z
UID:10004603-1721565000-1721570400@sovgracechurch.ca
SUMMARY:Church Lunch
DESCRIPTION:Everyone is welcome to join us for lunch after service.
URL:https://sovgracechurch.ca/event/church-lunch/
END:VEVENT
BEGIN:VEVENT
DTSTART;TZID=America/Toronto:20240721T143000
DTEND;TZID=America/Toronto:20240721T170000
DTSTAMP:20260424T211142
CREATED:20240509T030642Z
LAST-MODIFIED:20240509T030642Z
UID:10004591-1721572200-1721581200@sovgracechurch.ca
SUMMARY:(Rental)
DESCRIPTION:
URL:https://sovgracechurch.ca/event/rental-14/
END:VEVENT
BEGIN:VEVENT
DTSTART;TZID=America/Toronto:20240728T103000
DTEND;TZID=America/Toronto:20240728T123000
DTSTAMP:20260424T211142
CREATED:20240304T210358Z
LAST-MODIFIED:20240304T225237Z
UID:10003510-1722162600-1722169800@sovgracechurch.ca
SUMMARY:Sunday Gathering
DESCRIPTION:Join us! Everyone is welcomed. \nWe gather every Sunday for singing\, teaching and fellowship. \nPre-service prayer is at 9:45am in the family room.
URL:https://sovgracechurch.ca/event/__trashed-7/2024-07-28/
LOCATION:Sovereign Grace Church\, 1466 5th Sideroad\, Bradford\, Ontario\, L3Z4A8\, Canada
CATEGORIES:Sunday Services
GEO:44.044413;-79.62542
X-APPLE-STRUCTURED-LOCATION;VALUE=URI;X-ADDRESS=Sovereign Grace Church 1466 5th Sideroad Bradford Ontario L3Z4A8 Canada;X-APPLE-RADIUS=500;X-TITLE=1466 5th Sideroad:geo:-79.62542,44.044413
END:VEVENT
END:VCALENDAR