BEGIN:VCALENDAR
VERSION:2.0
PRODID:-//Sovereign Grace Church - ECPv6.15.20//NONSGML v1.0//EN
CALSCALE:GREGORIAN
METHOD:PUBLISH
X-ORIGINAL-URL:https://sovgracechurch.ca
X-WR-CALDESC:Events for Sovereign Grace Church
REFRESH-INTERVAL;VALUE=DURATION:PT1H
X-Robots-Tag:noindex
X-PUBLISHED-TTL:PT1H
BEGIN:VTIMEZONE
TZID:America/Toronto
BEGIN:DAYLIGHT
TZOFFSETFROM:-0500
TZOFFSETTO:-0400
TZNAME:EDT
DTSTART:20230312T070000
END:DAYLIGHT
BEGIN:STANDARD
TZOFFSETFROM:-0400
TZOFFSETTO:-0500
TZNAME:EST
DTSTART:20231105T060000
END:STANDARD
BEGIN:DAYLIGHT
TZOFFSETFROM:-0500
TZOFFSETTO:-0400
TZNAME:EDT
DTSTART:20240310T070000
END:DAYLIGHT
BEGIN:STANDARD
TZOFFSETFROM:-0400
TZOFFSETTO:-0500
TZNAME:EST
DTSTART:20241103T060000
END:STANDARD
BEGIN:DAYLIGHT
TZOFFSETFROM:-0500
TZOFFSETTO:-0400
TZNAME:EDT
DTSTART:20250309T070000
END:DAYLIGHT
BEGIN:STANDARD
TZOFFSETFROM:-0400
TZOFFSETTO:-0500
TZNAME:EST
DTSTART:20251102T060000
END:STANDARD
END:VTIMEZONE
BEGIN:VEVENT
DTSTART;TZID=America/Toronto:20241201T090000
DTEND;TZID=America/Toronto:20241201T100000
DTSTAMP:20260424T132547
CREATED:20240821T184937Z
LAST-MODIFIED:20241028T193308Z
UID:10004977-1733043600-1733047200@sovgracechurch.ca
SUMMARY:Foundations Class
DESCRIPTION:This 13-week class helps participants lay a solid doctrinal foundation by providing a survey of SGC’s Statement of Faith. It is a required class for all new members. Remaining class spaces are open to anyone who is interested in participating (up to a maximum of 40). It is jointly taught by Pastors Josh and Timon and runs every Sunday at 9:00-10:00 am from September 15 to December 8.  \nSign up here: https://sovgrace.churchcenter.com/people/forms/801269
URL:https://sovgracechurch.ca/event/foundations-class/2024-12-01/
END:VEVENT
BEGIN:VEVENT
DTSTART;TZID=America/Toronto:20241201T103000
DTEND;TZID=America/Toronto:20241201T123000
DTSTAMP:20260424T132547
CREATED:20240304T210358Z
LAST-MODIFIED:20240304T225237Z
UID:10003528-1733049000-1733056200@sovgracechurch.ca
SUMMARY:Sunday Gathering
DESCRIPTION:Join us! Everyone is welcomed. \nWe gather every Sunday for singing\, teaching and fellowship. \nPre-service prayer is at 9:45am in the family room.
URL:https://sovgracechurch.ca/event/__trashed-7/2024-12-01/
LOCATION:Sovereign Grace Church\, 1466 5th Sideroad\, Bradford\, Ontario\, L3Z4A8\, Canada
CATEGORIES:Sunday Services
GEO:44.044413;-79.62542
X-APPLE-STRUCTURED-LOCATION;VALUE=URI;X-ADDRESS=Sovereign Grace Church 1466 5th Sideroad Bradford Ontario L3Z4A8 Canada;X-APPLE-RADIUS=500;X-TITLE=1466 5th Sideroad:geo:-79.62542,44.044413
END:VEVENT
BEGIN:VEVENT
DTSTART;TZID=America/Toronto:20241201T123000
DTEND;TZID=America/Toronto:20241201T130000
DTSTAMP:20260424T132547
CREATED:20241119T221356Z
LAST-MODIFIED:20241119T221431Z
UID:10005196-1733056200-1733058000@sovgracechurch.ca
SUMMARY:Innova Academy Interest Meeting
DESCRIPTION:This meeting is for all parents who are interested in learning more about Innova Academy. \nInnova Academy offers a classical Christian education from JK to Grade 12 in Newmarket\, shaping hearts and minds through faith-based\, academic excellence. \nThe meeting will be held in the Gr. 3-4 classroom. \nPlease register your attendance here.
URL:https://sovgracechurch.ca/event/innova-academy-interest-meeting/
END:VEVENT
BEGIN:VEVENT
DTSTART;TZID=America/Toronto:20241201T133000
DTEND;TZID=America/Toronto:20241201T153000
DTSTAMP:20260424T132547
CREATED:20240909T125336Z
LAST-MODIFIED:20240923T143303Z
UID:10005137-1733059800-1733067000@sovgracechurch.ca
SUMMARY:Schomberg Community Group
DESCRIPTION:The Schomberg CG meets on the 1st and 3rd Sundays of every month. \nSign up here: https://sovgrace.churchcenter.com/people/forms/794561 \nPlease contact Steve Kamenar to find out more.
URL:https://sovgracechurch.ca/event/schomberg-community-group-3/2024-12-01/
END:VEVENT
BEGIN:VEVENT
DTSTART;TZID=America/Toronto:20241201T160000
DTEND;TZID=America/Toronto:20241201T180000
DTSTAMP:20260424T132547
CREATED:20240903T174920Z
LAST-MODIFIED:20240923T143156Z
UID:10005110-1733068800-1733076000@sovgracechurch.ca
SUMMARY:Bradford Town Community Group
DESCRIPTION:The Bradford Town Community Group meets on the 1st and 3rd Sunday of every month. \nSign up here: https://sovgrace.churchcenter.com/people/forms/794561 \nFor more information\, please contact Henry Vroom. \n 
URL:https://sovgracechurch.ca/event/bradford-town-community-group-3/2024-12-01/
END:VEVENT
BEGIN:VEVENT
DTSTART;TZID=America/Toronto:20241203T103000
DTEND;TZID=America/Toronto:20241203T120000
DTSTAMP:20260424T132547
CREATED:20241009T143514Z
LAST-MODIFIED:20241009T144022Z
UID:10005180-1733221800-1733227200@sovgracechurch.ca
SUMMARY:Flourish (Informal Women+kids hangout)
DESCRIPTION:Come join us for an informal gathering of mom and kids!
URL:https://sovgracechurch.ca/event/flourish-informal-womenkids-hangout/2024-12-03/
END:VEVENT
BEGIN:VEVENT
DTSTART;TZID=America/Toronto:20241204T193000
DTEND;TZID=America/Toronto:20241204T210000
DTSTAMP:20260424T132547
CREATED:20240304T224412Z
LAST-MODIFIED:20240304T224412Z
UID:10004010-1733340600-1733346000@sovgracechurch.ca
SUMMARY:Prayer Meeting
DESCRIPTION:Join us during this mid-week service to pray together. \nWe meet every 1st and 3rd Wednesday of the month! \nPlease email info@sovgracechurch.ca for more information.
URL:https://sovgracechurch.ca/event/prayer-meeting-2-2-2/2024-12-04/
LOCATION:Sovereign Grace Church\, 1466 5th Sideroad\, Bradford\, Ontario\, L3Z4A8\, Canada
GEO:44.044413;-79.62542
X-APPLE-STRUCTURED-LOCATION;VALUE=URI;X-ADDRESS=Sovereign Grace Church 1466 5th Sideroad Bradford Ontario L3Z4A8 Canada;X-APPLE-RADIUS=500;X-TITLE=1466 5th Sideroad:geo:-79.62542,44.044413
END:VEVENT
BEGIN:VEVENT
DTSTART;TZID=America/Toronto:20241205T190000
DTEND;TZID=America/Toronto:20241205T210000
DTSTAMP:20260424T132547
CREATED:20240812T193342Z
LAST-MODIFIED:20240819T132742Z
UID:10004872-1733425200-1733432400@sovgracechurch.ca
SUMMARY:Karate
DESCRIPTION:We meet weekly in the church gym. \n7:00-7:45pm: Kids Class 1 (Ages 6-12) \n7:30-8:15pm: Kids Class 2 (Ages 6-12) \n8:15-9:00pm: Teens + Adults (Ages 13+ and up) \nRegister here: https://sovgrace.churchcenter.com/people/forms/781555 \nRegistrations will close on September 30th. If you would still like to join after this date\, we invite you to wait to register again in January 2025.
URL:https://sovgracechurch.ca/event/karate/2024-12-05/
END:VEVENT
BEGIN:VEVENT
DTSTART;TZID=America/Toronto:20241206T193000
DTEND;TZID=America/Toronto:20241206T213000
DTSTAMP:20260424T132547
CREATED:20241015T204301Z
LAST-MODIFIED:20241015T204301Z
UID:10005161-1733513400-1733520600@sovgracechurch.ca
SUMMARY:Youth Group (M1)
DESCRIPTION:All are welcome! \nPlease sign up here. \nFor more info\, please contact Irving.
URL:https://sovgracechurch.ca/event/youth-group-2-5/
END:VEVENT
BEGIN:VEVENT
DTSTART;TZID=America/Toronto:20241207T083000
DTEND;TZID=America/Toronto:20241207T100000
DTSTAMP:20260424T132547
CREATED:20240731T194939Z
LAST-MODIFIED:20240731T194939Z
UID:10004859-1733560200-1733565600@sovgracechurch.ca
SUMMARY:Equip (Invite Only)
DESCRIPTION:
URL:https://sovgracechurch.ca/event/equip-invite-only-3/
END:VEVENT
BEGIN:VEVENT
DTSTART;TZID=America/Toronto:20241208T090000
DTEND;TZID=America/Toronto:20241208T100000
DTSTAMP:20260424T132547
CREATED:20240821T184937Z
LAST-MODIFIED:20241028T193308Z
UID:10004978-1733648400-1733652000@sovgracechurch.ca
SUMMARY:Foundations Class
DESCRIPTION:This 13-week class helps participants lay a solid doctrinal foundation by providing a survey of SGC’s Statement of Faith. It is a required class for all new members. Remaining class spaces are open to anyone who is interested in participating (up to a maximum of 40). It is jointly taught by Pastors Josh and Timon and runs every Sunday at 9:00-10:00 am from September 15 to December 8.  \nSign up here: https://sovgrace.churchcenter.com/people/forms/801269
URL:https://sovgracechurch.ca/event/foundations-class/2024-12-08/
END:VEVENT
BEGIN:VEVENT
DTSTART;TZID=America/Toronto:20241208T103000
DTEND;TZID=America/Toronto:20241208T123000
DTSTAMP:20260424T132547
CREATED:20240304T210358Z
LAST-MODIFIED:20240304T225237Z
UID:10003529-1733653800-1733661000@sovgracechurch.ca
SUMMARY:Sunday Gathering
DESCRIPTION:Join us! Everyone is welcomed. \nWe gather every Sunday for singing\, teaching and fellowship. \nPre-service prayer is at 9:45am in the family room.
URL:https://sovgracechurch.ca/event/__trashed-7/2024-12-08/
LOCATION:Sovereign Grace Church\, 1466 5th Sideroad\, Bradford\, Ontario\, L3Z4A8\, Canada
CATEGORIES:Sunday Services
GEO:44.044413;-79.62542
X-APPLE-STRUCTURED-LOCATION;VALUE=URI;X-ADDRESS=Sovereign Grace Church 1466 5th Sideroad Bradford Ontario L3Z4A8 Canada;X-APPLE-RADIUS=500;X-TITLE=1466 5th Sideroad:geo:-79.62542,44.044413
END:VEVENT
BEGIN:VEVENT
DTSTART;TZID=America/Toronto:20241208T150000
DTEND;TZID=America/Toronto:20241208T170000
DTSTAMP:20260424T132547
CREATED:20240827T161921Z
LAST-MODIFIED:20240923T143349Z
UID:10005085-1733670000-1733677200@sovgracechurch.ca
SUMMARY:Alliston Community Group
DESCRIPTION:The Alliston CG meets on the second Sunday and last Wednesday of every month. \nWednesdays – Potluck & teaching\, meet at 6pm \nSundays – Fellowship\, meet at 3pm \nSign up here: https://sovgrace.churchcenter.com/people/forms/794561 \nLocation varies. Please contact Thomas & Julianne Penner to find out more.
URL:https://sovgracechurch.ca/event/alliston-community-group-3/2024-12-08/
END:VEVENT
BEGIN:VEVENT
DTSTART;TZID=America/Toronto:20241210T103000
DTEND;TZID=America/Toronto:20241210T120000
DTSTAMP:20260424T132547
CREATED:20240829T211945Z
LAST-MODIFIED:20241009T144100Z
UID:10005041-1733826600-1733832000@sovgracechurch.ca
SUMMARY:Flourish (Led by Josephine)
DESCRIPTION:Women’s Small Group Led by Josephine Wong. \nAll are welcome. \nFor more info\, please contact info@sovgracechurch.ca
URL:https://sovgracechurch.ca/event/flourish/2024-12-10/
END:VEVENT
BEGIN:VEVENT
DTSTART;TZID=America/Toronto:20241211T180000
DTEND;TZID=America/Toronto:20241211T210000
DTSTAMP:20260424T132547
CREATED:20240903T174528Z
LAST-MODIFIED:20240923T143309Z
UID:10005105-1733940000-1733950800@sovgracechurch.ca
SUMMARY:Bradford Marsh Community Group
DESCRIPTION:The Bradford Marsh CG meets on the 2nd Wednesday and 4th Sunday of every month. \nSign up here: https://sovgrace.churchcenter.com/people/forms/794561 \nPlease contact Galen & Lorah Tuggy to find out more.
URL:https://sovgracechurch.ca/event/bradford-marsh-community-group-2/2024-12-11/
END:VEVENT
BEGIN:VEVENT
DTSTART;TZID=America/Toronto:20241211T183000
DTEND;TZID=America/Toronto:20241211T213000
DTSTAMP:20260424T132547
CREATED:20240903T173755Z
LAST-MODIFIED:20240923T143317Z
UID:10005090-1733941800-1733952600@sovgracechurch.ca
SUMMARY:Markham Community Group
DESCRIPTION:The Markham CG meets on the 2nd and 4th Wednesday of every month. \nWe will start with dinner at 6:30pm\, followed by teaching at 7:30pm. \nSign up here: https://sovgrace.churchcenter.com/people/forms/794561 \nPlease contact Cyril Wong to find out more.
URL:https://sovgracechurch.ca/event/markham-stouffville-community-group-2/2024-12-11/
END:VEVENT
BEGIN:VEVENT
DTSTART;TZID=America/Toronto:20241211T193000
DTEND;TZID=America/Toronto:20241211T213000
DTSTAMP:20260424T132547
CREATED:20240901T205900Z
LAST-MODIFIED:20240923T143323Z
UID:10005083-1733945400-1733952600@sovgracechurch.ca
SUMMARY:Newmarket Community Group
DESCRIPTION:The Newmarket CG meets on the second and forth Wednesday of every month. \nSign up here: https://sovgrace.churchcenter.com/people/forms/794561 \nPlease contact Will Brumwell to find out more.
URL:https://sovgracechurch.ca/event/newmarket-community-group-2/2024-12-11/
END:VEVENT
BEGIN:VEVENT
DTSTART;TZID=America/Toronto:20241211T200000
DTEND;TZID=America/Toronto:20241211T220000
DTSTAMP:20260424T132547
CREATED:20240901T205403Z
LAST-MODIFIED:20240923T143328Z
UID:10005066-1733947200-1733954400@sovgracechurch.ca
SUMMARY:Richmond Hill Community Group
DESCRIPTION:The Richmond Hill CG meets on the second and forth Wednesday of every month. \nSign up here: https://sovgrace.churchcenter.com/people/forms/794561 \nPlease contact Irving Mui to find out more.
URL:https://sovgracechurch.ca/event/richmond-hill-community-group-3/2024-12-11/
END:VEVENT
BEGIN:VEVENT
DTSTART;TZID=America/Toronto:20241212T190000
DTEND;TZID=America/Toronto:20241212T210000
DTSTAMP:20260424T132547
CREATED:20240812T193342Z
LAST-MODIFIED:20240819T132742Z
UID:10004873-1734030000-1734037200@sovgracechurch.ca
SUMMARY:Karate
DESCRIPTION:We meet weekly in the church gym. \n7:00-7:45pm: Kids Class 1 (Ages 6-12) \n7:30-8:15pm: Kids Class 2 (Ages 6-12) \n8:15-9:00pm: Teens + Adults (Ages 13+ and up) \nRegister here: https://sovgrace.churchcenter.com/people/forms/781555 \nRegistrations will close on September 30th. If you would still like to join after this date\, we invite you to wait to register again in January 2025.
URL:https://sovgracechurch.ca/event/karate/2024-12-12/
END:VEVENT
BEGIN:VEVENT
DTSTART;TZID=America/Toronto:20241212T193000
DTEND;TZID=America/Toronto:20241212T210000
DTSTAMP:20260424T132547
CREATED:20240910T200648Z
LAST-MODIFIED:20241009T144202Z
UID:10005154-1734031800-1734037200@sovgracechurch.ca
SUMMARY:Flourish (Led by Kathy)
DESCRIPTION:Women’s Small Group Led by Kathy Hogeveen. \nAll are welcome. \nFor more info\, please contact info@sovgracechurch.ca
URL:https://sovgracechurch.ca/event/flourish-5/2024-12-12/
END:VEVENT
BEGIN:VEVENT
DTSTART;TZID=America/Toronto:20241213T193000
DTEND;TZID=America/Toronto:20241213T213000
DTSTAMP:20260424T132547
CREATED:20241015T204334Z
LAST-MODIFIED:20241015T204334Z
UID:10005162-1734118200-1734125400@sovgracechurch.ca
SUMMARY:Youth Group Special Event
DESCRIPTION:All are welcome! \nPlease sign up here. \nFor more info\, please contact Irving.
URL:https://sovgracechurch.ca/event/youth-group-2-6/
END:VEVENT
BEGIN:VEVENT
DTSTART;TZID=America/Toronto:20241214T180000
DTEND;TZID=America/Toronto:20241214T220000
DTSTAMP:20260424T132547
CREATED:20241202T153033Z
LAST-MODIFIED:20241202T153033Z
UID:10005209-1734199200-1734213600@sovgracechurch.ca
SUMMARY:SGC Basketball Night
DESCRIPTION:Join us for an evening of basketball!
URL:https://sovgracechurch.ca/event/sgc-basketball-night-4/
END:VEVENT
BEGIN:VEVENT
DTSTART;TZID=America/Toronto:20241215T103000
DTEND;TZID=America/Toronto:20241215T123000
DTSTAMP:20260424T132547
CREATED:20240304T210358Z
LAST-MODIFIED:20240304T225237Z
UID:10003530-1734258600-1734265800@sovgracechurch.ca
SUMMARY:Sunday Gathering
DESCRIPTION:Join us! Everyone is welcomed. \nWe gather every Sunday for singing\, teaching and fellowship. \nPre-service prayer is at 9:45am in the family room.
URL:https://sovgracechurch.ca/event/__trashed-7/2024-12-15/
LOCATION:Sovereign Grace Church\, 1466 5th Sideroad\, Bradford\, Ontario\, L3Z4A8\, Canada
CATEGORIES:Sunday Services
GEO:44.044413;-79.62542
X-APPLE-STRUCTURED-LOCATION;VALUE=URI;X-ADDRESS=Sovereign Grace Church 1466 5th Sideroad Bradford Ontario L3Z4A8 Canada;X-APPLE-RADIUS=500;X-TITLE=1466 5th Sideroad:geo:-79.62542,44.044413
END:VEVENT
BEGIN:VEVENT
DTSTART;TZID=America/Toronto:20241215T133000
DTEND;TZID=America/Toronto:20241215T153000
DTSTAMP:20260424T132547
CREATED:20240909T125336Z
LAST-MODIFIED:20240923T143303Z
UID:10005138-1734269400-1734276600@sovgracechurch.ca
SUMMARY:Schomberg Community Group
DESCRIPTION:The Schomberg CG meets on the 1st and 3rd Sundays of every month. \nSign up here: https://sovgrace.churchcenter.com/people/forms/794561 \nPlease contact Steve Kamenar to find out more.
URL:https://sovgracechurch.ca/event/schomberg-community-group-3/2024-12-15/
END:VEVENT
BEGIN:VEVENT
DTSTART;TZID=America/Toronto:20241215T160000
DTEND;TZID=America/Toronto:20241215T180000
DTSTAMP:20260424T132547
CREATED:20240903T174920Z
LAST-MODIFIED:20240923T143156Z
UID:10005111-1734278400-1734285600@sovgracechurch.ca
SUMMARY:Bradford Town Community Group
DESCRIPTION:The Bradford Town Community Group meets on the 1st and 3rd Sunday of every month. \nSign up here: https://sovgrace.churchcenter.com/people/forms/794561 \nFor more information\, please contact Henry Vroom. \n 
URL:https://sovgracechurch.ca/event/bradford-town-community-group-3/2024-12-15/
END:VEVENT
BEGIN:VEVENT
DTSTART;TZID=America/Toronto:20241217T103000
DTEND;TZID=America/Toronto:20241217T120000
DTSTAMP:20260424T132547
CREATED:20241009T143514Z
LAST-MODIFIED:20241009T144022Z
UID:10005181-1734431400-1734436800@sovgracechurch.ca
SUMMARY:Flourish (Informal Women+kids hangout)
DESCRIPTION:Come join us for an informal gathering of mom and kids!
URL:https://sovgracechurch.ca/event/flourish-informal-womenkids-hangout/2024-12-17/
END:VEVENT
BEGIN:VEVENT
DTSTART;TZID=America/Toronto:20241218T193000
DTEND;TZID=America/Toronto:20241218T210000
DTSTAMP:20260424T132547
CREATED:20240304T224445Z
LAST-MODIFIED:20240312T181107Z
UID:10004028-1734550200-1734555600@sovgracechurch.ca
SUMMARY:Prayer Meeting
DESCRIPTION:Join us during this mid-week service to pray together. \nWe meet every 1st and 3rd Wednesday of the month! \nPlease email info@sovgracechurch.ca for more information.
URL:https://sovgracechurch.ca/event/prayer-meeting/2024-12-18/
LOCATION:Sovereign Grace Church\, 1466 5th Sideroad\, Bradford\, Ontario\, L3Z4A8\, Canada
GEO:44.044413;-79.62542
X-APPLE-STRUCTURED-LOCATION;VALUE=URI;X-ADDRESS=Sovereign Grace Church 1466 5th Sideroad Bradford Ontario L3Z4A8 Canada;X-APPLE-RADIUS=500;X-TITLE=1466 5th Sideroad:geo:-79.62542,44.044413
END:VEVENT
BEGIN:VEVENT
DTSTART;TZID=America/Toronto:20241222T103000
DTEND;TZID=America/Toronto:20241222T123000
DTSTAMP:20260424T132547
CREATED:20240304T210358Z
LAST-MODIFIED:20240304T225237Z
UID:10003531-1734863400-1734870600@sovgracechurch.ca
SUMMARY:Sunday Gathering
DESCRIPTION:Join us! Everyone is welcomed. \nWe gather every Sunday for singing\, teaching and fellowship. \nPre-service prayer is at 9:45am in the family room.
URL:https://sovgracechurch.ca/event/__trashed-7/2024-12-22/
LOCATION:Sovereign Grace Church\, 1466 5th Sideroad\, Bradford\, Ontario\, L3Z4A8\, Canada
CATEGORIES:Sunday Services
GEO:44.044413;-79.62542
X-APPLE-STRUCTURED-LOCATION;VALUE=URI;X-ADDRESS=Sovereign Grace Church 1466 5th Sideroad Bradford Ontario L3Z4A8 Canada;X-APPLE-RADIUS=500;X-TITLE=1466 5th Sideroad:geo:-79.62542,44.044413
END:VEVENT
BEGIN:VEVENT
DTSTART;TZID=America/Toronto:20241224T163000
DTEND;TZID=America/Toronto:20241224T173000
DTSTAMP:20260424T132547
CREATED:20240305T011617Z
LAST-MODIFIED:20241202T160609Z
UID:10004512-1735057800-1735061400@sovgracechurch.ca
SUMMARY:Christmas Eve Service
DESCRIPTION:Join us for our Christmas Eve Service\, bring your friends!
URL:https://sovgracechurch.ca/event/christmas-eve-service/
ATTACH;FMTTYPE=image/png:https://sovgracechurch.ca/wp-content/uploads/2024/03/Events-Calendar-–-800x488-1.png
END:VEVENT
BEGIN:VEVENT
DTSTART;TZID=America/Toronto:20241229T103000
DTEND;TZID=America/Toronto:20241229T123000
DTSTAMP:20260424T132547
CREATED:20240304T210358Z
LAST-MODIFIED:20240304T225237Z
UID:10003532-1735468200-1735475400@sovgracechurch.ca
SUMMARY:Sunday Gathering
DESCRIPTION:Join us! Everyone is welcomed. \nWe gather every Sunday for singing\, teaching and fellowship. \nPre-service prayer is at 9:45am in the family room.
URL:https://sovgracechurch.ca/event/__trashed-7/2024-12-29/
LOCATION:Sovereign Grace Church\, 1466 5th Sideroad\, Bradford\, Ontario\, L3Z4A8\, Canada
CATEGORIES:Sunday Services
GEO:44.044413;-79.62542
X-APPLE-STRUCTURED-LOCATION;VALUE=URI;X-ADDRESS=Sovereign Grace Church 1466 5th Sideroad Bradford Ontario L3Z4A8 Canada;X-APPLE-RADIUS=500;X-TITLE=1466 5th Sideroad:geo:-79.62542,44.044413
END:VEVENT
END:VCALENDAR