BEGIN:VCALENDAR
VERSION:2.0
PRODID:-//Sovereign Grace Church - ECPv6.15.20//NONSGML v1.0//EN
CALSCALE:GREGORIAN
METHOD:PUBLISH
X-WR-CALNAME:Sovereign Grace Church
X-ORIGINAL-URL:https://sovgracechurch.ca
X-WR-CALDESC:Events for Sovereign Grace Church
REFRESH-INTERVAL;VALUE=DURATION:PT1H
X-Robots-Tag:noindex
X-PUBLISHED-TTL:PT1H
BEGIN:VTIMEZONE
TZID:America/Toronto
BEGIN:DAYLIGHT
TZOFFSETFROM:-0500
TZOFFSETTO:-0400
TZNAME:EDT
DTSTART:20240310T070000
END:DAYLIGHT
BEGIN:STANDARD
TZOFFSETFROM:-0400
TZOFFSETTO:-0500
TZNAME:EST
DTSTART:20241103T060000
END:STANDARD
BEGIN:DAYLIGHT
TZOFFSETFROM:-0500
TZOFFSETTO:-0400
TZNAME:EDT
DTSTART:20250309T070000
END:DAYLIGHT
BEGIN:STANDARD
TZOFFSETFROM:-0400
TZOFFSETTO:-0500
TZNAME:EST
DTSTART:20251102T060000
END:STANDARD
BEGIN:DAYLIGHT
TZOFFSETFROM:-0500
TZOFFSETTO:-0400
TZNAME:EDT
DTSTART:20260308T070000
END:DAYLIGHT
BEGIN:STANDARD
TZOFFSETFROM:-0400
TZOFFSETTO:-0500
TZNAME:EST
DTSTART:20261101T060000
END:STANDARD
END:VTIMEZONE
BEGIN:VEVENT
DTSTART;TZID=America/Toronto:20250701T183000
DTEND;TZID=America/Toronto:20250701T210000
DTSTAMP:20260424T021633
CREATED:20250421T141012Z
LAST-MODIFIED:20250421T141012Z
UID:10005575-1751394600-1751403600@sovgracechurch.ca
SUMMARY:The Bridge Course Holland Landing
DESCRIPTION:Bridge is free a way to explore the Christian faith in a relaxed\, non-threatening environment over ten weeks. The talks are designed to raise important questions and inspire conversation. Generally 30 minutes long\, they seek to answer important questions like: Why does God allow suffering? Is Jesus the only way? Is Christianity really worth it? After this\, there’s a 30 minute discussion to interact with the talk and share your perspective. It’s a safe environment where you can ask whatever question you like or not say a word. No one will ever call on you. Doubters are welcome. \nDinner is provided! Please sign up here: https://sovgrace.churchcenter.com/people/forms/952766
URL:https://sovgracechurch.ca/event/the-bridge-course-holland-landing/2025-07-01/
END:VEVENT
BEGIN:VEVENT
DTSTART;TZID=America/Toronto:20250702T193000
DTEND;TZID=America/Toronto:20250702T210000
DTSTAMP:20260424T021633
CREATED:20241205T173955Z
LAST-MODIFIED:20250105T211111Z
UID:10005381-1751484600-1751490000@sovgracechurch.ca
SUMMARY:Prayer Meeting
DESCRIPTION:Join us during this mid-week service to pray together. \nWe meet every 1st and 3rd Wednesday of the month! \nPlease email info@sovgracechurch.ca for more information.
URL:https://sovgracechurch.ca/event/prayer-meeting-4/2025-07-02/
LOCATION:Sovereign Grace Church\, 1466 5th Sideroad\, Bradford\, Ontario\, L3Z4A8\, Canada
GEO:44.044413;-79.62542
X-APPLE-STRUCTURED-LOCATION;VALUE=URI;X-ADDRESS=Sovereign Grace Church 1466 5th Sideroad Bradford Ontario L3Z4A8 Canada;X-APPLE-RADIUS=500;X-TITLE=1466 5th Sideroad:geo:-79.62542,44.044413
END:VEVENT
BEGIN:VEVENT
DTSTART;TZID=America/Toronto:20250704T183000
DTEND;TZID=America/Toronto:20250704T210000
DTSTAMP:20260424T021633
CREATED:20250420T175326Z
LAST-MODIFIED:20250420T175326Z
UID:10005556-1751653800-1751662800@sovgracechurch.ca
SUMMARY:The Bridge Course Markham
DESCRIPTION:Bridge is free a way to explore the Christian faith in a relaxed\, non-threatening environment over ten weeks. The talks are designed to raise important questions and inspire conversation. Generally 30 minutes long\, they seek to answer important questions like: Why does God allow suffering? Is Jesus the only way? Is Christianity really worth it? After this\, there’s a 30 minute discussion to interact with the talk and share your perspective. It’s a safe environment where you can ask whatever question you like or not say a word. No one will ever call on you. Doubters are welcome. \nDinner is provided! Please sign up here: https://sovgrace.churchcenter.com/people/forms/951086
URL:https://sovgracechurch.ca/event/the-bridge-course-markham/2025-07-04/
END:VEVENT
BEGIN:VEVENT
DTSTART;TZID=America/Toronto:20250706T103000
DTEND;TZID=America/Toronto:20250706T123000
DTSTAMP:20260424T021633
CREATED:20240304T210358Z
LAST-MODIFIED:20240304T225237Z
UID:10004644-1751797800-1751805000@sovgracechurch.ca
SUMMARY:Sunday Gathering
DESCRIPTION:Join us! Everyone is welcomed. \nWe gather every Sunday for singing\, teaching and fellowship. \nPre-service prayer is at 9:45am in the family room.
URL:https://sovgracechurch.ca/event/__trashed-7/2025-07-06/
LOCATION:Sovereign Grace Church\, 1466 5th Sideroad\, Bradford\, Ontario\, L3Z4A8\, Canada
CATEGORIES:Sunday Services
GEO:44.044413;-79.62542
X-APPLE-STRUCTURED-LOCATION;VALUE=URI;X-ADDRESS=Sovereign Grace Church 1466 5th Sideroad Bradford Ontario L3Z4A8 Canada;X-APPLE-RADIUS=500;X-TITLE=1466 5th Sideroad:geo:-79.62542,44.044413
END:VEVENT
BEGIN:VEVENT
DTSTART;TZID=America/Toronto:20250708T183000
DTEND;TZID=America/Toronto:20250708T210000
DTSTAMP:20260424T021633
CREATED:20250421T141012Z
LAST-MODIFIED:20250421T141012Z
UID:10005576-1751999400-1752008400@sovgracechurch.ca
SUMMARY:The Bridge Course Holland Landing
DESCRIPTION:Bridge is free a way to explore the Christian faith in a relaxed\, non-threatening environment over ten weeks. The talks are designed to raise important questions and inspire conversation. Generally 30 minutes long\, they seek to answer important questions like: Why does God allow suffering? Is Jesus the only way? Is Christianity really worth it? After this\, there’s a 30 minute discussion to interact with the talk and share your perspective. It’s a safe environment where you can ask whatever question you like or not say a word. No one will ever call on you. Doubters are welcome. \nDinner is provided! Please sign up here: https://sovgrace.churchcenter.com/people/forms/952766
URL:https://sovgracechurch.ca/event/the-bridge-course-holland-landing/2025-07-08/
END:VEVENT
BEGIN:VEVENT
DTSTART;TZID=America/Toronto:20250713T103000
DTEND;TZID=America/Toronto:20250713T123000
DTSTAMP:20260424T021633
CREATED:20240304T210358Z
LAST-MODIFIED:20240304T225237Z
UID:10004645-1752402600-1752409800@sovgracechurch.ca
SUMMARY:Sunday Gathering
DESCRIPTION:Join us! Everyone is welcomed. \nWe gather every Sunday for singing\, teaching and fellowship. \nPre-service prayer is at 9:45am in the family room.
URL:https://sovgracechurch.ca/event/__trashed-7/2025-07-13/
LOCATION:Sovereign Grace Church\, 1466 5th Sideroad\, Bradford\, Ontario\, L3Z4A8\, Canada
CATEGORIES:Sunday Services
GEO:44.044413;-79.62542
X-APPLE-STRUCTURED-LOCATION;VALUE=URI;X-ADDRESS=Sovereign Grace Church 1466 5th Sideroad Bradford Ontario L3Z4A8 Canada;X-APPLE-RADIUS=500;X-TITLE=1466 5th Sideroad:geo:-79.62542,44.044413
END:VEVENT
BEGIN:VEVENT
DTSTART;TZID=America/Toronto:20250716T193000
DTEND;TZID=America/Toronto:20250716T210000
DTSTAMP:20260424T021633
CREATED:20241205T173955Z
LAST-MODIFIED:20250105T211111Z
UID:10005387-1752694200-1752699600@sovgracechurch.ca
SUMMARY:Prayer Meeting
DESCRIPTION:Join us during this mid-week service to pray together. \nWe meet every 1st and 3rd Wednesday of the month! \nPlease email info@sovgracechurch.ca for more information.
URL:https://sovgracechurch.ca/event/prayer-meeting-4/2025-07-16/
LOCATION:Sovereign Grace Church\, 1466 5th Sideroad\, Bradford\, Ontario\, L3Z4A8\, Canada
GEO:44.044413;-79.62542
X-APPLE-STRUCTURED-LOCATION;VALUE=URI;X-ADDRESS=Sovereign Grace Church 1466 5th Sideroad Bradford Ontario L3Z4A8 Canada;X-APPLE-RADIUS=500;X-TITLE=1466 5th Sideroad:geo:-79.62542,44.044413
END:VEVENT
BEGIN:VEVENT
DTSTART;TZID=America/Toronto:20250720T103000
DTEND;TZID=America/Toronto:20250720T123000
DTSTAMP:20260424T021633
CREATED:20250422T204346Z
LAST-MODIFIED:20250422T204346Z
UID:10004646-1753007400-1753014600@sovgracechurch.ca
SUMMARY:New Member Sunday + Baptisms
DESCRIPTION:Join us! Everyone is welcomed. \nWe gather every Sunday for singing\, teaching and fellowship. \nPre-service prayer is at 9:45am in the family room.
URL:https://sovgracechurch.ca/event/__trashed-7-2/
LOCATION:Sovereign Grace Church\, 1466 5th Sideroad\, Bradford\, Ontario\, L3Z4A8\, Canada
CATEGORIES:Sunday Services
GEO:44.044413;-79.62542
X-APPLE-STRUCTURED-LOCATION;VALUE=URI;X-ADDRESS=Sovereign Grace Church 1466 5th Sideroad Bradford Ontario L3Z4A8 Canada;X-APPLE-RADIUS=500;X-TITLE=1466 5th Sideroad:geo:-79.62542,44.044413
END:VEVENT
BEGIN:VEVENT
DTSTART;TZID=America/Toronto:20250727T103000
DTEND;TZID=America/Toronto:20250727T123000
DTSTAMP:20260424T021633
CREATED:20250106T144515Z
LAST-MODIFIED:20250422T204312Z
UID:10004647-1753612200-1753619400@sovgracechurch.ca
SUMMARY:Sunday Gathering
DESCRIPTION:Join us! Everyone is welcomed. \nWe gather every Sunday for singing\, teaching and fellowship. \nPre-service prayer is at 9:45am in the family room.
URL:https://sovgracechurch.ca/event/sunday-gathering-2/
LOCATION:Sovereign Grace Church\, 1466 5th Sideroad\, Bradford\, Ontario\, L3Z4A8\, Canada
CATEGORIES:Sunday Services
GEO:44.044413;-79.62542
X-APPLE-STRUCTURED-LOCATION;VALUE=URI;X-ADDRESS=Sovereign Grace Church 1466 5th Sideroad Bradford Ontario L3Z4A8 Canada;X-APPLE-RADIUS=500;X-TITLE=1466 5th Sideroad:geo:-79.62542,44.044413
END:VEVENT
BEGIN:VEVENT
DTSTART;TZID=America/Toronto:20250727T120000
DTEND;TZID=America/Toronto:20250727T160000
DTSTAMP:20260424T021633
CREATED:20250722T174147Z
LAST-MODIFIED:20250722T180223Z
UID:10005592-1753617600-1753632000@sovgracechurch.ca
SUMMARY:SGC Community Carnival
DESCRIPTION:Join us on Sunday July 27 for: \n\nFree BBQ\nLive Music\nIce cream\nBouncy Castles\nInflatable Games\nSports\nFamily Friendly Activities\n\nAdmission is free!\n12pm-4pm at SGC See Map 
URL:https://sovgracechurch.ca/event/sgc-community-carnival/
ATTACH;FMTTYPE=image/png:https://sovgracechurch.ca/wp-content/uploads/2025/07/SGC_CommunityCarnival2025_Digital_Calendar_800x448.png
END:VEVENT
END:VCALENDAR