BEGIN:VCALENDAR
VERSION:2.0
PRODID:-//Sovereign Grace Church - ECPv6.15.20//NONSGML v1.0//EN
CALSCALE:GREGORIAN
METHOD:PUBLISH
X-ORIGINAL-URL:https://sovgracechurch.ca
X-WR-CALDESC:Events for Sovereign Grace Church
REFRESH-INTERVAL;VALUE=DURATION:PT1H
X-Robots-Tag:noindex
X-PUBLISHED-TTL:PT1H
BEGIN:VTIMEZONE
TZID:America/Toronto
BEGIN:DAYLIGHT
TZOFFSETFROM:-0500
TZOFFSETTO:-0400
TZNAME:EDT
DTSTART:20240310T070000
END:DAYLIGHT
BEGIN:STANDARD
TZOFFSETFROM:-0400
TZOFFSETTO:-0500
TZNAME:EST
DTSTART:20241103T060000
END:STANDARD
BEGIN:DAYLIGHT
TZOFFSETFROM:-0500
TZOFFSETTO:-0400
TZNAME:EDT
DTSTART:20250309T070000
END:DAYLIGHT
BEGIN:STANDARD
TZOFFSETFROM:-0400
TZOFFSETTO:-0500
TZNAME:EST
DTSTART:20251102T060000
END:STANDARD
BEGIN:DAYLIGHT
TZOFFSETFROM:-0500
TZOFFSETTO:-0400
TZNAME:EDT
DTSTART:20260308T070000
END:DAYLIGHT
BEGIN:STANDARD
TZOFFSETFROM:-0400
TZOFFSETTO:-0500
TZNAME:EST
DTSTART:20261101T060000
END:STANDARD
END:VTIMEZONE
BEGIN:VEVENT
DTSTART;TZID=America/Toronto:20250903T193000
DTEND;TZID=America/Toronto:20250903T210000
DTSTAMP:20260423T231126
CREATED:20241205T173955Z
LAST-MODIFIED:20250105T211111Z
UID:10005383-1756927800-1756933200@sovgracechurch.ca
SUMMARY:Prayer Meeting
DESCRIPTION:Join us during this mid-week service to pray together. \nWe meet every 1st and 3rd Wednesday of the month! \nPlease email info@sovgracechurch.ca for more information.
URL:https://sovgracechurch.ca/event/prayer-meeting-4/2025-09-03/
LOCATION:Sovereign Grace Church\, 1466 5th Sideroad\, Bradford\, Ontario\, L3Z4A8\, Canada
GEO:44.044413;-79.62542
X-APPLE-STRUCTURED-LOCATION;VALUE=URI;X-ADDRESS=Sovereign Grace Church 1466 5th Sideroad Bradford Ontario L3Z4A8 Canada;X-APPLE-RADIUS=500;X-TITLE=1466 5th Sideroad:geo:-79.62542,44.044413
END:VEVENT
BEGIN:VEVENT
DTSTART;TZID=America/Toronto:20250907T090000
DTEND;TZID=America/Toronto:20250907T090000
DTSTAMP:20260423T231126
CREATED:20250106T144758Z
LAST-MODIFIED:20250331T151141Z
UID:10005516-1757235600-1757235600@sovgracechurch.ca
SUMMARY:Foundations Class
DESCRIPTION:This 13-week class helps participants lay a solid doctrinal foundation by providing a survey of SGC’s Statement of Faith. It is a required class for all new members. Remaining class spaces are open to anyone who is interested in participating (up to a maximum of 40).  \nRegister here!
URL:https://sovgracechurch.ca/event/foundations-class-2/2025-09-07/
END:VEVENT
BEGIN:VEVENT
DTSTART;TZID=America/Toronto:20250907T103000
DTEND;TZID=America/Toronto:20250907T123000
DTSTAMP:20260423T231126
CREATED:20240304T210358Z
LAST-MODIFIED:20240304T225237Z
UID:10004653-1757241000-1757248200@sovgracechurch.ca
SUMMARY:Sunday Gathering
DESCRIPTION:Join us! Everyone is welcomed. \nWe gather every Sunday for singing\, teaching and fellowship. \nPre-service prayer is at 9:45am in the family room.
URL:https://sovgracechurch.ca/event/__trashed-7/2025-09-07/
LOCATION:Sovereign Grace Church\, 1466 5th Sideroad\, Bradford\, Ontario\, L3Z4A8\, Canada
CATEGORIES:Sunday Services
GEO:44.044413;-79.62542
X-APPLE-STRUCTURED-LOCATION;VALUE=URI;X-ADDRESS=Sovereign Grace Church 1466 5th Sideroad Bradford Ontario L3Z4A8 Canada;X-APPLE-RADIUS=500;X-TITLE=1466 5th Sideroad:geo:-79.62542,44.044413
END:VEVENT
BEGIN:VEVENT
DTSTART;TZID=America/Toronto:20250907T160000
DTEND;TZID=America/Toronto:20250907T173000
DTSTAMP:20260423T231126
CREATED:20250728T152902Z
LAST-MODIFIED:20250728T152902Z
UID:10005194-1757260800-1757266200@sovgracechurch.ca
SUMMARY:Members' Meeting
DESCRIPTION:
URL:https://sovgracechurch.ca/event/members-meeting-2/
END:VEVENT
BEGIN:VEVENT
DTSTART;TZID=America/Toronto:20250913T180000
DTEND;TZID=America/Toronto:20250913T200000
DTSTAMP:20260423T231126
CREATED:20250818T130324Z
LAST-MODIFIED:20250818T130727Z
UID:10005594-1757786400-1757793600@sovgracechurch.ca
SUMMARY:Bridge Celebration Dinner
DESCRIPTION:The Bridge Celebration Dinner is for all past Bridge participants and for anyone curious about our upcoming Bridge Courses. Come enjoy great food and bring someone new along! To reserve your spot\, register here.
URL:https://sovgracechurch.ca/event/bridge-celebration-dinner-2/
ATTACH;FMTTYPE=image/jpeg:https://sovgracechurch.ca/wp-content/uploads/2025/08/Bridge-Dinner.jpg
END:VEVENT
BEGIN:VEVENT
DTSTART;TZID=America/Toronto:20250914T090000
DTEND;TZID=America/Toronto:20250914T090000
DTSTAMP:20260423T231126
CREATED:20250106T144758Z
LAST-MODIFIED:20250331T151141Z
UID:10005517-1757840400-1757840400@sovgracechurch.ca
SUMMARY:Foundations Class
DESCRIPTION:This 13-week class helps participants lay a solid doctrinal foundation by providing a survey of SGC’s Statement of Faith. It is a required class for all new members. Remaining class spaces are open to anyone who is interested in participating (up to a maximum of 40).  \nRegister here!
URL:https://sovgracechurch.ca/event/foundations-class-2/2025-09-14/
END:VEVENT
BEGIN:VEVENT
DTSTART;TZID=America/Toronto:20250914T103000
DTEND;TZID=America/Toronto:20250914T123000
DTSTAMP:20260423T231126
CREATED:20240304T210358Z
LAST-MODIFIED:20240304T225237Z
UID:10004654-1757845800-1757853000@sovgracechurch.ca
SUMMARY:Sunday Gathering
DESCRIPTION:Join us! Everyone is welcomed. \nWe gather every Sunday for singing\, teaching and fellowship. \nPre-service prayer is at 9:45am in the family room.
URL:https://sovgracechurch.ca/event/__trashed-7/2025-09-14/
LOCATION:Sovereign Grace Church\, 1466 5th Sideroad\, Bradford\, Ontario\, L3Z4A8\, Canada
CATEGORIES:Sunday Services
GEO:44.044413;-79.62542
X-APPLE-STRUCTURED-LOCATION;VALUE=URI;X-ADDRESS=Sovereign Grace Church 1466 5th Sideroad Bradford Ontario L3Z4A8 Canada;X-APPLE-RADIUS=500;X-TITLE=1466 5th Sideroad:geo:-79.62542,44.044413
END:VEVENT
BEGIN:VEVENT
DTSTART;TZID=America/Toronto:20250917T193000
DTEND;TZID=America/Toronto:20250917T210000
DTSTAMP:20260423T231126
CREATED:20241205T173955Z
LAST-MODIFIED:20250105T211111Z
UID:10005389-1758137400-1758142800@sovgracechurch.ca
SUMMARY:Prayer Meeting
DESCRIPTION:Join us during this mid-week service to pray together. \nWe meet every 1st and 3rd Wednesday of the month! \nPlease email info@sovgracechurch.ca for more information.
URL:https://sovgracechurch.ca/event/prayer-meeting-4/2025-09-17/
LOCATION:Sovereign Grace Church\, 1466 5th Sideroad\, Bradford\, Ontario\, L3Z4A8\, Canada
GEO:44.044413;-79.62542
X-APPLE-STRUCTURED-LOCATION;VALUE=URI;X-ADDRESS=Sovereign Grace Church 1466 5th Sideroad Bradford Ontario L3Z4A8 Canada;X-APPLE-RADIUS=500;X-TITLE=1466 5th Sideroad:geo:-79.62542,44.044413
END:VEVENT
BEGIN:VEVENT
DTSTART;TZID=America/Toronto:20250921T090000
DTEND;TZID=America/Toronto:20250921T090000
DTSTAMP:20260423T231126
CREATED:20250106T144758Z
LAST-MODIFIED:20250331T151141Z
UID:10005518-1758445200-1758445200@sovgracechurch.ca
SUMMARY:Foundations Class
DESCRIPTION:This 13-week class helps participants lay a solid doctrinal foundation by providing a survey of SGC’s Statement of Faith. It is a required class for all new members. Remaining class spaces are open to anyone who is interested in participating (up to a maximum of 40).  \nRegister here!
URL:https://sovgracechurch.ca/event/foundations-class-2/2025-09-21/
END:VEVENT
BEGIN:VEVENT
DTSTART;TZID=America/Toronto:20250921T103000
DTEND;TZID=America/Toronto:20250921T123000
DTSTAMP:20260423T231126
CREATED:20240304T210358Z
LAST-MODIFIED:20240304T225237Z
UID:10004655-1758450600-1758457800@sovgracechurch.ca
SUMMARY:Sunday Gathering
DESCRIPTION:Join us! Everyone is welcomed. \nWe gather every Sunday for singing\, teaching and fellowship. \nPre-service prayer is at 9:45am in the family room.
URL:https://sovgracechurch.ca/event/__trashed-7/2025-09-21/
LOCATION:Sovereign Grace Church\, 1466 5th Sideroad\, Bradford\, Ontario\, L3Z4A8\, Canada
CATEGORIES:Sunday Services
GEO:44.044413;-79.62542
X-APPLE-STRUCTURED-LOCATION;VALUE=URI;X-ADDRESS=Sovereign Grace Church 1466 5th Sideroad Bradford Ontario L3Z4A8 Canada;X-APPLE-RADIUS=500;X-TITLE=1466 5th Sideroad:geo:-79.62542,44.044413
END:VEVENT
BEGIN:VEVENT
DTSTART;TZID=America/Toronto:20250921T120000
DTEND;TZID=America/Toronto:20250921T130000
DTSTAMP:20260423T231126
CREATED:20250829T185014Z
LAST-MODIFIED:20250829T185026Z
UID:10005662-1758456000-1758459600@sovgracechurch.ca
SUMMARY:Community Group Fair
DESCRIPTION:Meet your Community Group Leaders and sign up for a CG after service! \nMore details to come.
URL:https://sovgracechurch.ca/event/community-group-fair-2/
END:VEVENT
BEGIN:VEVENT
DTSTART;TZID=America/Toronto:20250925T190000
DTEND;TZID=America/Toronto:20250925T190000
DTSTAMP:20260423T231126
CREATED:20250909T135148Z
LAST-MODIFIED:20251218T154244Z
UID:10005670-1758826800-1758826800@sovgracechurch.ca
SUMMARY:Karate
DESCRIPTION:We meet weekly in the church gym\, everyone is welcomed! \n7:00-7:45pm: Kids Class 1 (Ages 6-12) \n7:30-8:15pm: Kids Class 2 (Ages 6-12) \n8:15-9:00pm: Teens + Adults (Ages 13+ and up) \nPlease register here.
URL:https://sovgracechurch.ca/event/karate-3/2025-09-25/
END:VEVENT
BEGIN:VEVENT
DTSTART;TZID=America/Toronto:20250928T090000
DTEND;TZID=America/Toronto:20250928T090000
DTSTAMP:20260423T231126
CREATED:20250106T144758Z
LAST-MODIFIED:20250331T151141Z
UID:10005519-1759050000-1759050000@sovgracechurch.ca
SUMMARY:Foundations Class
DESCRIPTION:This 13-week class helps participants lay a solid doctrinal foundation by providing a survey of SGC’s Statement of Faith. It is a required class for all new members. Remaining class spaces are open to anyone who is interested in participating (up to a maximum of 40).  \nRegister here!
URL:https://sovgracechurch.ca/event/foundations-class-2/2025-09-28/
END:VEVENT
BEGIN:VEVENT
DTSTART;TZID=America/Toronto:20250928T103000
DTEND;TZID=America/Toronto:20250928T123000
DTSTAMP:20260423T231126
CREATED:20240304T210358Z
LAST-MODIFIED:20240304T225237Z
UID:10004656-1759055400-1759062600@sovgracechurch.ca
SUMMARY:Sunday Gathering
DESCRIPTION:Join us! Everyone is welcomed. \nWe gather every Sunday for singing\, teaching and fellowship. \nPre-service prayer is at 9:45am in the family room.
URL:https://sovgracechurch.ca/event/__trashed-7/2025-09-28/
LOCATION:Sovereign Grace Church\, 1466 5th Sideroad\, Bradford\, Ontario\, L3Z4A8\, Canada
CATEGORIES:Sunday Services
GEO:44.044413;-79.62542
X-APPLE-STRUCTURED-LOCATION;VALUE=URI;X-ADDRESS=Sovereign Grace Church 1466 5th Sideroad Bradford Ontario L3Z4A8 Canada;X-APPLE-RADIUS=500;X-TITLE=1466 5th Sideroad:geo:-79.62542,44.044413
END:VEVENT
END:VCALENDAR