BEGIN:VCALENDAR
VERSION:2.0
PRODID:-//Sovereign Grace Church - ECPv6.15.20//NONSGML v1.0//EN
CALSCALE:GREGORIAN
METHOD:PUBLISH
X-ORIGINAL-URL:https://sovgracechurch.ca
X-WR-CALDESC:Events for Sovereign Grace Church
REFRESH-INTERVAL;VALUE=DURATION:PT1H
X-Robots-Tag:noindex
X-PUBLISHED-TTL:PT1H
BEGIN:VTIMEZONE
TZID:America/Toronto
BEGIN:DAYLIGHT
TZOFFSETFROM:-0500
TZOFFSETTO:-0400
TZNAME:EDT
DTSTART:20240310T070000
END:DAYLIGHT
BEGIN:STANDARD
TZOFFSETFROM:-0400
TZOFFSETTO:-0500
TZNAME:EST
DTSTART:20241103T060000
END:STANDARD
BEGIN:DAYLIGHT
TZOFFSETFROM:-0500
TZOFFSETTO:-0400
TZNAME:EDT
DTSTART:20250309T070000
END:DAYLIGHT
BEGIN:STANDARD
TZOFFSETFROM:-0400
TZOFFSETTO:-0500
TZNAME:EST
DTSTART:20251102T060000
END:STANDARD
BEGIN:DAYLIGHT
TZOFFSETFROM:-0500
TZOFFSETTO:-0400
TZNAME:EDT
DTSTART:20260308T070000
END:DAYLIGHT
BEGIN:STANDARD
TZOFFSETFROM:-0400
TZOFFSETTO:-0500
TZNAME:EST
DTSTART:20261101T060000
END:STANDARD
END:VTIMEZONE
BEGIN:VEVENT
DTSTART;TZID=America/Toronto:20251203T193000
DTEND;TZID=America/Toronto:20251203T210000
DTSTAMP:20260423T182710
CREATED:20241205T173955Z
LAST-MODIFIED:20250105T211111Z
UID:10005386-1764790200-1764795600@sovgracechurch.ca
SUMMARY:Prayer Meeting
DESCRIPTION:Join us during this mid-week service to pray together. \nWe meet every 1st and 3rd Wednesday of the month! \nPlease email info@sovgracechurch.ca for more information.
URL:https://sovgracechurch.ca/event/prayer-meeting-4/2025-12-03/
LOCATION:Sovereign Grace Church\, 1466 5th Sideroad\, Bradford\, Ontario\, L3Z4A8\, Canada
GEO:44.044413;-79.62542
X-APPLE-STRUCTURED-LOCATION;VALUE=URI;X-ADDRESS=Sovereign Grace Church 1466 5th Sideroad Bradford Ontario L3Z4A8 Canada;X-APPLE-RADIUS=500;X-TITLE=1466 5th Sideroad:geo:-79.62542,44.044413
END:VEVENT
BEGIN:VEVENT
DTSTART;TZID=America/Toronto:20251204T190000
DTEND;TZID=America/Toronto:20251204T190000
DTSTAMP:20260423T182710
CREATED:20250909T135148Z
LAST-MODIFIED:20251218T154244Z
UID:10005679-1764874800-1764874800@sovgracechurch.ca
SUMMARY:Karate
DESCRIPTION:We meet weekly in the church gym\, everyone is welcomed! \n7:00-7:45pm: Kids Class 1 (Ages 6-12) \n7:30-8:15pm: Kids Class 2 (Ages 6-12) \n8:15-9:00pm: Teens + Adults (Ages 13+ and up) \nPlease register here.
URL:https://sovgracechurch.ca/event/karate-3/2025-12-04/
END:VEVENT
BEGIN:VEVENT
DTSTART;TZID=America/Toronto:20251206T083000
DTEND;TZID=America/Toronto:20251206T100000
DTSTAMP:20260423T182710
CREATED:20250818T162442Z
LAST-MODIFIED:20260112T211633Z
UID:10006292-1765009800-1765015200@sovgracechurch.ca
SUMMARY:Equip (Invite Only)
DESCRIPTION:
URL:https://sovgracechurch.ca/event/equip-invite-only-5/2025-12-06/
END:VEVENT
BEGIN:VEVENT
DTSTART;TZID=America/Toronto:20251207T103000
DTEND;TZID=America/Toronto:20251207T123000
DTSTAMP:20260423T182710
CREATED:20240304T210358Z
LAST-MODIFIED:20240304T225237Z
UID:10004666-1765103400-1765110600@sovgracechurch.ca
SUMMARY:Sunday Gathering
DESCRIPTION:Join us! Everyone is welcomed. \nWe gather every Sunday for singing\, teaching and fellowship. \nPre-service prayer is at 9:45am in the family room.
URL:https://sovgracechurch.ca/event/__trashed-7/2025-12-07/
LOCATION:Sovereign Grace Church\, 1466 5th Sideroad\, Bradford\, Ontario\, L3Z4A8\, Canada
CATEGORIES:Sunday Services
GEO:44.044413;-79.62542
X-APPLE-STRUCTURED-LOCATION;VALUE=URI;X-ADDRESS=Sovereign Grace Church 1466 5th Sideroad Bradford Ontario L3Z4A8 Canada;X-APPLE-RADIUS=500;X-TITLE=1466 5th Sideroad:geo:-79.62542,44.044413
END:VEVENT
BEGIN:VEVENT
DTSTART;TZID=America/Toronto:20251209T103000
DTEND;TZID=America/Toronto:20251209T120000
DTSTAMP:20260423T182710
CREATED:20250825T150358Z
LAST-MODIFIED:20250825T150358Z
UID:10005605-1765276200-1765281600@sovgracechurch.ca
SUMMARY:Flourish with Josephine
DESCRIPTION:Women’s Small Group Led by Josephine Wong. \nAll are welcome. \nFor more info\, please contact admin@sovgracechurch.ca
URL:https://sovgracechurch.ca/event/flourish-with-josephine/2025-12-09/
END:VEVENT
BEGIN:VEVENT
DTSTART;TZID=America/Toronto:20251210T180000
DTEND;TZID=America/Toronto:20251210T210000
DTSTAMP:20260423T182710
CREATED:20250915T155422Z
LAST-MODIFIED:20250915T155422Z
UID:10005706-1765389600-1765400400@sovgracechurch.ca
SUMMARY:Alliston CG
DESCRIPTION:This group is hosted and led by Thomas Penner in Alliston. They meet every 2nd Wednesday at 6pm and 4th Sunday at 2pm.  \nFor more information\, please email info@sovgracechurch.ca
URL:https://sovgracechurch.ca/event/alliston-cg/2025-12-10/
END:VEVENT
BEGIN:VEVENT
DTSTART;TZID=America/Toronto:20251210T180000
DTEND;TZID=America/Toronto:20251210T210000
DTSTAMP:20260423T182710
CREATED:20250915T160037Z
LAST-MODIFIED:20250915T160037Z
UID:10005724-1765389600-1765400400@sovgracechurch.ca
SUMMARY:Bradford Marsh CG
DESCRIPTION:This group is hosted and co-led by Galen Tuggy and Justin VanderVeen in the Holland Marsh. They meet every 2nd Wednesday at 6pm and 4th Sunday at 1pm. \nFor more information\, please contact info@sovgracechurch.ca
URL:https://sovgracechurch.ca/event/bradford-marsh-cg/2025-12-10/
END:VEVENT
BEGIN:VEVENT
DTSTART;TZID=America/Toronto:20251210T183000
DTEND;TZID=America/Toronto:20251210T210000
DTSTAMP:20260423T182710
CREATED:20250915T201845Z
LAST-MODIFIED:20250915T201845Z
UID:10005936-1765391400-1765400400@sovgracechurch.ca
SUMMARY:Markham CG
DESCRIPTION:This group is hosted and led by Hiram Chen in Markham. They meet every 2nd and 4th Wednesday of the month at 6:30pm.  \nFor more information\, please contact info@sovgracechurch.ca
URL:https://sovgracechurch.ca/event/markham-cg/2025-12-10/
END:VEVENT
BEGIN:VEVENT
DTSTART;TZID=America/Toronto:20251210T193000
DTEND;TZID=America/Toronto:20251210T210000
DTSTAMP:20260423T182710
CREATED:20250915T161005Z
LAST-MODIFIED:20250915T161005Z
UID:10005759-1765395000-1765400400@sovgracechurch.ca
SUMMARY:King City CG
DESCRIPTION:This group is hosted and led by Steve Kamenar in King City. They meet every 2nd and 4th Wednesday of the month at 7:30pm.  \nFor more information\, please contact info@sovgracechurch.ca
URL:https://sovgracechurch.ca/event/king-city-cg/2025-12-10/
END:VEVENT
BEGIN:VEVENT
DTSTART;TZID=America/Toronto:20251210T193000
DTEND;TZID=America/Toronto:20251210T210000
DTSTAMP:20260423T182710
CREATED:20250915T201011Z
LAST-MODIFIED:20250915T201011Z
UID:10005839-1765395000-1765400400@sovgracechurch.ca
SUMMARY:Newmarket CG
DESCRIPTION:This group is led by Will Brumwell at Mateo & Michelle Rodriguez’s home in Newmarket. They meet every 2nd and 4th Wednesday of the month at 7:30pm.  \nFor more information\, please contact info@sovgracechurch.ca
URL:https://sovgracechurch.ca/event/newmarket-cg/2025-12-10/
END:VEVENT
BEGIN:VEVENT
DTSTART;TZID=America/Toronto:20251210T200000
DTEND;TZID=America/Toronto:20251210T220000
DTSTAMP:20260423T182710
CREATED:20250915T201253Z
LAST-MODIFIED:20250915T201253Z
UID:10005871-1765396800-1765404000@sovgracechurch.ca
SUMMARY:Richmond Hill CG
DESCRIPTION:This group is led by Cyril Wong at the home of Lee and Priscilla Wong in Richmond Hill. They meet every 2nd and 4th Wednesday of the month at 8pm.  \nFor more information\, please contact info@sovgracechurch.ca
URL:https://sovgracechurch.ca/event/richmond-hill-cg/2025-12-10/
END:VEVENT
BEGIN:VEVENT
DTSTART;TZID=America/Toronto:20251211T190000
DTEND;TZID=America/Toronto:20251211T190000
DTSTAMP:20260423T182710
CREATED:20250909T135148Z
LAST-MODIFIED:20251218T154244Z
UID:10005680-1765479600-1765479600@sovgracechurch.ca
SUMMARY:Karate
DESCRIPTION:We meet weekly in the church gym\, everyone is welcomed! \n7:00-7:45pm: Kids Class 1 (Ages 6-12) \n7:30-8:15pm: Kids Class 2 (Ages 6-12) \n8:15-9:00pm: Teens + Adults (Ages 13+ and up) \nPlease register here.
URL:https://sovgracechurch.ca/event/karate-3/2025-12-11/
END:VEVENT
BEGIN:VEVENT
DTSTART;TZID=America/Toronto:20251211T193000
DTEND;TZID=America/Toronto:20251211T210000
DTSTAMP:20260423T182710
CREATED:20250915T201551Z
LAST-MODIFIED:20250915T201551Z
UID:10005903-1765481400-1765486800@sovgracechurch.ca
SUMMARY:Newmarket South CG
DESCRIPTION:This group is hosted and led by Michael & Christine Chi and Jason Chan. They meet every 2nd and 4th Thursday of the month at 7:30pm.  \nFor more information\, please contact info@sovgracechurch.ca
URL:https://sovgracechurch.ca/event/newmarket-south-cg/2025-12-11/
END:VEVENT
BEGIN:VEVENT
DTSTART;TZID=America/Toronto:20251211T193000
DTEND;TZID=America/Toronto:20251211T210000
DTSTAMP:20260423T182710
CREATED:20250916T164643Z
LAST-MODIFIED:20250917T132249Z
UID:10005953-1765481400-1765486800@sovgracechurch.ca
SUMMARY:Flourish with Kathy
DESCRIPTION:Women’s Small Group Led by Kathy Hogeveen. \nAll are welcome. \nFor more info\, please contact info@sovgracechurch.ca
URL:https://sovgracechurch.ca/event/flourish-with-kathy/2025-12-11/
END:VEVENT
BEGIN:VEVENT
DTSTART;TZID=America/Toronto:20251212T193000
DTEND;TZID=America/Toronto:20251212T213000
DTSTAMP:20260423T182710
CREATED:20251029T195452Z
LAST-MODIFIED:20260406T125442Z
UID:10005981-1765567800-1765575000@sovgracechurch.ca
SUMMARY:Parenting Group
DESCRIPTION:The Parenting Group is open to all parents with children of all ages. Join us to be equipped to disciple your children. Sign up here.
URL:https://sovgracechurch.ca/event/parenting-group/2025-12-12/
END:VEVENT
BEGIN:VEVENT
DTSTART;TZID=America/Toronto:20251212T193000
DTEND;TZID=America/Toronto:20251212T213000
DTSTAMP:20260423T182710
CREATED:20251029T195916Z
LAST-MODIFIED:20260120T185828Z
UID:10005997-1765567800-1765575000@sovgracechurch.ca
SUMMARY:Youth Group
DESCRIPTION:Youth Group is open to youth Gr 6-12. Sign up here.
URL:https://sovgracechurch.ca/event/youth-group-3/2025-12-12/
END:VEVENT
BEGIN:VEVENT
DTSTART;TZID=America/Toronto:20251214T103000
DTEND;TZID=America/Toronto:20251214T123000
DTSTAMP:20260423T182710
CREATED:20240304T210358Z
LAST-MODIFIED:20240304T225237Z
UID:10004667-1765708200-1765715400@sovgracechurch.ca
SUMMARY:Sunday Gathering
DESCRIPTION:Join us! Everyone is welcomed. \nWe gather every Sunday for singing\, teaching and fellowship. \nPre-service prayer is at 9:45am in the family room.
URL:https://sovgracechurch.ca/event/__trashed-7/2025-12-14/
LOCATION:Sovereign Grace Church\, 1466 5th Sideroad\, Bradford\, Ontario\, L3Z4A8\, Canada
CATEGORIES:Sunday Services
GEO:44.044413;-79.62542
X-APPLE-STRUCTURED-LOCATION;VALUE=URI;X-ADDRESS=Sovereign Grace Church 1466 5th Sideroad Bradford Ontario L3Z4A8 Canada;X-APPLE-RADIUS=500;X-TITLE=1466 5th Sideroad:geo:-79.62542,44.044413
END:VEVENT
BEGIN:VEVENT
DTSTART;TZID=America/Toronto:20251214T160000
DTEND;TZID=America/Toronto:20251214T193000
DTSTAMP:20260423T182710
CREATED:20250915T160503Z
LAST-MODIFIED:20250915T160503Z
UID:10005741-1765728000-1765740600@sovgracechurch.ca
SUMMARY:Bradford Town CG
DESCRIPTION:This group is hosted and led by Henry Vroom in Bradford. They meet every 2nd and 4th Sunday of the month at 4pm.  \nFor more information\, please contact info@sovgracechurch.ca
URL:https://sovgracechurch.ca/event/bradford-town-cg/2025-12-14/
END:VEVENT
BEGIN:VEVENT
DTSTART;TZID=America/Toronto:20251216T103000
DTEND;TZID=America/Toronto:20251216T120000
DTSTAMP:20260423T182710
CREATED:20250825T150358Z
LAST-MODIFIED:20250825T150358Z
UID:10005606-1765881000-1765886400@sovgracechurch.ca
SUMMARY:Flourish with Josephine
DESCRIPTION:Women’s Small Group Led by Josephine Wong. \nAll are welcome. \nFor more info\, please contact admin@sovgracechurch.ca
URL:https://sovgracechurch.ca/event/flourish-with-josephine/2025-12-16/
END:VEVENT
BEGIN:VEVENT
DTSTART;TZID=America/Toronto:20251217T193000
DTEND;TZID=America/Toronto:20251217T210000
DTSTAMP:20260423T182710
CREATED:20241205T173955Z
LAST-MODIFIED:20250105T211111Z
UID:10005391-1765999800-1766005200@sovgracechurch.ca
SUMMARY:Prayer Meeting
DESCRIPTION:Join us during this mid-week service to pray together. \nWe meet every 1st and 3rd Wednesday of the month! \nPlease email info@sovgracechurch.ca for more information.
URL:https://sovgracechurch.ca/event/prayer-meeting-4/2025-12-17/
LOCATION:Sovereign Grace Church\, 1466 5th Sideroad\, Bradford\, Ontario\, L3Z4A8\, Canada
GEO:44.044413;-79.62542
X-APPLE-STRUCTURED-LOCATION;VALUE=URI;X-ADDRESS=Sovereign Grace Church 1466 5th Sideroad Bradford Ontario L3Z4A8 Canada;X-APPLE-RADIUS=500;X-TITLE=1466 5th Sideroad:geo:-79.62542,44.044413
END:VEVENT
BEGIN:VEVENT
DTSTART;TZID=America/Toronto:20251219T193000
DTEND;TZID=America/Toronto:20251219T213000
DTSTAMP:20260423T182710
CREATED:20251029T195916Z
LAST-MODIFIED:20260120T185828Z
UID:10005998-1766172600-1766179800@sovgracechurch.ca
SUMMARY:Youth Group
DESCRIPTION:Youth Group is open to youth Gr 6-12. Sign up here.
URL:https://sovgracechurch.ca/event/youth-group-3/2025-12-19/
END:VEVENT
BEGIN:VEVENT
DTSTART;TZID=America/Toronto:20251221T103000
DTEND;TZID=America/Toronto:20251221T123000
DTSTAMP:20260423T182710
CREATED:20240304T210358Z
LAST-MODIFIED:20240304T225237Z
UID:10004668-1766313000-1766320200@sovgracechurch.ca
SUMMARY:Sunday Gathering
DESCRIPTION:Join us! Everyone is welcomed. \nWe gather every Sunday for singing\, teaching and fellowship. \nPre-service prayer is at 9:45am in the family room.
URL:https://sovgracechurch.ca/event/__trashed-7/2025-12-21/
LOCATION:Sovereign Grace Church\, 1466 5th Sideroad\, Bradford\, Ontario\, L3Z4A8\, Canada
CATEGORIES:Sunday Services
GEO:44.044413;-79.62542
X-APPLE-STRUCTURED-LOCATION;VALUE=URI;X-ADDRESS=Sovereign Grace Church 1466 5th Sideroad Bradford Ontario L3Z4A8 Canada;X-APPLE-RADIUS=500;X-TITLE=1466 5th Sideroad:geo:-79.62542,44.044413
END:VEVENT
BEGIN:VEVENT
DTSTART;TZID=America/Toronto:20251224T163000
DTEND;TZID=America/Toronto:20251224T173000
DTSTAMP:20260423T182710
CREATED:20250106T145048Z
LAST-MODIFIED:20251211T185112Z
UID:10005529-1766593800-1766597400@sovgracechurch.ca
SUMMARY:Christmas Eve Service
DESCRIPTION:Join us on December 24 as we come together to remember and celebrate the birth of Jesus. \n4:30pm-5:30pm at Sovereign Grace Church \nOur service lasts about one hour and features singing\, special music\, and a message. \nAfter the service\, stay for complimentary refreshments and the chance to connect with others. \nEveryone is welcome\, bring your friends!
URL:https://sovgracechurch.ca/event/christmas-eve-service-2/
ATTACH;FMTTYPE=image/png:https://sovgracechurch.ca/wp-content/uploads/2025/08/WebBanner.png
END:VEVENT
BEGIN:VEVENT
DTSTART;TZID=America/Toronto:20251228T103000
DTEND;TZID=America/Toronto:20251228T123000
DTSTAMP:20260423T182710
CREATED:20250106T145143Z
LAST-MODIFIED:20250106T145154Z
UID:10004669-1766917800-1766925000@sovgracechurch.ca
SUMMARY:Testimony Sunday
DESCRIPTION:Join us! Everyone is welcomed. \nWe gather every Sunday for singing\, teaching and fellowship. \nPre-service prayer is at 9:45am in the family room.
URL:https://sovgracechurch.ca/event/sunday-gathering-3/
LOCATION:Sovereign Grace Church\, 1466 5th Sideroad\, Bradford\, Ontario\, L3Z4A8\, Canada
CATEGORIES:Sunday Services
GEO:44.044413;-79.62542
X-APPLE-STRUCTURED-LOCATION;VALUE=URI;X-ADDRESS=Sovereign Grace Church 1466 5th Sideroad Bradford Ontario L3Z4A8 Canada;X-APPLE-RADIUS=500;X-TITLE=1466 5th Sideroad:geo:-79.62542,44.044413
END:VEVENT
BEGIN:VEVENT
DTSTART;TZID=America/Toronto:20251228T140000
DTEND;TZID=America/Toronto:20251228T170000
DTSTAMP:20260423T182710
CREATED:20250915T155422Z
LAST-MODIFIED:20250915T155422Z
UID:10005707-1766930400-1766941200@sovgracechurch.ca
SUMMARY:Alliston CG
DESCRIPTION:This group is hosted and led by Thomas Penner in Alliston. They meet every 2nd Wednesday at 6pm and 4th Sunday at 2pm.  \nFor more information\, please email info@sovgracechurch.ca
URL:https://sovgracechurch.ca/event/alliston-cg/2025-12-28/
END:VEVENT
BEGIN:VEVENT
DTSTART;TZID=America/Toronto:20251228T160000
DTEND;TZID=America/Toronto:20251228T193000
DTSTAMP:20260423T182710
CREATED:20250915T160503Z
LAST-MODIFIED:20250915T160503Z
UID:10005742-1766937600-1766950200@sovgracechurch.ca
SUMMARY:Bradford Town CG
DESCRIPTION:This group is hosted and led by Henry Vroom in Bradford. They meet every 2nd and 4th Sunday of the month at 4pm.  \nFor more information\, please contact info@sovgracechurch.ca
URL:https://sovgracechurch.ca/event/bradford-town-cg/2025-12-28/
END:VEVENT
END:VCALENDAR