BEGIN:VCALENDAR
VERSION:2.0
PRODID:-//Sovereign Grace Church - ECPv6.15.20//NONSGML v1.0//EN
CALSCALE:GREGORIAN
METHOD:PUBLISH
X-WR-CALNAME:Sovereign Grace Church
X-ORIGINAL-URL:https://sovgracechurch.ca
X-WR-CALDESC:Events for Sovereign Grace Church
REFRESH-INTERVAL;VALUE=DURATION:PT1H
X-Robots-Tag:noindex
X-PUBLISHED-TTL:PT1H
BEGIN:VTIMEZONE
TZID:America/Toronto
BEGIN:DAYLIGHT
TZOFFSETFROM:-0500
TZOFFSETTO:-0400
TZNAME:EDT
DTSTART:20250309T070000
END:DAYLIGHT
BEGIN:STANDARD
TZOFFSETFROM:-0400
TZOFFSETTO:-0500
TZNAME:EST
DTSTART:20251102T060000
END:STANDARD
BEGIN:DAYLIGHT
TZOFFSETFROM:-0500
TZOFFSETTO:-0400
TZNAME:EDT
DTSTART:20260308T070000
END:DAYLIGHT
BEGIN:STANDARD
TZOFFSETFROM:-0400
TZOFFSETTO:-0500
TZNAME:EST
DTSTART:20261101T060000
END:STANDARD
BEGIN:DAYLIGHT
TZOFFSETFROM:-0500
TZOFFSETTO:-0400
TZNAME:EDT
DTSTART:20270314T070000
END:DAYLIGHT
BEGIN:STANDARD
TZOFFSETFROM:-0400
TZOFFSETTO:-0500
TZNAME:EST
DTSTART:20271107T060000
END:STANDARD
END:VTIMEZONE
BEGIN:VEVENT
DTSTART;TZID=America/Toronto:20260103T083000
DTEND;TZID=America/Toronto:20260103T100000
DTSTAMP:20260423T165038
CREATED:20250818T162442Z
LAST-MODIFIED:20260112T211633Z
UID:10006293-1767429000-1767434400@sovgracechurch.ca
SUMMARY:Equip (Invite Only)
DESCRIPTION:
URL:https://sovgracechurch.ca/event/equip-invite-only-5/2026-01-03/
END:VEVENT
BEGIN:VEVENT
DTSTART;TZID=America/Toronto:20260104T103000
DTEND;TZID=America/Toronto:20260104T123000
DTSTAMP:20260423T165038
CREATED:20240304T210358Z
LAST-MODIFIED:20240304T225237Z
UID:10004670-1767522600-1767529800@sovgracechurch.ca
SUMMARY:Sunday Gathering
DESCRIPTION:Join us! Everyone is welcomed. \nWe gather every Sunday for singing\, teaching and fellowship. \nPre-service prayer is at 9:45am in the family room.
URL:https://sovgracechurch.ca/event/__trashed-7/2026-01-04/
LOCATION:Sovereign Grace Church\, 1466 5th Sideroad\, Bradford\, Ontario\, L3Z4A8\, Canada
CATEGORIES:Sunday Services
GEO:44.044413;-79.62542
X-APPLE-STRUCTURED-LOCATION;VALUE=URI;X-ADDRESS=Sovereign Grace Church 1466 5th Sideroad Bradford Ontario L3Z4A8 Canada;X-APPLE-RADIUS=500;X-TITLE=1466 5th Sideroad:geo:-79.62542,44.044413
END:VEVENT
BEGIN:VEVENT
DTSTART;TZID=America/Toronto:20260107T193000
DTEND;TZID=America/Toronto:20260107T203000
DTSTAMP:20260423T165038
CREATED:20251217T164536Z
LAST-MODIFIED:20251217T164536Z
UID:10006163-1767814200-1767817800@sovgracechurch.ca
SUMMARY:Prayer Meeting
DESCRIPTION:We have prayer meetings on the 1st and 3rd Wednesday of every month. Come pray with us!
URL:https://sovgracechurch.ca/event/prayer-meeting-5/2026-01-07/
END:VEVENT
BEGIN:VEVENT
DTSTART;TZID=America/Toronto:20260108T190000
DTEND;TZID=America/Toronto:20260108T190000
DTSTAMP:20260423T165038
CREATED:20250909T135148Z
LAST-MODIFIED:20251218T154244Z
UID:10005681-1767898800-1767898800@sovgracechurch.ca
SUMMARY:Karate
DESCRIPTION:We meet weekly in the church gym\, everyone is welcomed! \n7:00-7:45pm: Kids Class 1 (Ages 6-12) \n7:30-8:15pm: Kids Class 2 (Ages 6-12) \n8:15-9:00pm: Teens + Adults (Ages 13+ and up) \nPlease register here.
URL:https://sovgracechurch.ca/event/karate-3/2026-01-08/
END:VEVENT
BEGIN:VEVENT
DTSTART;TZID=America/Toronto:20260109T193000
DTEND;TZID=America/Toronto:20260109T213000
DTSTAMP:20260423T165038
CREATED:20251029T195452Z
LAST-MODIFIED:20260406T125442Z
UID:10005982-1767987000-1767994200@sovgracechurch.ca
SUMMARY:Parenting Group
DESCRIPTION:The Parenting Group is open to all parents with children of all ages. Join us to be equipped to disciple your children. Sign up here.
URL:https://sovgracechurch.ca/event/parenting-group/2026-01-09/
END:VEVENT
BEGIN:VEVENT
DTSTART;TZID=America/Toronto:20260109T193000
DTEND;TZID=America/Toronto:20260109T213000
DTSTAMP:20260423T165038
CREATED:20251029T195916Z
LAST-MODIFIED:20260120T185828Z
UID:10005999-1767987000-1767994200@sovgracechurch.ca
SUMMARY:Youth Group
DESCRIPTION:Youth Group is open to youth Gr 6-12. Sign up here.
URL:https://sovgracechurch.ca/event/youth-group-3/2026-01-09/
END:VEVENT
BEGIN:VEVENT
DTSTART;TZID=America/Toronto:20260110T083000
DTEND;TZID=America/Toronto:20260110T100000
DTSTAMP:20260423T165038
CREATED:20250908T182711Z
LAST-MODIFIED:20250908T182711Z
UID:10005665-1768033800-1768039200@sovgracechurch.ca
SUMMARY:Teach (Invite Only)
DESCRIPTION:
URL:https://sovgracechurch.ca/event/teach-invite-only-3/2026-01-10/
END:VEVENT
BEGIN:VEVENT
DTSTART;TZID=America/Toronto:20260111T090000
DTEND;TZID=America/Toronto:20260111T100000
DTSTAMP:20260423T165038
CREATED:20251208T151714Z
LAST-MODIFIED:20251215T161833Z
UID:10006033-1768122000-1768125600@sovgracechurch.ca
SUMMARY:Marriage Adult Sunday School Class
DESCRIPTION:Pastor Josh is leading a 8-week class on marriage. The class will go through Paul Tripp’s “What Did You Expect? Redeeming the Realities of Marriage” video series\, with discussion to follow. \nClasses will run from Jan 11 – Mar 8\, 2026\, from 9-10am in the Multi-Purpose Room. \nSpace is limited. Please sign up here.
URL:https://sovgracechurch.ca/event/marriage-adult-sunday-school-class/2026-01-11/
ATTACH;FMTTYPE=image/jpeg:https://sovgracechurch.ca/wp-content/uploads/2025/12/WhatDidYouExpect.21.12-1-2-e1765815483738.jpg
END:VEVENT
BEGIN:VEVENT
DTSTART;TZID=America/Toronto:20260111T103000
DTEND;TZID=America/Toronto:20260111T123000
DTSTAMP:20260423T165038
CREATED:20240304T210358Z
LAST-MODIFIED:20240304T225237Z
UID:10004671-1768127400-1768134600@sovgracechurch.ca
SUMMARY:Sunday Gathering
DESCRIPTION:Join us! Everyone is welcomed. \nWe gather every Sunday for singing\, teaching and fellowship. \nPre-service prayer is at 9:45am in the family room.
URL:https://sovgracechurch.ca/event/__trashed-7/2026-01-11/
LOCATION:Sovereign Grace Church\, 1466 5th Sideroad\, Bradford\, Ontario\, L3Z4A8\, Canada
CATEGORIES:Sunday Services
GEO:44.044413;-79.62542
X-APPLE-STRUCTURED-LOCATION;VALUE=URI;X-ADDRESS=Sovereign Grace Church 1466 5th Sideroad Bradford Ontario L3Z4A8 Canada;X-APPLE-RADIUS=500;X-TITLE=1466 5th Sideroad:geo:-79.62542,44.044413
END:VEVENT
BEGIN:VEVENT
DTSTART;TZID=America/Toronto:20260111T160000
DTEND;TZID=America/Toronto:20260111T193000
DTSTAMP:20260423T165038
CREATED:20250915T160503Z
LAST-MODIFIED:20250915T160503Z
UID:10005743-1768147200-1768159800@sovgracechurch.ca
SUMMARY:Bradford Town CG
DESCRIPTION:This group is hosted and led by Henry Vroom in Bradford. They meet every 2nd and 4th Sunday of the month at 4pm.  \nFor more information\, please contact info@sovgracechurch.ca
URL:https://sovgracechurch.ca/event/bradford-town-cg/2026-01-11/
END:VEVENT
BEGIN:VEVENT
DTSTART;TZID=America/Toronto:20260113T103000
DTEND;TZID=America/Toronto:20260113T120000
DTSTAMP:20260423T165038
CREATED:20250825T150358Z
LAST-MODIFIED:20250825T150358Z
UID:10005607-1768300200-1768305600@sovgracechurch.ca
SUMMARY:Flourish with Josephine
DESCRIPTION:Women’s Small Group Led by Josephine Wong. \nAll are welcome. \nFor more info\, please contact admin@sovgracechurch.ca
URL:https://sovgracechurch.ca/event/flourish-with-josephine/2026-01-13/
END:VEVENT
BEGIN:VEVENT
DTSTART;TZID=America/Toronto:20260114T180000
DTEND;TZID=America/Toronto:20260114T210000
DTSTAMP:20260423T165038
CREATED:20250915T155422Z
LAST-MODIFIED:20250915T155422Z
UID:10005708-1768413600-1768424400@sovgracechurch.ca
SUMMARY:Alliston CG
DESCRIPTION:This group is hosted and led by Thomas Penner in Alliston. They meet every 2nd Wednesday at 6pm and 4th Sunday at 2pm.  \nFor more information\, please email info@sovgracechurch.ca
URL:https://sovgracechurch.ca/event/alliston-cg/2026-01-14/
END:VEVENT
BEGIN:VEVENT
DTSTART;TZID=America/Toronto:20260114T180000
DTEND;TZID=America/Toronto:20260114T210000
DTSTAMP:20260423T165038
CREATED:20250915T160037Z
LAST-MODIFIED:20250915T160037Z
UID:10005725-1768413600-1768424400@sovgracechurch.ca
SUMMARY:Bradford Marsh CG
DESCRIPTION:This group is hosted and co-led by Galen Tuggy and Justin VanderVeen in the Holland Marsh. They meet every 2nd Wednesday at 6pm and 4th Sunday at 1pm. \nFor more information\, please contact info@sovgracechurch.ca
URL:https://sovgracechurch.ca/event/bradford-marsh-cg/2026-01-14/
END:VEVENT
BEGIN:VEVENT
DTSTART;TZID=America/Toronto:20260114T183000
DTEND;TZID=America/Toronto:20260114T210000
DTSTAMP:20260423T165038
CREATED:20250915T201845Z
LAST-MODIFIED:20250915T201845Z
UID:10005937-1768415400-1768424400@sovgracechurch.ca
SUMMARY:Markham CG
DESCRIPTION:This group is hosted and led by Hiram Chen in Markham. They meet every 2nd and 4th Wednesday of the month at 6:30pm.  \nFor more information\, please contact info@sovgracechurch.ca
URL:https://sovgracechurch.ca/event/markham-cg/2026-01-14/
END:VEVENT
BEGIN:VEVENT
DTSTART;TZID=America/Toronto:20260114T193000
DTEND;TZID=America/Toronto:20260114T210000
DTSTAMP:20260423T165038
CREATED:20250915T161005Z
LAST-MODIFIED:20250915T161005Z
UID:10005760-1768419000-1768424400@sovgracechurch.ca
SUMMARY:King City CG
DESCRIPTION:This group is hosted and led by Steve Kamenar in King City. They meet every 2nd and 4th Wednesday of the month at 7:30pm.  \nFor more information\, please contact info@sovgracechurch.ca
URL:https://sovgracechurch.ca/event/king-city-cg/2026-01-14/
END:VEVENT
BEGIN:VEVENT
DTSTART;TZID=America/Toronto:20260114T193000
DTEND;TZID=America/Toronto:20260114T210000
DTSTAMP:20260423T165038
CREATED:20250915T201011Z
LAST-MODIFIED:20250915T201011Z
UID:10005840-1768419000-1768424400@sovgracechurch.ca
SUMMARY:Newmarket CG
DESCRIPTION:This group is led by Will Brumwell at Mateo & Michelle Rodriguez’s home in Newmarket. They meet every 2nd and 4th Wednesday of the month at 7:30pm.  \nFor more information\, please contact info@sovgracechurch.ca
URL:https://sovgracechurch.ca/event/newmarket-cg/2026-01-14/
END:VEVENT
BEGIN:VEVENT
DTSTART;TZID=America/Toronto:20260114T200000
DTEND;TZID=America/Toronto:20260114T220000
DTSTAMP:20260423T165038
CREATED:20250915T201253Z
LAST-MODIFIED:20250915T201253Z
UID:10005872-1768420800-1768428000@sovgracechurch.ca
SUMMARY:Richmond Hill CG
DESCRIPTION:This group is led by Cyril Wong at the home of Lee and Priscilla Wong in Richmond Hill. They meet every 2nd and 4th Wednesday of the month at 8pm.  \nFor more information\, please contact info@sovgracechurch.ca
URL:https://sovgracechurch.ca/event/richmond-hill-cg/2026-01-14/
END:VEVENT
BEGIN:VEVENT
DTSTART;TZID=America/Toronto:20260115T190000
DTEND;TZID=America/Toronto:20260115T190000
DTSTAMP:20260423T165038
CREATED:20250909T135148Z
LAST-MODIFIED:20251218T154244Z
UID:10005682-1768503600-1768503600@sovgracechurch.ca
SUMMARY:Karate
DESCRIPTION:We meet weekly in the church gym\, everyone is welcomed! \n7:00-7:45pm: Kids Class 1 (Ages 6-12) \n7:30-8:15pm: Kids Class 2 (Ages 6-12) \n8:15-9:00pm: Teens + Adults (Ages 13+ and up) \nPlease register here.
URL:https://sovgracechurch.ca/event/karate-3/2026-01-15/
END:VEVENT
BEGIN:VEVENT
DTSTART;TZID=America/Toronto:20260115T193000
DTEND;TZID=America/Toronto:20260115T210000
DTSTAMP:20260423T165038
CREATED:20250915T201551Z
LAST-MODIFIED:20250915T201551Z
UID:10005904-1768505400-1768510800@sovgracechurch.ca
SUMMARY:Newmarket South CG
DESCRIPTION:This group is hosted and led by Michael & Christine Chi and Jason Chan. They meet every 2nd and 4th Thursday of the month at 7:30pm.  \nFor more information\, please contact info@sovgracechurch.ca
URL:https://sovgracechurch.ca/event/newmarket-south-cg/2026-01-15/
END:VEVENT
BEGIN:VEVENT
DTSTART;TZID=America/Toronto:20260115T193000
DTEND;TZID=America/Toronto:20260115T210000
DTSTAMP:20260423T165038
CREATED:20250917T132706Z
LAST-MODIFIED:20260406T130746Z
UID:10005955-1768505400-1768510800@sovgracechurch.ca
SUMMARY:Flourish with Kathy
DESCRIPTION:Women’s Small Group Led by Kathy Hogeveen. \nAll are welcome. \nFor more info\, please contact info@sovgracechurch.ca
URL:https://sovgracechurch.ca/event/flourish-with-kathy-2/2026-01-15/
END:VEVENT
BEGIN:VEVENT
DTSTART;TZID=America/Toronto:20260117T064500
DTEND;TZID=America/Toronto:20260117T080000
DTSTAMP:20260423T165038
CREATED:20251111T205400Z
LAST-MODIFIED:20251229T211948Z
UID:10006008-1768632300-1768636800@sovgracechurch.ca
SUMMARY:Men's Ministry Meeting
DESCRIPTION:All men are welcomed to meet together to fellowship.
URL:https://sovgracechurch.ca/event/mens-ministry-meeting/2026-01-17/
END:VEVENT
BEGIN:VEVENT
DTSTART;TZID=America/Toronto:20260117T064500
DTEND;TZID=America/Toronto:20260117T080000
DTSTAMP:20260423T165038
CREATED:20260218T151022Z
LAST-MODIFIED:20260218T151022Z
UID:10006284-1768632300-1768636800@sovgracechurch.ca
SUMMARY:Men's Ministry Meeting
DESCRIPTION:All men are welcomed to meet together to fellowship.
URL:https://sovgracechurch.ca/event/mens-ministry-meeting-2/2026-01-17/
END:VEVENT
BEGIN:VEVENT
DTSTART;TZID=America/Toronto:20260118T090000
DTEND;TZID=America/Toronto:20260118T100000
DTSTAMP:20260423T165038
CREATED:20251208T151714Z
LAST-MODIFIED:20251215T161833Z
UID:10006034-1768726800-1768730400@sovgracechurch.ca
SUMMARY:Marriage Adult Sunday School Class
DESCRIPTION:Pastor Josh is leading a 8-week class on marriage. The class will go through Paul Tripp’s “What Did You Expect? Redeeming the Realities of Marriage” video series\, with discussion to follow. \nClasses will run from Jan 11 – Mar 8\, 2026\, from 9-10am in the Multi-Purpose Room. \nSpace is limited. Please sign up here.
URL:https://sovgracechurch.ca/event/marriage-adult-sunday-school-class/2026-01-18/
ATTACH;FMTTYPE=image/jpeg:https://sovgracechurch.ca/wp-content/uploads/2025/12/WhatDidYouExpect.21.12-1-2-e1765815483738.jpg
END:VEVENT
BEGIN:VEVENT
DTSTART;TZID=America/Toronto:20260118T103000
DTEND;TZID=America/Toronto:20260118T123000
DTSTAMP:20260423T165038
CREATED:20240304T210358Z
LAST-MODIFIED:20240304T225237Z
UID:10004672-1768732200-1768739400@sovgracechurch.ca
SUMMARY:Sunday Gathering
DESCRIPTION:Join us! Everyone is welcomed. \nWe gather every Sunday for singing\, teaching and fellowship. \nPre-service prayer is at 9:45am in the family room.
URL:https://sovgracechurch.ca/event/__trashed-7/2026-01-18/
LOCATION:Sovereign Grace Church\, 1466 5th Sideroad\, Bradford\, Ontario\, L3Z4A8\, Canada
CATEGORIES:Sunday Services
GEO:44.044413;-79.62542
X-APPLE-STRUCTURED-LOCATION;VALUE=URI;X-ADDRESS=Sovereign Grace Church 1466 5th Sideroad Bradford Ontario L3Z4A8 Canada;X-APPLE-RADIUS=500;X-TITLE=1466 5th Sideroad:geo:-79.62542,44.044413
END:VEVENT
BEGIN:VEVENT
DTSTART;TZID=America/Toronto:20260118T133000
DTEND;TZID=America/Toronto:20260118T153000
DTSTAMP:20260423T165038
CREATED:20260109T201524Z
LAST-MODIFIED:20260109T201524Z
UID:10006316-1768743000-1768750200@sovgracechurch.ca
SUMMARY:Schomberg CG
DESCRIPTION:This group is hosted and led by Karl Vanderveen in Schomberg. They meet every 2nd and 4th Sunday of the month at 1:30pm. \nFor more information\, please contact info@sovgracechurch.ca
URL:https://sovgracechurch.ca/event/schomberg-cg/2026-01-18/
END:VEVENT
BEGIN:VEVENT
DTSTART;TZID=America/Toronto:20260121T193000
DTEND;TZID=America/Toronto:20260121T203000
DTSTAMP:20260423T165038
CREATED:20251217T164233Z
LAST-MODIFIED:20251217T164641Z
UID:10006223-1769023800-1769027400@sovgracechurch.ca
SUMMARY:Prayer Meeting
DESCRIPTION:We have prayer meetings on the 1st and 3rd Wednesday of every month. Come pray with us!
URL:https://sovgracechurch.ca/event/prayer-meeting-6/2026-01-21/
END:VEVENT
BEGIN:VEVENT
DTSTART;TZID=America/Toronto:20260122T190000
DTEND;TZID=America/Toronto:20260122T190000
DTSTAMP:20260423T165038
CREATED:20250909T135148Z
LAST-MODIFIED:20251218T154244Z
UID:10005683-1769108400-1769108400@sovgracechurch.ca
SUMMARY:Karate
DESCRIPTION:We meet weekly in the church gym\, everyone is welcomed! \n7:00-7:45pm: Kids Class 1 (Ages 6-12) \n7:30-8:15pm: Kids Class 2 (Ages 6-12) \n8:15-9:00pm: Teens + Adults (Ages 13+ and up) \nPlease register here.
URL:https://sovgracechurch.ca/event/karate-3/2026-01-22/
END:VEVENT
BEGIN:VEVENT
DTSTART;TZID=America/Toronto:20260122T193000
DTEND;TZID=America/Toronto:20260122T210000
DTSTAMP:20260423T165038
CREATED:20250915T201551Z
LAST-MODIFIED:20250915T201551Z
UID:10005905-1769110200-1769115600@sovgracechurch.ca
SUMMARY:Newmarket South CG
DESCRIPTION:This group is hosted and led by Michael & Christine Chi and Jason Chan. They meet every 2nd and 4th Thursday of the month at 7:30pm.  \nFor more information\, please contact info@sovgracechurch.ca
URL:https://sovgracechurch.ca/event/newmarket-south-cg/2026-01-22/
END:VEVENT
BEGIN:VEVENT
DTSTART;TZID=America/Toronto:20260123T193000
DTEND;TZID=America/Toronto:20260123T213000
DTSTAMP:20260423T165038
CREATED:20251029T195916Z
LAST-MODIFIED:20260120T185828Z
UID:10005991-1769196600-1769203800@sovgracechurch.ca
SUMMARY:Youth Group
DESCRIPTION:Youth Group is open to youth Gr 6-12. Sign up here.
URL:https://sovgracechurch.ca/event/youth-group-3/2026-01-23/
END:VEVENT
BEGIN:VEVENT
DTSTART;TZID=America/Toronto:20260125T090000
DTEND;TZID=America/Toronto:20260125T100000
DTSTAMP:20260423T165038
CREATED:20251208T151714Z
LAST-MODIFIED:20251215T161833Z
UID:10006035-1769331600-1769335200@sovgracechurch.ca
SUMMARY:Marriage Adult Sunday School Class
DESCRIPTION:Pastor Josh is leading a 8-week class on marriage. The class will go through Paul Tripp’s “What Did You Expect? Redeeming the Realities of Marriage” video series\, with discussion to follow. \nClasses will run from Jan 11 – Mar 8\, 2026\, from 9-10am in the Multi-Purpose Room. \nSpace is limited. Please sign up here.
URL:https://sovgracechurch.ca/event/marriage-adult-sunday-school-class/2026-01-25/
ATTACH;FMTTYPE=image/jpeg:https://sovgracechurch.ca/wp-content/uploads/2025/12/WhatDidYouExpect.21.12-1-2-e1765815483738.jpg
END:VEVENT
BEGIN:VEVENT
DTSTART;TZID=America/Toronto:20260125T103000
DTEND;TZID=America/Toronto:20260125T123000
DTSTAMP:20260423T165038
CREATED:20240304T210358Z
LAST-MODIFIED:20240304T225237Z
UID:10004673-1769337000-1769344200@sovgracechurch.ca
SUMMARY:Sunday Gathering
DESCRIPTION:Join us! Everyone is welcomed. \nWe gather every Sunday for singing\, teaching and fellowship. \nPre-service prayer is at 9:45am in the family room.
URL:https://sovgracechurch.ca/event/__trashed-7/2026-01-25/
LOCATION:Sovereign Grace Church\, 1466 5th Sideroad\, Bradford\, Ontario\, L3Z4A8\, Canada
CATEGORIES:Sunday Services
GEO:44.044413;-79.62542
X-APPLE-STRUCTURED-LOCATION;VALUE=URI;X-ADDRESS=Sovereign Grace Church 1466 5th Sideroad Bradford Ontario L3Z4A8 Canada;X-APPLE-RADIUS=500;X-TITLE=1466 5th Sideroad:geo:-79.62542,44.044413
END:VEVENT
BEGIN:VEVENT
DTSTART;TZID=America/Toronto:20260125T130000
DTEND;TZID=America/Toronto:20260125T160000
DTSTAMP:20260423T165038
CREATED:20250915T160037Z
LAST-MODIFIED:20250915T160037Z
UID:10005726-1769346000-1769356800@sovgracechurch.ca
SUMMARY:Bradford Marsh CG
DESCRIPTION:This group is hosted and co-led by Galen Tuggy and Justin VanderVeen in the Holland Marsh. They meet every 2nd Wednesday at 6pm and 4th Sunday at 1pm. \nFor more information\, please contact info@sovgracechurch.ca
URL:https://sovgracechurch.ca/event/bradford-marsh-cg/2026-01-25/
END:VEVENT
BEGIN:VEVENT
DTSTART;TZID=America/Toronto:20260125T140000
DTEND;TZID=America/Toronto:20260125T170000
DTSTAMP:20260423T165038
CREATED:20250915T155422Z
LAST-MODIFIED:20250915T155422Z
UID:10005709-1769349600-1769360400@sovgracechurch.ca
SUMMARY:Alliston CG
DESCRIPTION:This group is hosted and led by Thomas Penner in Alliston. They meet every 2nd Wednesday at 6pm and 4th Sunday at 2pm.  \nFor more information\, please email info@sovgracechurch.ca
URL:https://sovgracechurch.ca/event/alliston-cg/2026-01-25/
END:VEVENT
BEGIN:VEVENT
DTSTART;TZID=America/Toronto:20260125T160000
DTEND;TZID=America/Toronto:20260125T193000
DTSTAMP:20260423T165038
CREATED:20250915T160503Z
LAST-MODIFIED:20250915T160503Z
UID:10005744-1769356800-1769369400@sovgracechurch.ca
SUMMARY:Bradford Town CG
DESCRIPTION:This group is hosted and led by Henry Vroom in Bradford. They meet every 2nd and 4th Sunday of the month at 4pm.  \nFor more information\, please contact info@sovgracechurch.ca
URL:https://sovgracechurch.ca/event/bradford-town-cg/2026-01-25/
END:VEVENT
BEGIN:VEVENT
DTSTART;TZID=America/Toronto:20260127T103000
DTEND;TZID=America/Toronto:20260127T120000
DTSTAMP:20260423T165038
CREATED:20250825T150358Z
LAST-MODIFIED:20250825T150358Z
UID:10005608-1769509800-1769515200@sovgracechurch.ca
SUMMARY:Flourish with Josephine
DESCRIPTION:Women’s Small Group Led by Josephine Wong. \nAll are welcome. \nFor more info\, please contact admin@sovgracechurch.ca
URL:https://sovgracechurch.ca/event/flourish-with-josephine/2026-01-27/
END:VEVENT
BEGIN:VEVENT
DTSTART;TZID=America/Toronto:20260128T183000
DTEND;TZID=America/Toronto:20260128T210000
DTSTAMP:20260423T165038
CREATED:20250915T201845Z
LAST-MODIFIED:20250915T201845Z
UID:10005938-1769625000-1769634000@sovgracechurch.ca
SUMMARY:Markham CG
DESCRIPTION:This group is hosted and led by Hiram Chen in Markham. They meet every 2nd and 4th Wednesday of the month at 6:30pm.  \nFor more information\, please contact info@sovgracechurch.ca
URL:https://sovgracechurch.ca/event/markham-cg/2026-01-28/
END:VEVENT
BEGIN:VEVENT
DTSTART;TZID=America/Toronto:20260128T193000
DTEND;TZID=America/Toronto:20260128T210000
DTSTAMP:20260423T165038
CREATED:20250915T161005Z
LAST-MODIFIED:20250915T161005Z
UID:10005761-1769628600-1769634000@sovgracechurch.ca
SUMMARY:King City CG
DESCRIPTION:This group is hosted and led by Steve Kamenar in King City. They meet every 2nd and 4th Wednesday of the month at 7:30pm.  \nFor more information\, please contact info@sovgracechurch.ca
URL:https://sovgracechurch.ca/event/king-city-cg/2026-01-28/
END:VEVENT
BEGIN:VEVENT
DTSTART;TZID=America/Toronto:20260128T193000
DTEND;TZID=America/Toronto:20260128T210000
DTSTAMP:20260423T165038
CREATED:20250915T201011Z
LAST-MODIFIED:20250915T201011Z
UID:10005841-1769628600-1769634000@sovgracechurch.ca
SUMMARY:Newmarket CG
DESCRIPTION:This group is led by Will Brumwell at Mateo & Michelle Rodriguez’s home in Newmarket. They meet every 2nd and 4th Wednesday of the month at 7:30pm.  \nFor more information\, please contact info@sovgracechurch.ca
URL:https://sovgracechurch.ca/event/newmarket-cg/2026-01-28/
END:VEVENT
BEGIN:VEVENT
DTSTART;TZID=America/Toronto:20260128T200000
DTEND;TZID=America/Toronto:20260128T220000
DTSTAMP:20260423T165038
CREATED:20250915T201253Z
LAST-MODIFIED:20250915T201253Z
UID:10005873-1769630400-1769637600@sovgracechurch.ca
SUMMARY:Richmond Hill CG
DESCRIPTION:This group is led by Cyril Wong at the home of Lee and Priscilla Wong in Richmond Hill. They meet every 2nd and 4th Wednesday of the month at 8pm.  \nFor more information\, please contact info@sovgracechurch.ca
URL:https://sovgracechurch.ca/event/richmond-hill-cg/2026-01-28/
END:VEVENT
BEGIN:VEVENT
DTSTART;TZID=America/Toronto:20260129T190000
DTEND;TZID=America/Toronto:20260129T190000
DTSTAMP:20260423T165038
CREATED:20250909T135148Z
LAST-MODIFIED:20251218T154244Z
UID:10005684-1769713200-1769713200@sovgracechurch.ca
SUMMARY:Karate
DESCRIPTION:We meet weekly in the church gym\, everyone is welcomed! \n7:00-7:45pm: Kids Class 1 (Ages 6-12) \n7:30-8:15pm: Kids Class 2 (Ages 6-12) \n8:15-9:00pm: Teens + Adults (Ages 13+ and up) \nPlease register here.
URL:https://sovgracechurch.ca/event/karate-3/2026-01-29/
END:VEVENT
BEGIN:VEVENT
DTSTART;TZID=America/Toronto:20260129T193000
DTEND;TZID=America/Toronto:20260129T210000
DTSTAMP:20260423T165038
CREATED:20250917T132706Z
LAST-MODIFIED:20260406T130746Z
UID:10005956-1769715000-1769720400@sovgracechurch.ca
SUMMARY:Flourish with Kathy
DESCRIPTION:Women’s Small Group Led by Kathy Hogeveen. \nAll are welcome. \nFor more info\, please contact info@sovgracechurch.ca
URL:https://sovgracechurch.ca/event/flourish-with-kathy-2/2026-01-29/
END:VEVENT
BEGIN:VEVENT
DTSTART;TZID=America/Toronto:20260131T093000
DTEND;TZID=America/Toronto:20260131T143000
DTSTAMP:20260423T165038
CREATED:20250827T183325Z
LAST-MODIFIED:20251229T142557Z
UID:10005623-1769851800-1769869800@sovgracechurch.ca
SUMMARY:Beginning the Journey Membership Class
DESCRIPTION:Join our membership class at the church called “Beginning the Journey”. The purpose of this class is to give you a big picture view of our church’s doctrine and values so that you can make an informed decision about whether to make Sovereign Grace your church home. \nSign up here.
URL:https://sovgracechurch.ca/event/beginning-the-journey-membership-class-5/
END:VEVENT
END:VCALENDAR