BEGIN:VCALENDAR
VERSION:2.0
PRODID:-//Sovereign Grace Church - ECPv6.15.20//NONSGML v1.0//EN
CALSCALE:GREGORIAN
METHOD:PUBLISH
X-ORIGINAL-URL:https://sovgracechurch.ca
X-WR-CALDESC:Events for Sovereign Grace Church
REFRESH-INTERVAL;VALUE=DURATION:PT1H
X-Robots-Tag:noindex
X-PUBLISHED-TTL:PT1H
BEGIN:VTIMEZONE
TZID:America/Toronto
BEGIN:DAYLIGHT
TZOFFSETFROM:-0500
TZOFFSETTO:-0400
TZNAME:EDT
DTSTART:20250309T070000
END:DAYLIGHT
BEGIN:STANDARD
TZOFFSETFROM:-0400
TZOFFSETTO:-0500
TZNAME:EST
DTSTART:20251102T060000
END:STANDARD
BEGIN:DAYLIGHT
TZOFFSETFROM:-0500
TZOFFSETTO:-0400
TZNAME:EDT
DTSTART:20260308T070000
END:DAYLIGHT
BEGIN:STANDARD
TZOFFSETFROM:-0400
TZOFFSETTO:-0500
TZNAME:EST
DTSTART:20261101T060000
END:STANDARD
BEGIN:DAYLIGHT
TZOFFSETFROM:-0500
TZOFFSETTO:-0400
TZNAME:EDT
DTSTART:20270314T070000
END:DAYLIGHT
BEGIN:STANDARD
TZOFFSETFROM:-0400
TZOFFSETTO:-0500
TZNAME:EST
DTSTART:20271107T060000
END:STANDARD
END:VTIMEZONE
BEGIN:VEVENT
DTSTART;TZID=America/Toronto:20260301T090000
DTEND;TZID=America/Toronto:20260301T100000
DTSTAMP:20260423T140407
CREATED:20251208T151714Z
LAST-MODIFIED:20251215T161833Z
UID:10006040-1772355600-1772359200@sovgracechurch.ca
SUMMARY:Marriage Adult Sunday School Class
DESCRIPTION:Pastor Josh is leading a 8-week class on marriage. The class will go through Paul Tripp’s “What Did You Expect? Redeeming the Realities of Marriage” video series\, with discussion to follow. \nClasses will run from Jan 11 – Mar 8\, 2026\, from 9-10am in the Multi-Purpose Room. \nSpace is limited. Please sign up here.
URL:https://sovgracechurch.ca/event/marriage-adult-sunday-school-class/2026-03-01/
ATTACH;FMTTYPE=image/jpeg:https://sovgracechurch.ca/wp-content/uploads/2025/12/WhatDidYouExpect.21.12-1-2-e1765815483738.jpg
END:VEVENT
BEGIN:VEVENT
DTSTART;TZID=America/Toronto:20260301T103000
DTEND;TZID=America/Toronto:20260301T123000
DTSTAMP:20260423T140407
CREATED:20240304T210358Z
LAST-MODIFIED:20240304T225237Z
UID:10004678-1772361000-1772368200@sovgracechurch.ca
SUMMARY:Sunday Gathering
DESCRIPTION:Join us! Everyone is welcomed. \nWe gather every Sunday for singing\, teaching and fellowship. \nPre-service prayer is at 9:45am in the family room.
URL:https://sovgracechurch.ca/event/__trashed-7/2026-03-01/
LOCATION:Sovereign Grace Church\, 1466 5th Sideroad\, Bradford\, Ontario\, L3Z4A8\, Canada
CATEGORIES:Sunday Services
GEO:44.044413;-79.62542
X-APPLE-STRUCTURED-LOCATION;VALUE=URI;X-ADDRESS=Sovereign Grace Church 1466 5th Sideroad Bradford Ontario L3Z4A8 Canada;X-APPLE-RADIUS=500;X-TITLE=1466 5th Sideroad:geo:-79.62542,44.044413
END:VEVENT
BEGIN:VEVENT
DTSTART;TZID=America/Toronto:20260303T064500
DTEND;TZID=America/Toronto:20260303T080000
DTSTAMP:20260423T140407
CREATED:20251111T205400Z
LAST-MODIFIED:20251229T211948Z
UID:10006288-1772520300-1772524800@sovgracechurch.ca
SUMMARY:Men's Ministry Meeting
DESCRIPTION:All men are welcomed to meet together to fellowship.
URL:https://sovgracechurch.ca/event/mens-ministry-meeting/2026-03-03/
END:VEVENT
BEGIN:VEVENT
DTSTART;TZID=America/Toronto:20260304T193000
DTEND;TZID=America/Toronto:20260304T203000
DTSTAMP:20260423T140407
CREATED:20251217T164536Z
LAST-MODIFIED:20251217T164536Z
UID:10006165-1772652600-1772656200@sovgracechurch.ca
SUMMARY:Prayer Meeting
DESCRIPTION:We have prayer meetings on the 1st and 3rd Wednesday of every month. Come pray with us!
URL:https://sovgracechurch.ca/event/prayer-meeting-5/2026-03-04/
END:VEVENT
BEGIN:VEVENT
DTSTART;TZID=America/Toronto:20260305T190000
DTEND;TZID=America/Toronto:20260305T190000
DTSTAMP:20260423T140407
CREATED:20250909T135148Z
LAST-MODIFIED:20251218T154244Z
UID:10005689-1772737200-1772737200@sovgracechurch.ca
SUMMARY:Karate
DESCRIPTION:We meet weekly in the church gym\, everyone is welcomed! \n7:00-7:45pm: Kids Class 1 (Ages 6-12) \n7:30-8:15pm: Kids Class 2 (Ages 6-12) \n8:15-9:00pm: Teens + Adults (Ages 13+ and up) \nPlease register here.
URL:https://sovgracechurch.ca/event/karate-3/2026-03-05/
END:VEVENT
BEGIN:VEVENT
DTSTART;TZID=America/Toronto:20260306T200000
DTEND;TZID=America/Toronto:20260306T220000
DTSTAMP:20260423T140407
CREATED:20260226T203934Z
LAST-MODIFIED:20260303T140819Z
UID:10006335-1772827200-1772834400@sovgracechurch.ca
SUMMARY:Singles Theology Night
DESCRIPTION:All singles are invited to spend the evening with Pastor Josh\, talking about theology and having fellowship! \nThis is held on the first Friday (or occasionally\, Saturday) of the month! \nPlease reach out to admin@sovgracechurch.ca to RSVP.
URL:https://sovgracechurch.ca/event/singles-theology-night/2026-03-06/
END:VEVENT
BEGIN:VEVENT
DTSTART;TZID=America/Toronto:20260307T083000
DTEND;TZID=America/Toronto:20260307T100000
DTSTAMP:20260423T140407
CREATED:20250818T162442Z
LAST-MODIFIED:20260112T211633Z
UID:10006295-1772872200-1772877600@sovgracechurch.ca
SUMMARY:Equip (Invite Only)
DESCRIPTION:
URL:https://sovgracechurch.ca/event/equip-invite-only-5/2026-03-07/
END:VEVENT
BEGIN:VEVENT
DTSTART;TZID=America/Toronto:20260308T103000
DTEND;TZID=America/Toronto:20260308T123000
DTSTAMP:20260423T140407
CREATED:20240304T210358Z
LAST-MODIFIED:20240304T225237Z
UID:10004679-1772965800-1772973000@sovgracechurch.ca
SUMMARY:Sunday Gathering
DESCRIPTION:Join us! Everyone is welcomed. \nWe gather every Sunday for singing\, teaching and fellowship. \nPre-service prayer is at 9:45am in the family room.
URL:https://sovgracechurch.ca/event/__trashed-7/2026-03-08/
LOCATION:Sovereign Grace Church\, 1466 5th Sideroad\, Bradford\, Ontario\, L3Z4A8\, Canada
CATEGORIES:Sunday Services
GEO:44.044413;-79.62542
X-APPLE-STRUCTURED-LOCATION;VALUE=URI;X-ADDRESS=Sovereign Grace Church 1466 5th Sideroad Bradford Ontario L3Z4A8 Canada;X-APPLE-RADIUS=500;X-TITLE=1466 5th Sideroad:geo:-79.62542,44.044413
END:VEVENT
BEGIN:VEVENT
DTSTART;TZID=America/Toronto:20260308T123000
DTEND;TZID=America/Toronto:20260308T130000
DTSTAMP:20260423T140407
CREATED:20260105T131135Z
LAST-MODIFIED:20260105T131135Z
UID:10006290-1772973000-1772974800@sovgracechurch.ca
SUMMARY:Church Planting Interest Meeting
DESCRIPTION:Everyone is welcomed to join this meeting to learn about our church planting plans. There is no obligation to join the church plant if you attend.
URL:https://sovgracechurch.ca/event/church-planting-interest-meeting/
END:VEVENT
BEGIN:VEVENT
DTSTART;TZID=America/Toronto:20260308T133000
DTEND;TZID=America/Toronto:20260308T153000
DTSTAMP:20260423T140407
CREATED:20260109T201524Z
LAST-MODIFIED:20260109T201524Z
UID:10006319-1772976600-1772983800@sovgracechurch.ca
SUMMARY:Schomberg CG
DESCRIPTION:This group is hosted and led by Karl Vanderveen in Schomberg. They meet every 2nd and 4th Sunday of the month at 1:30pm. \nFor more information\, please contact info@sovgracechurch.ca
URL:https://sovgracechurch.ca/event/schomberg-cg/2026-03-08/
END:VEVENT
BEGIN:VEVENT
DTSTART;TZID=America/Toronto:20260308T160000
DTEND;TZID=America/Toronto:20260308T193000
DTSTAMP:20260423T140407
CREATED:20250915T160503Z
LAST-MODIFIED:20250915T160503Z
UID:10005747-1772985600-1772998200@sovgracechurch.ca
SUMMARY:Bradford Town CG
DESCRIPTION:This group is hosted and led by Henry Vroom in Bradford. They meet every 2nd and 4th Sunday of the month at 4pm.  \nFor more information\, please contact info@sovgracechurch.ca
URL:https://sovgracechurch.ca/event/bradford-town-cg/2026-03-08/
END:VEVENT
BEGIN:VEVENT
DTSTART;TZID=America/Toronto:20260310T103000
DTEND;TZID=America/Toronto:20260310T120000
DTSTAMP:20260423T140407
CREATED:20250825T150358Z
LAST-MODIFIED:20250825T150358Z
UID:10005611-1773138600-1773144000@sovgracechurch.ca
SUMMARY:Flourish with Josephine
DESCRIPTION:Women’s Small Group Led by Josephine Wong. \nAll are welcome. \nFor more info\, please contact admin@sovgracechurch.ca
URL:https://sovgracechurch.ca/event/flourish-with-josephine/2026-03-10/
END:VEVENT
BEGIN:VEVENT
DTSTART;TZID=America/Toronto:20260311T180000
DTEND;TZID=America/Toronto:20260311T210000
DTSTAMP:20260423T140407
CREATED:20250915T155422Z
LAST-MODIFIED:20250915T155422Z
UID:10005712-1773252000-1773262800@sovgracechurch.ca
SUMMARY:Alliston CG
DESCRIPTION:This group is hosted and led by Thomas Penner in Alliston. They meet every 2nd Wednesday at 6pm and 4th Sunday at 2pm.  \nFor more information\, please email info@sovgracechurch.ca
URL:https://sovgracechurch.ca/event/alliston-cg/2026-03-11/
END:VEVENT
BEGIN:VEVENT
DTSTART;TZID=America/Toronto:20260311T180000
DTEND;TZID=America/Toronto:20260311T210000
DTSTAMP:20260423T140407
CREATED:20250915T160037Z
LAST-MODIFIED:20250915T160037Z
UID:10005729-1773252000-1773262800@sovgracechurch.ca
SUMMARY:Bradford Marsh CG
DESCRIPTION:This group is hosted and co-led by Galen Tuggy and Justin VanderVeen in the Holland Marsh. They meet every 2nd Wednesday at 6pm and 4th Sunday at 1pm. \nFor more information\, please contact info@sovgracechurch.ca
URL:https://sovgracechurch.ca/event/bradford-marsh-cg/2026-03-11/
END:VEVENT
BEGIN:VEVENT
DTSTART;TZID=America/Toronto:20260311T183000
DTEND;TZID=America/Toronto:20260311T210000
DTSTAMP:20260423T140407
CREATED:20250915T201845Z
LAST-MODIFIED:20250915T201845Z
UID:10005941-1773253800-1773262800@sovgracechurch.ca
SUMMARY:Markham CG
DESCRIPTION:This group is hosted and led by Hiram Chen in Markham. They meet every 2nd and 4th Wednesday of the month at 6:30pm.  \nFor more information\, please contact info@sovgracechurch.ca
URL:https://sovgracechurch.ca/event/markham-cg/2026-03-11/
END:VEVENT
BEGIN:VEVENT
DTSTART;TZID=America/Toronto:20260311T193000
DTEND;TZID=America/Toronto:20260311T210000
DTSTAMP:20260423T140407
CREATED:20250915T161005Z
LAST-MODIFIED:20250915T161005Z
UID:10005764-1773257400-1773262800@sovgracechurch.ca
SUMMARY:King City CG
DESCRIPTION:This group is hosted and led by Steve Kamenar in King City. They meet every 2nd and 4th Wednesday of the month at 7:30pm.  \nFor more information\, please contact info@sovgracechurch.ca
URL:https://sovgracechurch.ca/event/king-city-cg/2026-03-11/
END:VEVENT
BEGIN:VEVENT
DTSTART;TZID=America/Toronto:20260311T193000
DTEND;TZID=America/Toronto:20260311T210000
DTSTAMP:20260423T140407
CREATED:20250915T201011Z
LAST-MODIFIED:20250915T201011Z
UID:10005844-1773257400-1773262800@sovgracechurch.ca
SUMMARY:Newmarket CG
DESCRIPTION:This group is led by Will Brumwell at Mateo & Michelle Rodriguez’s home in Newmarket. They meet every 2nd and 4th Wednesday of the month at 7:30pm.  \nFor more information\, please contact info@sovgracechurch.ca
URL:https://sovgracechurch.ca/event/newmarket-cg/2026-03-11/
END:VEVENT
BEGIN:VEVENT
DTSTART;TZID=America/Toronto:20260311T200000
DTEND;TZID=America/Toronto:20260311T220000
DTSTAMP:20260423T140407
CREATED:20250915T201253Z
LAST-MODIFIED:20250915T201253Z
UID:10005876-1773259200-1773266400@sovgracechurch.ca
SUMMARY:Richmond Hill CG
DESCRIPTION:This group is led by Cyril Wong at the home of Lee and Priscilla Wong in Richmond Hill. They meet every 2nd and 4th Wednesday of the month at 8pm.  \nFor more information\, please contact info@sovgracechurch.ca
URL:https://sovgracechurch.ca/event/richmond-hill-cg/2026-03-11/
END:VEVENT
BEGIN:VEVENT
DTSTART;TZID=America/Toronto:20260312T190000
DTEND;TZID=America/Toronto:20260312T190000
DTSTAMP:20260423T140407
CREATED:20250909T135148Z
LAST-MODIFIED:20251218T154244Z
UID:10006283-1773342000-1773342000@sovgracechurch.ca
SUMMARY:Karate
DESCRIPTION:We meet weekly in the church gym\, everyone is welcomed! \n7:00-7:45pm: Kids Class 1 (Ages 6-12) \n7:30-8:15pm: Kids Class 2 (Ages 6-12) \n8:15-9:00pm: Teens + Adults (Ages 13+ and up) \nPlease register here.
URL:https://sovgracechurch.ca/event/karate-3/2026-03-12/
END:VEVENT
BEGIN:VEVENT
DTSTART;TZID=America/Toronto:20260312T193000
DTEND;TZID=America/Toronto:20260312T210000
DTSTAMP:20260423T140407
CREATED:20250915T201551Z
LAST-MODIFIED:20250915T201551Z
UID:10005908-1773343800-1773349200@sovgracechurch.ca
SUMMARY:Newmarket South CG
DESCRIPTION:This group is hosted and led by Michael & Christine Chi and Jason Chan. They meet every 2nd and 4th Thursday of the month at 7:30pm.  \nFor more information\, please contact info@sovgracechurch.ca
URL:https://sovgracechurch.ca/event/newmarket-south-cg/2026-03-12/
END:VEVENT
BEGIN:VEVENT
DTSTART;TZID=America/Toronto:20260312T193000
DTEND;TZID=America/Toronto:20260312T210000
DTSTAMP:20260423T140407
CREATED:20250917T132706Z
LAST-MODIFIED:20260406T130746Z
UID:10005959-1773343800-1773349200@sovgracechurch.ca
SUMMARY:Flourish with Kathy
DESCRIPTION:Women’s Small Group Led by Kathy Hogeveen. \nAll are welcome. \nFor more info\, please contact info@sovgracechurch.ca
URL:https://sovgracechurch.ca/event/flourish-with-kathy-2/2026-03-12/
END:VEVENT
BEGIN:VEVENT
DTSTART;TZID=America/Toronto:20260315T103000
DTEND;TZID=America/Toronto:20260315T123000
DTSTAMP:20260423T140407
CREATED:20240304T210358Z
LAST-MODIFIED:20240304T225237Z
UID:10004680-1773570600-1773577800@sovgracechurch.ca
SUMMARY:Sunday Gathering
DESCRIPTION:Join us! Everyone is welcomed. \nWe gather every Sunday for singing\, teaching and fellowship. \nPre-service prayer is at 9:45am in the family room.
URL:https://sovgracechurch.ca/event/__trashed-7/2026-03-15/
LOCATION:Sovereign Grace Church\, 1466 5th Sideroad\, Bradford\, Ontario\, L3Z4A8\, Canada
CATEGORIES:Sunday Services
GEO:44.044413;-79.62542
X-APPLE-STRUCTURED-LOCATION;VALUE=URI;X-ADDRESS=Sovereign Grace Church 1466 5th Sideroad Bradford Ontario L3Z4A8 Canada;X-APPLE-RADIUS=500;X-TITLE=1466 5th Sideroad:geo:-79.62542,44.044413
END:VEVENT
BEGIN:VEVENT
DTSTART;TZID=America/Toronto:20260315T123000
DTEND;TZID=America/Toronto:20260315T150000
DTSTAMP:20260423T140407
CREATED:20260219T160548Z
LAST-MODIFIED:20260219T160548Z
UID:10006334-1773577800-1773586800@sovgracechurch.ca
SUMMARY:Outreach
DESCRIPTION:Join us as we invite our neighbours to our Good Friday and Easter Sunday Services. \nWe will meet together to pray and have lunch before going out to the community. \nPlease register here so we know to expect you!
URL:https://sovgracechurch.ca/event/outreach/
END:VEVENT
BEGIN:VEVENT
DTSTART;TZID=America/Toronto:20260318T193000
DTEND;TZID=America/Toronto:20260318T203000
DTSTAMP:20260423T140407
CREATED:20251217T164233Z
LAST-MODIFIED:20251217T164641Z
UID:10006225-1773862200-1773865800@sovgracechurch.ca
SUMMARY:Prayer Meeting
DESCRIPTION:We have prayer meetings on the 1st and 3rd Wednesday of every month. Come pray with us!
URL:https://sovgracechurch.ca/event/prayer-meeting-6/2026-03-18/
END:VEVENT
BEGIN:VEVENT
DTSTART;TZID=America/Toronto:20260321T064500
DTEND;TZID=America/Toronto:20260321T080000
DTSTAMP:20260423T140407
CREATED:20260218T151022Z
LAST-MODIFIED:20260218T151022Z
UID:10006286-1774075500-1774080000@sovgracechurch.ca
SUMMARY:Men's Ministry Meeting
DESCRIPTION:All men are welcomed to meet together to fellowship.
URL:https://sovgracechurch.ca/event/mens-ministry-meeting-2/2026-03-21/
END:VEVENT
BEGIN:VEVENT
DTSTART;TZID=America/Toronto:20260322T103000
DTEND;TZID=America/Toronto:20260322T123000
DTSTAMP:20260423T140407
CREATED:20240304T210358Z
LAST-MODIFIED:20240304T225237Z
UID:10004681-1774175400-1774182600@sovgracechurch.ca
SUMMARY:Sunday Gathering
DESCRIPTION:Join us! Everyone is welcomed. \nWe gather every Sunday for singing\, teaching and fellowship. \nPre-service prayer is at 9:45am in the family room.
URL:https://sovgracechurch.ca/event/__trashed-7/2026-03-22/
LOCATION:Sovereign Grace Church\, 1466 5th Sideroad\, Bradford\, Ontario\, L3Z4A8\, Canada
CATEGORIES:Sunday Services
GEO:44.044413;-79.62542
X-APPLE-STRUCTURED-LOCATION;VALUE=URI;X-ADDRESS=Sovereign Grace Church 1466 5th Sideroad Bradford Ontario L3Z4A8 Canada;X-APPLE-RADIUS=500;X-TITLE=1466 5th Sideroad:geo:-79.62542,44.044413
END:VEVENT
BEGIN:VEVENT
DTSTART;TZID=America/Toronto:20260322T130000
DTEND;TZID=America/Toronto:20260322T160000
DTSTAMP:20260423T140407
CREATED:20250915T160037Z
LAST-MODIFIED:20250915T160037Z
UID:10005730-1774184400-1774195200@sovgracechurch.ca
SUMMARY:Bradford Marsh CG
DESCRIPTION:This group is hosted and co-led by Galen Tuggy and Justin VanderVeen in the Holland Marsh. They meet every 2nd Wednesday at 6pm and 4th Sunday at 1pm. \nFor more information\, please contact info@sovgracechurch.ca
URL:https://sovgracechurch.ca/event/bradford-marsh-cg/2026-03-22/
END:VEVENT
BEGIN:VEVENT
DTSTART;TZID=America/Toronto:20260322T133000
DTEND;TZID=America/Toronto:20260322T153000
DTSTAMP:20260423T140407
CREATED:20260109T201524Z
LAST-MODIFIED:20260109T201524Z
UID:10006320-1774186200-1774193400@sovgracechurch.ca
SUMMARY:Schomberg CG
DESCRIPTION:This group is hosted and led by Karl Vanderveen in Schomberg. They meet every 2nd and 4th Sunday of the month at 1:30pm. \nFor more information\, please contact info@sovgracechurch.ca
URL:https://sovgracechurch.ca/event/schomberg-cg/2026-03-22/
END:VEVENT
BEGIN:VEVENT
DTSTART;TZID=America/Toronto:20260322T140000
DTEND;TZID=America/Toronto:20260322T170000
DTSTAMP:20260423T140407
CREATED:20250915T155422Z
LAST-MODIFIED:20250915T155422Z
UID:10005713-1774188000-1774198800@sovgracechurch.ca
SUMMARY:Alliston CG
DESCRIPTION:This group is hosted and led by Thomas Penner in Alliston. They meet every 2nd Wednesday at 6pm and 4th Sunday at 2pm.  \nFor more information\, please email info@sovgracechurch.ca
URL:https://sovgracechurch.ca/event/alliston-cg/2026-03-22/
END:VEVENT
BEGIN:VEVENT
DTSTART;TZID=America/Toronto:20260322T160000
DTEND;TZID=America/Toronto:20260322T193000
DTSTAMP:20260423T140407
CREATED:20250915T160503Z
LAST-MODIFIED:20250915T160503Z
UID:10005748-1774195200-1774207800@sovgracechurch.ca
SUMMARY:Bradford Town CG
DESCRIPTION:This group is hosted and led by Henry Vroom in Bradford. They meet every 2nd and 4th Sunday of the month at 4pm.  \nFor more information\, please contact info@sovgracechurch.ca
URL:https://sovgracechurch.ca/event/bradford-town-cg/2026-03-22/
END:VEVENT
BEGIN:VEVENT
DTSTART;TZID=America/Toronto:20260324T103000
DTEND;TZID=America/Toronto:20260324T120000
DTSTAMP:20260423T140407
CREATED:20250825T150358Z
LAST-MODIFIED:20250825T150358Z
UID:10005612-1774348200-1774353600@sovgracechurch.ca
SUMMARY:Flourish with Josephine
DESCRIPTION:Women’s Small Group Led by Josephine Wong. \nAll are welcome. \nFor more info\, please contact admin@sovgracechurch.ca
URL:https://sovgracechurch.ca/event/flourish-with-josephine/2026-03-24/
END:VEVENT
BEGIN:VEVENT
DTSTART;TZID=America/Toronto:20260325T183000
DTEND;TZID=America/Toronto:20260325T210000
DTSTAMP:20260423T140407
CREATED:20250915T201845Z
LAST-MODIFIED:20250915T201845Z
UID:10005942-1774463400-1774472400@sovgracechurch.ca
SUMMARY:Markham CG
DESCRIPTION:This group is hosted and led by Hiram Chen in Markham. They meet every 2nd and 4th Wednesday of the month at 6:30pm.  \nFor more information\, please contact info@sovgracechurch.ca
URL:https://sovgracechurch.ca/event/markham-cg/2026-03-25/
END:VEVENT
BEGIN:VEVENT
DTSTART;TZID=America/Toronto:20260325T193000
DTEND;TZID=America/Toronto:20260325T210000
DTSTAMP:20260423T140407
CREATED:20250915T161005Z
LAST-MODIFIED:20250915T161005Z
UID:10005765-1774467000-1774472400@sovgracechurch.ca
SUMMARY:King City CG
DESCRIPTION:This group is hosted and led by Steve Kamenar in King City. They meet every 2nd and 4th Wednesday of the month at 7:30pm.  \nFor more information\, please contact info@sovgracechurch.ca
URL:https://sovgracechurch.ca/event/king-city-cg/2026-03-25/
END:VEVENT
BEGIN:VEVENT
DTSTART;TZID=America/Toronto:20260325T193000
DTEND;TZID=America/Toronto:20260325T210000
DTSTAMP:20260423T140407
CREATED:20250915T201011Z
LAST-MODIFIED:20250915T201011Z
UID:10005845-1774467000-1774472400@sovgracechurch.ca
SUMMARY:Newmarket CG
DESCRIPTION:This group is led by Will Brumwell at Mateo & Michelle Rodriguez’s home in Newmarket. They meet every 2nd and 4th Wednesday of the month at 7:30pm.  \nFor more information\, please contact info@sovgracechurch.ca
URL:https://sovgracechurch.ca/event/newmarket-cg/2026-03-25/
END:VEVENT
BEGIN:VEVENT
DTSTART;TZID=America/Toronto:20260325T200000
DTEND;TZID=America/Toronto:20260325T220000
DTSTAMP:20260423T140407
CREATED:20250915T201253Z
LAST-MODIFIED:20250915T201253Z
UID:10005877-1774468800-1774476000@sovgracechurch.ca
SUMMARY:Richmond Hill CG
DESCRIPTION:This group is led by Cyril Wong at the home of Lee and Priscilla Wong in Richmond Hill. They meet every 2nd and 4th Wednesday of the month at 8pm.  \nFor more information\, please contact info@sovgracechurch.ca
URL:https://sovgracechurch.ca/event/richmond-hill-cg/2026-03-25/
END:VEVENT
BEGIN:VEVENT
DTSTART;TZID=America/Toronto:20260326T190000
DTEND;TZID=America/Toronto:20260326T190000
DTSTAMP:20260423T140407
CREATED:20250909T135148Z
LAST-MODIFIED:20251218T154244Z
UID:10005691-1774551600-1774551600@sovgracechurch.ca
SUMMARY:Karate
DESCRIPTION:We meet weekly in the church gym\, everyone is welcomed! \n7:00-7:45pm: Kids Class 1 (Ages 6-12) \n7:30-8:15pm: Kids Class 2 (Ages 6-12) \n8:15-9:00pm: Teens + Adults (Ages 13+ and up) \nPlease register here.
URL:https://sovgracechurch.ca/event/karate-3/2026-03-26/
END:VEVENT
BEGIN:VEVENT
DTSTART;TZID=America/Toronto:20260326T193000
DTEND;TZID=America/Toronto:20260326T210000
DTSTAMP:20260423T140407
CREATED:20250915T201551Z
LAST-MODIFIED:20250915T201551Z
UID:10005909-1774553400-1774558800@sovgracechurch.ca
SUMMARY:Newmarket South CG
DESCRIPTION:This group is hosted and led by Michael & Christine Chi and Jason Chan. They meet every 2nd and 4th Thursday of the month at 7:30pm.  \nFor more information\, please contact info@sovgracechurch.ca
URL:https://sovgracechurch.ca/event/newmarket-south-cg/2026-03-26/
END:VEVENT
BEGIN:VEVENT
DTSTART;TZID=America/Toronto:20260326T193000
DTEND;TZID=America/Toronto:20260326T210000
DTSTAMP:20260423T140407
CREATED:20250917T132706Z
LAST-MODIFIED:20260406T130746Z
UID:10005975-1774553400-1774558800@sovgracechurch.ca
SUMMARY:Flourish with Kathy
DESCRIPTION:Women’s Small Group Led by Kathy Hogeveen. \nAll are welcome. \nFor more info\, please contact info@sovgracechurch.ca
URL:https://sovgracechurch.ca/event/flourish-with-kathy-2/2026-03-26/
END:VEVENT
BEGIN:VEVENT
DTSTART;VALUE=DATE:20260327
DTEND;VALUE=DATE:20260329
DTSTAMP:20260423T140407
CREATED:20250827T183138Z
LAST-MODIFIED:20251215T161629Z
UID:10005620-1774569600-1774742399@sovgracechurch.ca
SUMMARY:Regional Women's Retreat
DESCRIPTION:Details\n\n\n\nLadies and teens 16 and up\, please join us at Maumee Bay Lodge near Toledo\, Ohio\, March 27-28 for a time of equipping\, encouragement\, and fellowship with the Sovereign Grace churches in our region. \nTHEME \nThe 2026 Women’s Retreat will focus on the gifts of grace found in godly women as life-givers through our words\, through serving our families and churches\, and through reaching the lost. \nOur speakers will be Kathy Wilson (Copley\, OH)\, Jeanine Simpson (Bradford\, ON)\, and Josephine Wong (Bradford\, ON). \nPlease click here for more information. \nDeadline for registration is January 31\, 2026.
URL:https://sovgracechurch.ca/event/regional-womens-retreat/
ATTACH;FMTTYPE=image/png:https://sovgracechurch.ca/wp-content/uploads/2025/08/Womens-Retreat-2026_SLIDE-e1765815326863.png
END:VEVENT
BEGIN:VEVENT
DTSTART;TZID=America/Toronto:20260327T193000
DTEND;TZID=America/Toronto:20260327T213000
DTSTAMP:20260423T140407
CREATED:20251029T195452Z
LAST-MODIFIED:20260406T125442Z
UID:10005988-1774639800-1774647000@sovgracechurch.ca
SUMMARY:Parenting Group
DESCRIPTION:The Parenting Group is open to all parents with children of all ages. Join us to be equipped to disciple your children. Sign up here.
URL:https://sovgracechurch.ca/event/parenting-group/2026-03-27/
END:VEVENT
BEGIN:VEVENT
DTSTART;TZID=America/Toronto:20260327T193000
DTEND;TZID=America/Toronto:20260327T213000
DTSTAMP:20260423T140407
CREATED:20251029T195916Z
LAST-MODIFIED:20260120T185828Z
UID:10005993-1774639800-1774647000@sovgracechurch.ca
SUMMARY:Youth Group
DESCRIPTION:Youth Group is open to youth Gr 6-12. Sign up here.
URL:https://sovgracechurch.ca/event/youth-group-3/2026-03-27/
END:VEVENT
BEGIN:VEVENT
DTSTART;TZID=America/Toronto:20260329T103000
DTEND;TZID=America/Toronto:20260329T123000
DTSTAMP:20260423T140407
CREATED:20240304T210358Z
LAST-MODIFIED:20240304T225237Z
UID:10004682-1774780200-1774787400@sovgracechurch.ca
SUMMARY:Sunday Gathering
DESCRIPTION:Join us! Everyone is welcomed. \nWe gather every Sunday for singing\, teaching and fellowship. \nPre-service prayer is at 9:45am in the family room.
URL:https://sovgracechurch.ca/event/__trashed-7/2026-03-29/
LOCATION:Sovereign Grace Church\, 1466 5th Sideroad\, Bradford\, Ontario\, L3Z4A8\, Canada
CATEGORIES:Sunday Services
GEO:44.044413;-79.62542
X-APPLE-STRUCTURED-LOCATION;VALUE=URI;X-ADDRESS=Sovereign Grace Church 1466 5th Sideroad Bradford Ontario L3Z4A8 Canada;X-APPLE-RADIUS=500;X-TITLE=1466 5th Sideroad:geo:-79.62542,44.044413
END:VEVENT
BEGIN:VEVENT
DTSTART;TZID=America/Toronto:20260329T103000
DTEND;TZID=America/Toronto:20260329T123000
DTSTAMP:20260423T140407
CREATED:20250827T183435Z
LAST-MODIFIED:20251103T164947Z
UID:10004691-1774780200-1774787400@sovgracechurch.ca
SUMMARY:New Member Sunday + Baptisms
DESCRIPTION:Join us! Everyone is welcomed. \nWe gather every Sunday for singing\, teaching and fellowship. \nPre-service prayer is at 9:45am in the family room.
URL:https://sovgracechurch.ca/event/__trashed-7-3/
LOCATION:Sovereign Grace Church\, 1466 5th Sideroad\, Bradford\, Ontario\, L3Z4A8\, Canada
CATEGORIES:Sunday Services
GEO:44.044413;-79.62542
X-APPLE-STRUCTURED-LOCATION;VALUE=URI;X-ADDRESS=Sovereign Grace Church 1466 5th Sideroad Bradford Ontario L3Z4A8 Canada;X-APPLE-RADIUS=500;X-TITLE=1466 5th Sideroad:geo:-79.62542,44.044413
END:VEVENT
BEGIN:VEVENT
DTSTART;VALUE=DATE:20260330
DTEND;VALUE=DATE:20260403
DTSTAMP:20260423T140407
CREATED:20250827T183214Z
LAST-MODIFIED:20260323T142327Z
UID:10005621-1774828800-1775174399@sovgracechurch.ca
SUMMARY:Week of Prayer
DESCRIPTION:Week of Prayer 2026: Join us for the two special prayer meetings and sign up for the prayer marathon in the week leading up to Good Friday and Easter! \nPrayer Meeting #1: Monday\, Mar 30 7:30-9pm \nPrayer Meeting #2: Wednesday\, Apr 1 7:30-9pm
URL:https://sovgracechurch.ca/event/week-of-prayer-2/
ATTACH;FMTTYPE=image/jpeg:https://sovgracechurch.ca/wp-content/uploads/2026/03/Week_of_Prayer_2026_Mar-22_QR-CODE.pptx-e1774275601708.jpg
END:VEVENT
BEGIN:VEVENT
DTSTART;TZID=America/Toronto:20260330T193000
DTEND;TZID=America/Toronto:20260330T210000
DTSTAMP:20260423T140407
CREATED:20260312T192505Z
LAST-MODIFIED:20260312T192505Z
UID:10006353-1774899000-1774904400@sovgracechurch.ca
SUMMARY:Prayer Meeting
DESCRIPTION:This is a special corporate prayer meeting held during the Week of Prayer. \nCome and join us in the sanctuary!
URL:https://sovgracechurch.ca/event/prayer-meeting-7/
END:VEVENT
END:VCALENDAR