BEGIN:VCALENDAR
VERSION:2.0
PRODID:-//Sovereign Grace Church - ECPv6.15.20//NONSGML v1.0//EN
CALSCALE:GREGORIAN
METHOD:PUBLISH
X-ORIGINAL-URL:https://sovgracechurch.ca
X-WR-CALDESC:Events for Sovereign Grace Church
REFRESH-INTERVAL;VALUE=DURATION:PT1H
X-Robots-Tag:noindex
X-PUBLISHED-TTL:PT1H
BEGIN:VTIMEZONE
TZID:America/Toronto
BEGIN:DAYLIGHT
TZOFFSETFROM:-0500
TZOFFSETTO:-0400
TZNAME:EDT
DTSTART:20250309T070000
END:DAYLIGHT
BEGIN:STANDARD
TZOFFSETFROM:-0400
TZOFFSETTO:-0500
TZNAME:EST
DTSTART:20251102T060000
END:STANDARD
BEGIN:DAYLIGHT
TZOFFSETFROM:-0500
TZOFFSETTO:-0400
TZNAME:EDT
DTSTART:20260308T070000
END:DAYLIGHT
BEGIN:STANDARD
TZOFFSETFROM:-0400
TZOFFSETTO:-0500
TZNAME:EST
DTSTART:20261101T060000
END:STANDARD
BEGIN:DAYLIGHT
TZOFFSETFROM:-0500
TZOFFSETTO:-0400
TZNAME:EDT
DTSTART:20270314T070000
END:DAYLIGHT
BEGIN:STANDARD
TZOFFSETFROM:-0400
TZOFFSETTO:-0500
TZNAME:EST
DTSTART:20271107T060000
END:STANDARD
END:VTIMEZONE
BEGIN:VEVENT
DTSTART;TZID=America/Toronto:20260601T193000
DTEND;TZID=America/Toronto:20260601T213000
DTSTAMP:20260423T162808
CREATED:20260312T191952Z
LAST-MODIFIED:20260420T225556Z
UID:10006350-1780342200-1780349400@sovgracechurch.ca
SUMMARY:Financial Management - God's Way
DESCRIPTION:What if the way we’ve been taught to think about money isn’t the way God intended? \nThis 11-week class explores what the Bible teaches about money and how those truths often stand in sharp contrast to the financial messages promoted by our culture. Every day we are surrounded by advice\, advertising\, and pressure from the world that shapes how we think about spending\, saving\, and success. \nThis study explores biblical principles for managing money and helps us develop the discernment needed to recognize the financial messages and deceptions common in our culture. \nJoin us as we learn how to align our financial decisions with God’s wisdom rather than the world’s influence. \nThe sessions will cover the following topics:\nSession #1: Management of Money and Our Relationship with God\nSession #2: God’s Promises & Our Responsibility\nSession #3: Secular vs. Biblical Steward\nSession #4: Debt\, Saving and Co-signing\nSession #5: Practical Ways to Get Out of Debt\nSession #6: Budgeting\nSession #7: Obtaining Godly Counsel and Wisdom\nSession #8: Giving\nSession #9: Investing\nSession #10: Developing Godly Attitude Toward Money\nSession #11: Financial Descriptions \nJoin the zoom class here.
URL:https://sovgracechurch.ca/event/financial-management-gods-way/2026-06-01/
END:VEVENT
BEGIN:VEVENT
DTSTART;TZID=America/Toronto:20260602T064500
DTEND;TZID=America/Toronto:20260602T080000
DTSTAMP:20260423T162808
CREATED:20260218T151022Z
LAST-MODIFIED:20260218T151022Z
UID:10006332-1780382700-1780387200@sovgracechurch.ca
SUMMARY:Men's Ministry Meeting
DESCRIPTION:All men are welcomed to meet together to fellowship.
URL:https://sovgracechurch.ca/event/mens-ministry-meeting-2/2026-06-02/
END:VEVENT
BEGIN:VEVENT
DTSTART;TZID=America/Toronto:20260603T193000
DTEND;TZID=America/Toronto:20260603T203000
DTSTAMP:20260423T162808
CREATED:20251217T164536Z
LAST-MODIFIED:20251217T164536Z
UID:10006168-1780515000-1780518600@sovgracechurch.ca
SUMMARY:Prayer Meeting
DESCRIPTION:We have prayer meetings on the 1st and 3rd Wednesday of every month. Come pray with us!
URL:https://sovgracechurch.ca/event/prayer-meeting-5/2026-06-03/
END:VEVENT
BEGIN:VEVENT
DTSTART;TZID=America/Toronto:20260605T200000
DTEND;TZID=America/Toronto:20260605T220000
DTSTAMP:20260423T162808
CREATED:20260226T203934Z
LAST-MODIFIED:20260303T140819Z
UID:10006338-1780689600-1780696800@sovgracechurch.ca
SUMMARY:Singles Theology Night
DESCRIPTION:All singles are invited to spend the evening with Pastor Josh\, talking about theology and having fellowship! \nThis is held on the first Friday (or occasionally\, Saturday) of the month! \nPlease reach out to admin@sovgracechurch.ca to RSVP.
URL:https://sovgracechurch.ca/event/singles-theology-night/2026-06-05/
END:VEVENT
BEGIN:VEVENT
DTSTART;TZID=America/Toronto:20260607T103000
DTEND;TZID=America/Toronto:20260607T123000
DTSTAMP:20260423T162808
CREATED:20240304T210358Z
LAST-MODIFIED:20240304T225237Z
UID:10004692-1780828200-1780835400@sovgracechurch.ca
SUMMARY:Sunday Gathering
DESCRIPTION:Join us! Everyone is welcomed. \nWe gather every Sunday for singing\, teaching and fellowship. \nPre-service prayer is at 9:45am in the family room.
URL:https://sovgracechurch.ca/event/__trashed-7/2026-06-07/
LOCATION:Sovereign Grace Church\, 1466 5th Sideroad\, Bradford\, Ontario\, L3Z4A8\, Canada
CATEGORIES:Sunday Services
GEO:44.044413;-79.62542
X-APPLE-STRUCTURED-LOCATION;VALUE=URI;X-ADDRESS=Sovereign Grace Church 1466 5th Sideroad Bradford Ontario L3Z4A8 Canada;X-APPLE-RADIUS=500;X-TITLE=1466 5th Sideroad:geo:-79.62542,44.044413
END:VEVENT
BEGIN:VEVENT
DTSTART;TZID=America/Toronto:20260607T160000
DTEND;TZID=America/Toronto:20260607T170000
DTSTAMP:20260423T162808
CREATED:20260323T141547Z
LAST-MODIFIED:20260323T141547Z
UID:10006356-1780848000-1780851600@sovgracechurch.ca
SUMMARY:Newmarket Church Planting Meetings
DESCRIPTION:This gathering is for anyone interested in learning how to pray and support the sending effort\, as well as those considering joining the church plant. Join us on Zoom at 4pm.
URL:https://sovgracechurch.ca/event/newmarket-church-planting-meetings/2026-06-07/
END:VEVENT
BEGIN:VEVENT
DTSTART;TZID=America/Toronto:20260608T193000
DTEND;TZID=America/Toronto:20260608T213000
DTSTAMP:20260423T162808
CREATED:20260312T191952Z
LAST-MODIFIED:20260420T225556Z
UID:10006351-1780947000-1780954200@sovgracechurch.ca
SUMMARY:Financial Management - God's Way
DESCRIPTION:What if the way we’ve been taught to think about money isn’t the way God intended? \nThis 11-week class explores what the Bible teaches about money and how those truths often stand in sharp contrast to the financial messages promoted by our culture. Every day we are surrounded by advice\, advertising\, and pressure from the world that shapes how we think about spending\, saving\, and success. \nThis study explores biblical principles for managing money and helps us develop the discernment needed to recognize the financial messages and deceptions common in our culture. \nJoin us as we learn how to align our financial decisions with God’s wisdom rather than the world’s influence. \nThe sessions will cover the following topics:\nSession #1: Management of Money and Our Relationship with God\nSession #2: God’s Promises & Our Responsibility\nSession #3: Secular vs. Biblical Steward\nSession #4: Debt\, Saving and Co-signing\nSession #5: Practical Ways to Get Out of Debt\nSession #6: Budgeting\nSession #7: Obtaining Godly Counsel and Wisdom\nSession #8: Giving\nSession #9: Investing\nSession #10: Developing Godly Attitude Toward Money\nSession #11: Financial Descriptions \nJoin the zoom class here.
URL:https://sovgracechurch.ca/event/financial-management-gods-way/2026-06-08/
END:VEVENT
BEGIN:VEVENT
DTSTART;TZID=America/Toronto:20260609T103000
DTEND;TZID=America/Toronto:20260609T120000
DTSTAMP:20260423T162808
CREATED:20250825T150358Z
LAST-MODIFIED:20250825T150358Z
UID:10005617-1781001000-1781006400@sovgracechurch.ca
SUMMARY:Flourish with Josephine
DESCRIPTION:Women’s Small Group Led by Josephine Wong. \nAll are welcome. \nFor more info\, please contact admin@sovgracechurch.ca
URL:https://sovgracechurch.ca/event/flourish-with-josephine/2026-06-09/
END:VEVENT
BEGIN:VEVENT
DTSTART;TZID=America/Toronto:20260610T180000
DTEND;TZID=America/Toronto:20260610T210000
DTSTAMP:20260423T162808
CREATED:20250915T155422Z
LAST-MODIFIED:20250915T155422Z
UID:10005718-1781114400-1781125200@sovgracechurch.ca
SUMMARY:Alliston CG
DESCRIPTION:This group is hosted and led by Thomas Penner in Alliston. They meet every 2nd Wednesday at 6pm and 4th Sunday at 2pm.  \nFor more information\, please email info@sovgracechurch.ca
URL:https://sovgracechurch.ca/event/alliston-cg/2026-06-10/
END:VEVENT
BEGIN:VEVENT
DTSTART;TZID=America/Toronto:20260610T180000
DTEND;TZID=America/Toronto:20260610T210000
DTSTAMP:20260423T162808
CREATED:20250915T160037Z
LAST-MODIFIED:20250915T160037Z
UID:10005735-1781114400-1781125200@sovgracechurch.ca
SUMMARY:Bradford Marsh CG
DESCRIPTION:This group is hosted and co-led by Galen Tuggy and Justin VanderVeen in the Holland Marsh. They meet every 2nd Wednesday at 6pm and 4th Sunday at 1pm. \nFor more information\, please contact info@sovgracechurch.ca
URL:https://sovgracechurch.ca/event/bradford-marsh-cg/2026-06-10/
END:VEVENT
BEGIN:VEVENT
DTSTART;TZID=America/Toronto:20260610T183000
DTEND;TZID=America/Toronto:20260610T210000
DTSTAMP:20260423T162808
CREATED:20250915T201845Z
LAST-MODIFIED:20250915T201845Z
UID:10005947-1781116200-1781125200@sovgracechurch.ca
SUMMARY:Markham CG
DESCRIPTION:This group is hosted and led by Hiram Chen in Markham. They meet every 2nd and 4th Wednesday of the month at 6:30pm.  \nFor more information\, please contact info@sovgracechurch.ca
URL:https://sovgracechurch.ca/event/markham-cg/2026-06-10/
END:VEVENT
BEGIN:VEVENT
DTSTART;TZID=America/Toronto:20260610T193000
DTEND;TZID=America/Toronto:20260610T210000
DTSTAMP:20260423T162808
CREATED:20250915T161005Z
LAST-MODIFIED:20250915T161005Z
UID:10005770-1781119800-1781125200@sovgracechurch.ca
SUMMARY:King City CG
DESCRIPTION:This group is hosted and led by Steve Kamenar in King City. They meet every 2nd and 4th Wednesday of the month at 7:30pm.  \nFor more information\, please contact info@sovgracechurch.ca
URL:https://sovgracechurch.ca/event/king-city-cg/2026-06-10/
END:VEVENT
BEGIN:VEVENT
DTSTART;TZID=America/Toronto:20260610T193000
DTEND;TZID=America/Toronto:20260610T210000
DTSTAMP:20260423T162808
CREATED:20250915T201011Z
LAST-MODIFIED:20250915T201011Z
UID:10005850-1781119800-1781125200@sovgracechurch.ca
SUMMARY:Newmarket CG
DESCRIPTION:This group is led by Will Brumwell at Mateo & Michelle Rodriguez’s home in Newmarket. They meet every 2nd and 4th Wednesday of the month at 7:30pm.  \nFor more information\, please contact info@sovgracechurch.ca
URL:https://sovgracechurch.ca/event/newmarket-cg/2026-06-10/
END:VEVENT
BEGIN:VEVENT
DTSTART;TZID=America/Toronto:20260610T200000
DTEND;TZID=America/Toronto:20260610T220000
DTSTAMP:20260423T162808
CREATED:20250915T201253Z
LAST-MODIFIED:20250915T201253Z
UID:10005882-1781121600-1781128800@sovgracechurch.ca
SUMMARY:Richmond Hill CG
DESCRIPTION:This group is led by Cyril Wong at the home of Lee and Priscilla Wong in Richmond Hill. They meet every 2nd and 4th Wednesday of the month at 8pm.  \nFor more information\, please contact info@sovgracechurch.ca
URL:https://sovgracechurch.ca/event/richmond-hill-cg/2026-06-10/
END:VEVENT
BEGIN:VEVENT
DTSTART;TZID=America/Toronto:20260611T193000
DTEND;TZID=America/Toronto:20260611T210000
DTSTAMP:20260423T162808
CREATED:20250915T201551Z
LAST-MODIFIED:20250915T201551Z
UID:10005914-1781206200-1781211600@sovgracechurch.ca
SUMMARY:Newmarket South CG
DESCRIPTION:This group is hosted and led by Michael & Christine Chi and Jason Chan. They meet every 2nd and 4th Thursday of the month at 7:30pm.  \nFor more information\, please contact info@sovgracechurch.ca
URL:https://sovgracechurch.ca/event/newmarket-south-cg/2026-06-11/
END:VEVENT
BEGIN:VEVENT
DTSTART;TZID=America/Toronto:20260612T193000
DTEND;TZID=America/Toronto:20260612T213000
DTSTAMP:20260423T162808
CREATED:20251029T195916Z
LAST-MODIFIED:20260120T185828Z
UID:10006002-1781292600-1781299800@sovgracechurch.ca
SUMMARY:Youth Group
DESCRIPTION:Youth Group is open to youth Gr 6-12. Sign up here.
URL:https://sovgracechurch.ca/event/youth-group-3/2026-06-12/
END:VEVENT
BEGIN:VEVENT
DTSTART;TZID=America/Toronto:20260613T083000
DTEND;TZID=America/Toronto:20260613T100000
DTSTAMP:20260423T162808
CREATED:20250908T182711Z
LAST-MODIFIED:20250908T182711Z
UID:10005669-1781339400-1781344800@sovgracechurch.ca
SUMMARY:Teach (Invite Only)
DESCRIPTION:
URL:https://sovgracechurch.ca/event/teach-invite-only-3/2026-06-13/
END:VEVENT
BEGIN:VEVENT
DTSTART;TZID=America/Toronto:20260614T103000
DTEND;TZID=America/Toronto:20260614T123000
DTSTAMP:20260423T162808
CREATED:20240304T210358Z
LAST-MODIFIED:20240304T225237Z
UID:10004693-1781433000-1781440200@sovgracechurch.ca
SUMMARY:Sunday Gathering
DESCRIPTION:Join us! Everyone is welcomed. \nWe gather every Sunday for singing\, teaching and fellowship. \nPre-service prayer is at 9:45am in the family room.
URL:https://sovgracechurch.ca/event/__trashed-7/2026-06-14/
LOCATION:Sovereign Grace Church\, 1466 5th Sideroad\, Bradford\, Ontario\, L3Z4A8\, Canada
CATEGORIES:Sunday Services
GEO:44.044413;-79.62542
X-APPLE-STRUCTURED-LOCATION;VALUE=URI;X-ADDRESS=Sovereign Grace Church 1466 5th Sideroad Bradford Ontario L3Z4A8 Canada;X-APPLE-RADIUS=500;X-TITLE=1466 5th Sideroad:geo:-79.62542,44.044413
END:VEVENT
BEGIN:VEVENT
DTSTART;TZID=America/Toronto:20260614T160000
DTEND;TZID=America/Toronto:20260614T193000
DTSTAMP:20260423T162808
CREATED:20250915T160503Z
LAST-MODIFIED:20250915T160503Z
UID:10005753-1781452800-1781465400@sovgracechurch.ca
SUMMARY:Bradford Town CG
DESCRIPTION:This group is hosted and led by Henry Vroom in Bradford. They meet every 2nd and 4th Sunday of the month at 4pm.  \nFor more information\, please contact info@sovgracechurch.ca
URL:https://sovgracechurch.ca/event/bradford-town-cg/2026-06-14/
END:VEVENT
BEGIN:VEVENT
DTSTART;TZID=America/Toronto:20260615T193000
DTEND;TZID=America/Toronto:20260615T213000
DTSTAMP:20260423T162808
CREATED:20260312T191952Z
LAST-MODIFIED:20260420T225556Z
UID:10006352-1781551800-1781559000@sovgracechurch.ca
SUMMARY:Financial Management - God's Way
DESCRIPTION:What if the way we’ve been taught to think about money isn’t the way God intended? \nThis 11-week class explores what the Bible teaches about money and how those truths often stand in sharp contrast to the financial messages promoted by our culture. Every day we are surrounded by advice\, advertising\, and pressure from the world that shapes how we think about spending\, saving\, and success. \nThis study explores biblical principles for managing money and helps us develop the discernment needed to recognize the financial messages and deceptions common in our culture. \nJoin us as we learn how to align our financial decisions with God’s wisdom rather than the world’s influence. \nThe sessions will cover the following topics:\nSession #1: Management of Money and Our Relationship with God\nSession #2: God’s Promises & Our Responsibility\nSession #3: Secular vs. Biblical Steward\nSession #4: Debt\, Saving and Co-signing\nSession #5: Practical Ways to Get Out of Debt\nSession #6: Budgeting\nSession #7: Obtaining Godly Counsel and Wisdom\nSession #8: Giving\nSession #9: Investing\nSession #10: Developing Godly Attitude Toward Money\nSession #11: Financial Descriptions \nJoin the zoom class here.
URL:https://sovgracechurch.ca/event/financial-management-gods-way/2026-06-15/
END:VEVENT
BEGIN:VEVENT
DTSTART;TZID=America/Toronto:20260617T193000
DTEND;TZID=America/Toronto:20260617T203000
DTSTAMP:20260423T162808
CREATED:20251217T164233Z
LAST-MODIFIED:20251217T164641Z
UID:10006228-1781724600-1781728200@sovgracechurch.ca
SUMMARY:Prayer Meeting
DESCRIPTION:We have prayer meetings on the 1st and 3rd Wednesday of every month. Come pray with us!
URL:https://sovgracechurch.ca/event/prayer-meeting-6/2026-06-17/
END:VEVENT
BEGIN:VEVENT
DTSTART;TZID=America/Toronto:20260618T193000
DTEND;TZID=America/Toronto:20260618T210000
DTSTAMP:20260423T162808
CREATED:20250917T132706Z
LAST-MODIFIED:20260406T130746Z
UID:10005972-1781811000-1781816400@sovgracechurch.ca
SUMMARY:Flourish with Kathy
DESCRIPTION:Women’s Small Group Led by Kathy Hogeveen. \nAll are welcome. \nFor more info\, please contact info@sovgracechurch.ca
URL:https://sovgracechurch.ca/event/flourish-with-kathy-2/2026-06-18/
END:VEVENT
BEGIN:VEVENT
DTSTART;TZID=America/Toronto:20260620T064500
DTEND;TZID=America/Toronto:20260620T080000
DTSTAMP:20260423T162808
CREATED:20260218T151022Z
LAST-MODIFIED:20260218T151022Z
UID:10006333-1781937900-1781942400@sovgracechurch.ca
SUMMARY:Men's Ministry Meeting
DESCRIPTION:All men are welcomed to meet together to fellowship.
URL:https://sovgracechurch.ca/event/mens-ministry-meeting-2/2026-06-20/
END:VEVENT
BEGIN:VEVENT
DTSTART;TZID=America/Toronto:20260621T103000
DTEND;TZID=America/Toronto:20260621T123000
DTSTAMP:20260423T162808
CREATED:20240304T210358Z
LAST-MODIFIED:20240304T225237Z
UID:10004694-1782037800-1782045000@sovgracechurch.ca
SUMMARY:Sunday Gathering
DESCRIPTION:Join us! Everyone is welcomed. \nWe gather every Sunday for singing\, teaching and fellowship. \nPre-service prayer is at 9:45am in the family room.
URL:https://sovgracechurch.ca/event/__trashed-7/2026-06-21/
LOCATION:Sovereign Grace Church\, 1466 5th Sideroad\, Bradford\, Ontario\, L3Z4A8\, Canada
CATEGORIES:Sunday Services
GEO:44.044413;-79.62542
X-APPLE-STRUCTURED-LOCATION;VALUE=URI;X-ADDRESS=Sovereign Grace Church 1466 5th Sideroad Bradford Ontario L3Z4A8 Canada;X-APPLE-RADIUS=500;X-TITLE=1466 5th Sideroad:geo:-79.62542,44.044413
END:VEVENT
BEGIN:VEVENT
DTSTART;TZID=America/Toronto:20260623T103000
DTEND;TZID=America/Toronto:20260623T120000
DTSTAMP:20260423T162808
CREATED:20250825T150358Z
LAST-MODIFIED:20250825T150358Z
UID:10005618-1782210600-1782216000@sovgracechurch.ca
SUMMARY:Flourish with Josephine
DESCRIPTION:Women’s Small Group Led by Josephine Wong. \nAll are welcome. \nFor more info\, please contact admin@sovgracechurch.ca
URL:https://sovgracechurch.ca/event/flourish-with-josephine/2026-06-23/
END:VEVENT
BEGIN:VEVENT
DTSTART;TZID=America/Toronto:20260624T183000
DTEND;TZID=America/Toronto:20260624T210000
DTSTAMP:20260423T162808
CREATED:20250915T201845Z
LAST-MODIFIED:20250915T201845Z
UID:10005948-1782325800-1782334800@sovgracechurch.ca
SUMMARY:Markham CG
DESCRIPTION:This group is hosted and led by Hiram Chen in Markham. They meet every 2nd and 4th Wednesday of the month at 6:30pm.  \nFor more information\, please contact info@sovgracechurch.ca
URL:https://sovgracechurch.ca/event/markham-cg/2026-06-24/
END:VEVENT
BEGIN:VEVENT
DTSTART;TZID=America/Toronto:20260624T193000
DTEND;TZID=America/Toronto:20260624T210000
DTSTAMP:20260423T162808
CREATED:20250915T161005Z
LAST-MODIFIED:20250915T161005Z
UID:10005771-1782329400-1782334800@sovgracechurch.ca
SUMMARY:King City CG
DESCRIPTION:This group is hosted and led by Steve Kamenar in King City. They meet every 2nd and 4th Wednesday of the month at 7:30pm.  \nFor more information\, please contact info@sovgracechurch.ca
URL:https://sovgracechurch.ca/event/king-city-cg/2026-06-24/
END:VEVENT
BEGIN:VEVENT
DTSTART;TZID=America/Toronto:20260624T193000
DTEND;TZID=America/Toronto:20260624T210000
DTSTAMP:20260423T162808
CREATED:20250915T201011Z
LAST-MODIFIED:20250915T201011Z
UID:10005851-1782329400-1782334800@sovgracechurch.ca
SUMMARY:Newmarket CG
DESCRIPTION:This group is led by Will Brumwell at Mateo & Michelle Rodriguez’s home in Newmarket. They meet every 2nd and 4th Wednesday of the month at 7:30pm.  \nFor more information\, please contact info@sovgracechurch.ca
URL:https://sovgracechurch.ca/event/newmarket-cg/2026-06-24/
END:VEVENT
BEGIN:VEVENT
DTSTART;TZID=America/Toronto:20260624T200000
DTEND;TZID=America/Toronto:20260624T220000
DTSTAMP:20260423T162808
CREATED:20250915T201253Z
LAST-MODIFIED:20250915T201253Z
UID:10005883-1782331200-1782338400@sovgracechurch.ca
SUMMARY:Richmond Hill CG
DESCRIPTION:This group is led by Cyril Wong at the home of Lee and Priscilla Wong in Richmond Hill. They meet every 2nd and 4th Wednesday of the month at 8pm.  \nFor more information\, please contact info@sovgracechurch.ca
URL:https://sovgracechurch.ca/event/richmond-hill-cg/2026-06-24/
END:VEVENT
BEGIN:VEVENT
DTSTART;TZID=America/Toronto:20260625T193000
DTEND;TZID=America/Toronto:20260625T210000
DTSTAMP:20260423T162808
CREATED:20250915T201551Z
LAST-MODIFIED:20250915T201551Z
UID:10005915-1782415800-1782421200@sovgracechurch.ca
SUMMARY:Newmarket South CG
DESCRIPTION:This group is hosted and led by Michael & Christine Chi and Jason Chan. They meet every 2nd and 4th Thursday of the month at 7:30pm.  \nFor more information\, please contact info@sovgracechurch.ca
URL:https://sovgracechurch.ca/event/newmarket-south-cg/2026-06-25/
END:VEVENT
BEGIN:VEVENT
DTSTART;TZID=America/Toronto:20260628T103000
DTEND;TZID=America/Toronto:20260628T123000
DTSTAMP:20260423T162808
CREATED:20240304T210358Z
LAST-MODIFIED:20240304T225237Z
UID:10004695-1782642600-1782649800@sovgracechurch.ca
SUMMARY:Sunday Gathering
DESCRIPTION:Join us! Everyone is welcomed. \nWe gather every Sunday for singing\, teaching and fellowship. \nPre-service prayer is at 9:45am in the family room.
URL:https://sovgracechurch.ca/event/__trashed-7/2026-06-28/
LOCATION:Sovereign Grace Church\, 1466 5th Sideroad\, Bradford\, Ontario\, L3Z4A8\, Canada
CATEGORIES:Sunday Services
GEO:44.044413;-79.62542
X-APPLE-STRUCTURED-LOCATION;VALUE=URI;X-ADDRESS=Sovereign Grace Church 1466 5th Sideroad Bradford Ontario L3Z4A8 Canada;X-APPLE-RADIUS=500;X-TITLE=1466 5th Sideroad:geo:-79.62542,44.044413
END:VEVENT
BEGIN:VEVENT
DTSTART;TZID=America/Toronto:20260628T123000
DTEND;TZID=America/Toronto:20260628T133000
DTSTAMP:20260423T162808
CREATED:20250827T183725Z
LAST-MODIFIED:20260220T130951Z
UID:10005659-1782649800-1782653400@sovgracechurch.ca
SUMMARY:Baptism Class
DESCRIPTION:
URL:https://sovgracechurch.ca/event/baptism-class-6/
END:VEVENT
BEGIN:VEVENT
DTSTART;TZID=America/Toronto:20260628T130000
DTEND;TZID=America/Toronto:20260628T160000
DTSTAMP:20260423T162808
CREATED:20250915T160037Z
LAST-MODIFIED:20250915T160037Z
UID:10005736-1782651600-1782662400@sovgracechurch.ca
SUMMARY:Bradford Marsh CG
DESCRIPTION:This group is hosted and co-led by Galen Tuggy and Justin VanderVeen in the Holland Marsh. They meet every 2nd Wednesday at 6pm and 4th Sunday at 1pm. \nFor more information\, please contact info@sovgracechurch.ca
URL:https://sovgracechurch.ca/event/bradford-marsh-cg/2026-06-28/
END:VEVENT
BEGIN:VEVENT
DTSTART;TZID=America/Toronto:20260628T140000
DTEND;TZID=America/Toronto:20260628T170000
DTSTAMP:20260423T162808
CREATED:20250915T155422Z
LAST-MODIFIED:20250915T155422Z
UID:10005719-1782655200-1782666000@sovgracechurch.ca
SUMMARY:Alliston CG
DESCRIPTION:This group is hosted and led by Thomas Penner in Alliston. They meet every 2nd Wednesday at 6pm and 4th Sunday at 2pm.  \nFor more information\, please email info@sovgracechurch.ca
URL:https://sovgracechurch.ca/event/alliston-cg/2026-06-28/
END:VEVENT
BEGIN:VEVENT
DTSTART;TZID=America/Toronto:20260628T160000
DTEND;TZID=America/Toronto:20260628T193000
DTSTAMP:20260423T162808
CREATED:20250915T160503Z
LAST-MODIFIED:20250915T160503Z
UID:10005754-1782662400-1782675000@sovgracechurch.ca
SUMMARY:Bradford Town CG
DESCRIPTION:This group is hosted and led by Henry Vroom in Bradford. They meet every 2nd and 4th Sunday of the month at 4pm.  \nFor more information\, please contact info@sovgracechurch.ca
URL:https://sovgracechurch.ca/event/bradford-town-cg/2026-06-28/
END:VEVENT
END:VCALENDAR