BEGIN:VCALENDAR
VERSION:2.0
PRODID:-//Sovereign Grace Church - ECPv6.15.20//NONSGML v1.0//EN
CALSCALE:GREGORIAN
METHOD:PUBLISH
X-ORIGINAL-URL:https://sovgracechurch.ca
X-WR-CALDESC:Events for Sovereign Grace Church
REFRESH-INTERVAL;VALUE=DURATION:PT1H
X-Robots-Tag:noindex
X-PUBLISHED-TTL:PT1H
BEGIN:VTIMEZONE
TZID:America/Toronto
BEGIN:DAYLIGHT
TZOFFSETFROM:-0500
TZOFFSETTO:-0400
TZNAME:EDT
DTSTART:20250309T070000
END:DAYLIGHT
BEGIN:STANDARD
TZOFFSETFROM:-0400
TZOFFSETTO:-0500
TZNAME:EST
DTSTART:20251102T060000
END:STANDARD
BEGIN:DAYLIGHT
TZOFFSETFROM:-0500
TZOFFSETTO:-0400
TZNAME:EDT
DTSTART:20260308T070000
END:DAYLIGHT
BEGIN:STANDARD
TZOFFSETFROM:-0400
TZOFFSETTO:-0500
TZNAME:EST
DTSTART:20261101T060000
END:STANDARD
BEGIN:DAYLIGHT
TZOFFSETFROM:-0500
TZOFFSETTO:-0400
TZNAME:EDT
DTSTART:20270314T070000
END:DAYLIGHT
BEGIN:STANDARD
TZOFFSETFROM:-0400
TZOFFSETTO:-0500
TZNAME:EST
DTSTART:20271107T060000
END:STANDARD
END:VTIMEZONE
BEGIN:VEVENT
DTSTART;TZID=America/Toronto:20260701T193000
DTEND;TZID=America/Toronto:20260701T203000
DTSTAMP:20260423T174430
CREATED:20251217T164536Z
LAST-MODIFIED:20251217T164536Z
UID:10006169-1782934200-1782937800@sovgracechurch.ca
SUMMARY:Prayer Meeting
DESCRIPTION:We have prayer meetings on the 1st and 3rd Wednesday of every month. Come pray with us!
URL:https://sovgracechurch.ca/event/prayer-meeting-5/2026-07-01/
END:VEVENT
BEGIN:VEVENT
DTSTART;TZID=America/Toronto:20260704T093000
DTEND;TZID=America/Toronto:20260704T143000
DTSTAMP:20260423T174430
CREATED:20250827T183701Z
LAST-MODIFIED:20260420T184413Z
UID:10005658-1783157400-1783175400@sovgracechurch.ca
SUMMARY:Beginning the Journey Membership Class
DESCRIPTION:Join our membership class at the church called “Beginning the Journey”. The purpose of this class is to give you a big picture view of our church’s doctrine and values so that you can make an informed decision about whether to make Sovereign Grace your church home. \nSign up here.
URL:https://sovgracechurch.ca/event/beginning-the-journey-membership-class-6/
END:VEVENT
BEGIN:VEVENT
DTSTART;TZID=America/Toronto:20260705T103000
DTEND;TZID=America/Toronto:20260705T123000
DTSTAMP:20260423T174430
CREATED:20240304T210358Z
LAST-MODIFIED:20240304T225237Z
UID:10004696-1783247400-1783254600@sovgracechurch.ca
SUMMARY:Sunday Gathering
DESCRIPTION:Join us! Everyone is welcomed. \nWe gather every Sunday for singing\, teaching and fellowship. \nPre-service prayer is at 9:45am in the family room.
URL:https://sovgracechurch.ca/event/__trashed-7/2026-07-05/
LOCATION:Sovereign Grace Church\, 1466 5th Sideroad\, Bradford\, Ontario\, L3Z4A8\, Canada
CATEGORIES:Sunday Services
GEO:44.044413;-79.62542
X-APPLE-STRUCTURED-LOCATION;VALUE=URI;X-ADDRESS=Sovereign Grace Church 1466 5th Sideroad Bradford Ontario L3Z4A8 Canada;X-APPLE-RADIUS=500;X-TITLE=1466 5th Sideroad:geo:-79.62542,44.044413
END:VEVENT
BEGIN:VEVENT
DTSTART;TZID=America/Toronto:20260705T160000
DTEND;TZID=America/Toronto:20260705T170000
DTSTAMP:20260423T174430
CREATED:20260323T141547Z
LAST-MODIFIED:20260323T141547Z
UID:10006357-1783267200-1783270800@sovgracechurch.ca
SUMMARY:Newmarket Church Planting Meetings
DESCRIPTION:This gathering is for anyone interested in learning how to pray and support the sending effort\, as well as those considering joining the church plant. Join us on Zoom at 4pm.
URL:https://sovgracechurch.ca/event/newmarket-church-planting-meetings/2026-07-05/
END:VEVENT
BEGIN:VEVENT
DTSTART;TZID=America/Toronto:20260712T103000
DTEND;TZID=America/Toronto:20260712T123000
DTSTAMP:20260423T174430
CREATED:20240304T210358Z
LAST-MODIFIED:20240304T225237Z
UID:10004697-1783852200-1783859400@sovgracechurch.ca
SUMMARY:Sunday Gathering
DESCRIPTION:Join us! Everyone is welcomed. \nWe gather every Sunday for singing\, teaching and fellowship. \nPre-service prayer is at 9:45am in the family room.
URL:https://sovgracechurch.ca/event/__trashed-7/2026-07-12/
LOCATION:Sovereign Grace Church\, 1466 5th Sideroad\, Bradford\, Ontario\, L3Z4A8\, Canada
CATEGORIES:Sunday Services
GEO:44.044413;-79.62542
X-APPLE-STRUCTURED-LOCATION;VALUE=URI;X-ADDRESS=Sovereign Grace Church 1466 5th Sideroad Bradford Ontario L3Z4A8 Canada;X-APPLE-RADIUS=500;X-TITLE=1466 5th Sideroad:geo:-79.62542,44.044413
END:VEVENT
BEGIN:VEVENT
DTSTART;TZID=America/Toronto:20260715T193000
DTEND;TZID=America/Toronto:20260715T203000
DTSTAMP:20260423T174430
CREATED:20251217T164233Z
LAST-MODIFIED:20251217T164641Z
UID:10006229-1784143800-1784147400@sovgracechurch.ca
SUMMARY:Prayer Meeting
DESCRIPTION:We have prayer meetings on the 1st and 3rd Wednesday of every month. Come pray with us!
URL:https://sovgracechurch.ca/event/prayer-meeting-6/2026-07-15/
END:VEVENT
BEGIN:VEVENT
DTSTART;TZID=America/Toronto:20260719T103000
DTEND;TZID=America/Toronto:20260719T123000
DTSTAMP:20260423T174430
CREATED:20240304T210358Z
LAST-MODIFIED:20240304T225237Z
UID:10004698-1784457000-1784464200@sovgracechurch.ca
SUMMARY:Sunday Gathering
DESCRIPTION:Join us! Everyone is welcomed. \nWe gather every Sunday for singing\, teaching and fellowship. \nPre-service prayer is at 9:45am in the family room.
URL:https://sovgracechurch.ca/event/__trashed-7/2026-07-19/
LOCATION:Sovereign Grace Church\, 1466 5th Sideroad\, Bradford\, Ontario\, L3Z4A8\, Canada
CATEGORIES:Sunday Services
GEO:44.044413;-79.62542
X-APPLE-STRUCTURED-LOCATION;VALUE=URI;X-ADDRESS=Sovereign Grace Church 1466 5th Sideroad Bradford Ontario L3Z4A8 Canada;X-APPLE-RADIUS=500;X-TITLE=1466 5th Sideroad:geo:-79.62542,44.044413
END:VEVENT
BEGIN:VEVENT
DTSTART;TZID=America/Toronto:20260726T103000
DTEND;TZID=America/Toronto:20260726T123000
DTSTAMP:20260423T174430
CREATED:20240304T210358Z
LAST-MODIFIED:20240304T225237Z
UID:10004699-1785061800-1785069000@sovgracechurch.ca
SUMMARY:Sunday Gathering
DESCRIPTION:Join us! Everyone is welcomed. \nWe gather every Sunday for singing\, teaching and fellowship. \nPre-service prayer is at 9:45am in the family room.
URL:https://sovgracechurch.ca/event/__trashed-7/2026-07-26/
LOCATION:Sovereign Grace Church\, 1466 5th Sideroad\, Bradford\, Ontario\, L3Z4A8\, Canada
CATEGORIES:Sunday Services
GEO:44.044413;-79.62542
X-APPLE-STRUCTURED-LOCATION;VALUE=URI;X-ADDRESS=Sovereign Grace Church 1466 5th Sideroad Bradford Ontario L3Z4A8 Canada;X-APPLE-RADIUS=500;X-TITLE=1466 5th Sideroad:geo:-79.62542,44.044413
END:VEVENT
END:VCALENDAR