BEGIN:VCALENDAR
VERSION:2.0
PRODID:-//Sovereign Grace Church - ECPv6.15.20//NONSGML v1.0//EN
CALSCALE:GREGORIAN
METHOD:PUBLISH
X-ORIGINAL-URL:https://sovgracechurch.ca
X-WR-CALDESC:Events for Sovereign Grace Church
REFRESH-INTERVAL;VALUE=DURATION:PT1H
X-Robots-Tag:noindex
X-PUBLISHED-TTL:PT1H
BEGIN:VTIMEZONE
TZID:America/Toronto
BEGIN:DAYLIGHT
TZOFFSETFROM:-0500
TZOFFSETTO:-0400
TZNAME:EDT
DTSTART:20250309T070000
END:DAYLIGHT
BEGIN:STANDARD
TZOFFSETFROM:-0400
TZOFFSETTO:-0500
TZNAME:EST
DTSTART:20251102T060000
END:STANDARD
BEGIN:DAYLIGHT
TZOFFSETFROM:-0500
TZOFFSETTO:-0400
TZNAME:EDT
DTSTART:20260308T070000
END:DAYLIGHT
BEGIN:STANDARD
TZOFFSETFROM:-0400
TZOFFSETTO:-0500
TZNAME:EST
DTSTART:20261101T060000
END:STANDARD
BEGIN:DAYLIGHT
TZOFFSETFROM:-0500
TZOFFSETTO:-0400
TZNAME:EDT
DTSTART:20270314T070000
END:DAYLIGHT
BEGIN:STANDARD
TZOFFSETFROM:-0400
TZOFFSETTO:-0500
TZNAME:EST
DTSTART:20271107T060000
END:STANDARD
END:VTIMEZONE
BEGIN:VEVENT
DTSTART;TZID=America/Toronto:20260902T193000
DTEND;TZID=America/Toronto:20260902T203000
DTSTAMP:20260423T202455
CREATED:20251217T164536Z
LAST-MODIFIED:20251217T164536Z
UID:10006171-1788377400-1788381000@sovgracechurch.ca
SUMMARY:Prayer Meeting
DESCRIPTION:We have prayer meetings on the 1st and 3rd Wednesday of every month. Come pray with us!
URL:https://sovgracechurch.ca/event/prayer-meeting-5/2026-09-02/
END:VEVENT
BEGIN:VEVENT
DTSTART;TZID=America/Toronto:20260906T090000
DTEND;TZID=America/Toronto:20260906T100000
DTSTAMP:20260423T202455
CREATED:20250827T183621Z
LAST-MODIFIED:20250827T183621Z
UID:10005645-1788685200-1788688800@sovgracechurch.ca
SUMMARY:Foundations Class
DESCRIPTION:
URL:https://sovgracechurch.ca/event/foundations-class-3/2026-09-06/
END:VEVENT
BEGIN:VEVENT
DTSTART;TZID=America/Toronto:20260906T103000
DTEND;TZID=America/Toronto:20260906T123000
DTSTAMP:20260423T202455
CREATED:20240304T210358Z
LAST-MODIFIED:20240304T225237Z
UID:10004705-1788690600-1788697800@sovgracechurch.ca
SUMMARY:Sunday Gathering
DESCRIPTION:Join us! Everyone is welcomed. \nWe gather every Sunday for singing\, teaching and fellowship. \nPre-service prayer is at 9:45am in the family room.
URL:https://sovgracechurch.ca/event/__trashed-7/2026-09-06/
LOCATION:Sovereign Grace Church\, 1466 5th Sideroad\, Bradford\, Ontario\, L3Z4A8\, Canada
CATEGORIES:Sunday Services
GEO:44.044413;-79.62542
X-APPLE-STRUCTURED-LOCATION;VALUE=URI;X-ADDRESS=Sovereign Grace Church 1466 5th Sideroad Bradford Ontario L3Z4A8 Canada;X-APPLE-RADIUS=500;X-TITLE=1466 5th Sideroad:geo:-79.62542,44.044413
END:VEVENT
BEGIN:VEVENT
DTSTART;TZID=America/Toronto:20260913T090000
DTEND;TZID=America/Toronto:20260913T100000
DTSTAMP:20260423T202455
CREATED:20250827T183621Z
LAST-MODIFIED:20250827T183621Z
UID:10005646-1789290000-1789293600@sovgracechurch.ca
SUMMARY:Foundations Class
DESCRIPTION:
URL:https://sovgracechurch.ca/event/foundations-class-3/2026-09-13/
END:VEVENT
BEGIN:VEVENT
DTSTART;TZID=America/Toronto:20260913T103000
DTEND;TZID=America/Toronto:20260913T123000
DTSTAMP:20260423T202455
CREATED:20240304T210358Z
LAST-MODIFIED:20240304T225237Z
UID:10004706-1789295400-1789302600@sovgracechurch.ca
SUMMARY:Sunday Gathering
DESCRIPTION:Join us! Everyone is welcomed. \nWe gather every Sunday for singing\, teaching and fellowship. \nPre-service prayer is at 9:45am in the family room.
URL:https://sovgracechurch.ca/event/__trashed-7/2026-09-13/
LOCATION:Sovereign Grace Church\, 1466 5th Sideroad\, Bradford\, Ontario\, L3Z4A8\, Canada
CATEGORIES:Sunday Services
GEO:44.044413;-79.62542
X-APPLE-STRUCTURED-LOCATION;VALUE=URI;X-ADDRESS=Sovereign Grace Church 1466 5th Sideroad Bradford Ontario L3Z4A8 Canada;X-APPLE-RADIUS=500;X-TITLE=1466 5th Sideroad:geo:-79.62542,44.044413
END:VEVENT
BEGIN:VEVENT
DTSTART;TZID=America/Toronto:20260913T103000
DTEND;TZID=America/Toronto:20260913T123000
DTSTAMP:20260423T202455
CREATED:20250827T183841Z
LAST-MODIFIED:20260218T152645Z
UID:10004717-1789295400-1789302600@sovgracechurch.ca
SUMMARY:New Member Sunday + Baptisms
DESCRIPTION:Join us! Everyone is welcomed. \nWe gather every Sunday for singing\, teaching and fellowship. \nPre-service prayer is at 9:45am in the family room.
URL:https://sovgracechurch.ca/event/__trashed-7-4/
LOCATION:Sovereign Grace Church\, 1466 5th Sideroad\, Bradford\, Ontario\, L3Z4A8\, Canada
CATEGORIES:Sunday Services
GEO:44.044413;-79.62542
X-APPLE-STRUCTURED-LOCATION;VALUE=URI;X-ADDRESS=Sovereign Grace Church 1466 5th Sideroad Bradford Ontario L3Z4A8 Canada;X-APPLE-RADIUS=500;X-TITLE=1466 5th Sideroad:geo:-79.62542,44.044413
END:VEVENT
BEGIN:VEVENT
DTSTART;TZID=America/Toronto:20260916T193000
DTEND;TZID=America/Toronto:20260916T203000
DTSTAMP:20260423T202455
CREATED:20251217T164233Z
LAST-MODIFIED:20251217T164641Z
UID:10006231-1789587000-1789590600@sovgracechurch.ca
SUMMARY:Prayer Meeting
DESCRIPTION:We have prayer meetings on the 1st and 3rd Wednesday of every month. Come pray with us!
URL:https://sovgracechurch.ca/event/prayer-meeting-6/2026-09-16/
END:VEVENT
BEGIN:VEVENT
DTSTART;TZID=America/Toronto:20260920T090000
DTEND;TZID=America/Toronto:20260920T100000
DTSTAMP:20260423T202455
CREATED:20250827T183621Z
LAST-MODIFIED:20250827T183621Z
UID:10005647-1789894800-1789898400@sovgracechurch.ca
SUMMARY:Foundations Class
DESCRIPTION:
URL:https://sovgracechurch.ca/event/foundations-class-3/2026-09-20/
END:VEVENT
BEGIN:VEVENT
DTSTART;TZID=America/Toronto:20260920T103000
DTEND;TZID=America/Toronto:20260920T123000
DTSTAMP:20260423T202455
CREATED:20240304T210358Z
LAST-MODIFIED:20240304T225237Z
UID:10004707-1789900200-1789907400@sovgracechurch.ca
SUMMARY:Sunday Gathering
DESCRIPTION:Join us! Everyone is welcomed. \nWe gather every Sunday for singing\, teaching and fellowship. \nPre-service prayer is at 9:45am in the family room.
URL:https://sovgracechurch.ca/event/__trashed-7/2026-09-20/
LOCATION:Sovereign Grace Church\, 1466 5th Sideroad\, Bradford\, Ontario\, L3Z4A8\, Canada
CATEGORIES:Sunday Services
GEO:44.044413;-79.62542
X-APPLE-STRUCTURED-LOCATION;VALUE=URI;X-ADDRESS=Sovereign Grace Church 1466 5th Sideroad Bradford Ontario L3Z4A8 Canada;X-APPLE-RADIUS=500;X-TITLE=1466 5th Sideroad:geo:-79.62542,44.044413
END:VEVENT
BEGIN:VEVENT
DTSTART;TZID=America/Toronto:20260927T090000
DTEND;TZID=America/Toronto:20260927T100000
DTSTAMP:20260423T202455
CREATED:20250827T183621Z
LAST-MODIFIED:20250827T183621Z
UID:10005648-1790499600-1790503200@sovgracechurch.ca
SUMMARY:Foundations Class
DESCRIPTION:
URL:https://sovgracechurch.ca/event/foundations-class-3/2026-09-27/
END:VEVENT
BEGIN:VEVENT
DTSTART;TZID=America/Toronto:20260927T103000
DTEND;TZID=America/Toronto:20260927T123000
DTSTAMP:20260423T202455
CREATED:20240304T210358Z
LAST-MODIFIED:20240304T225237Z
UID:10004708-1790505000-1790512200@sovgracechurch.ca
SUMMARY:Sunday Gathering
DESCRIPTION:Join us! Everyone is welcomed. \nWe gather every Sunday for singing\, teaching and fellowship. \nPre-service prayer is at 9:45am in the family room.
URL:https://sovgracechurch.ca/event/__trashed-7/2026-09-27/
LOCATION:Sovereign Grace Church\, 1466 5th Sideroad\, Bradford\, Ontario\, L3Z4A8\, Canada
CATEGORIES:Sunday Services
GEO:44.044413;-79.62542
X-APPLE-STRUCTURED-LOCATION;VALUE=URI;X-ADDRESS=Sovereign Grace Church 1466 5th Sideroad Bradford Ontario L3Z4A8 Canada;X-APPLE-RADIUS=500;X-TITLE=1466 5th Sideroad:geo:-79.62542,44.044413
END:VEVENT
END:VCALENDAR