BEGIN:VCALENDAR
VERSION:2.0
PRODID:-//Sovereign Grace Church - ECPv6.15.20//NONSGML v1.0//EN
CALSCALE:GREGORIAN
METHOD:PUBLISH
X-ORIGINAL-URL:https://sovgracechurch.ca
X-WR-CALDESC:Events for Sovereign Grace Church
REFRESH-INTERVAL;VALUE=DURATION:PT1H
X-Robots-Tag:noindex
X-PUBLISHED-TTL:PT1H
BEGIN:VTIMEZONE
TZID:America/Toronto
BEGIN:DAYLIGHT
TZOFFSETFROM:-0500
TZOFFSETTO:-0400
TZNAME:EDT
DTSTART:20250309T070000
END:DAYLIGHT
BEGIN:STANDARD
TZOFFSETFROM:-0400
TZOFFSETTO:-0500
TZNAME:EST
DTSTART:20251102T060000
END:STANDARD
BEGIN:DAYLIGHT
TZOFFSETFROM:-0500
TZOFFSETTO:-0400
TZNAME:EDT
DTSTART:20260308T070000
END:DAYLIGHT
BEGIN:STANDARD
TZOFFSETFROM:-0400
TZOFFSETTO:-0500
TZNAME:EST
DTSTART:20261101T060000
END:STANDARD
BEGIN:DAYLIGHT
TZOFFSETFROM:-0500
TZOFFSETTO:-0400
TZNAME:EDT
DTSTART:20270314T070000
END:DAYLIGHT
BEGIN:STANDARD
TZOFFSETFROM:-0400
TZOFFSETTO:-0500
TZNAME:EST
DTSTART:20271107T060000
END:STANDARD
END:VTIMEZONE
BEGIN:VEVENT
DTSTART;TZID=America/Toronto:20261202T193000
DTEND;TZID=America/Toronto:20261202T203000
DTSTAMP:20260424T011015
CREATED:20251217T164536Z
LAST-MODIFIED:20251217T164536Z
UID:10006174-1796239800-1796243400@sovgracechurch.ca
SUMMARY:Prayer Meeting
DESCRIPTION:We have prayer meetings on the 1st and 3rd Wednesday of every month. Come pray with us!
URL:https://sovgracechurch.ca/event/prayer-meeting-5/2026-12-02/
END:VEVENT
BEGIN:VEVENT
DTSTART;TZID=America/Toronto:20261204T200000
DTEND;TZID=America/Toronto:20261204T220000
DTSTAMP:20260424T011015
CREATED:20260226T203934Z
LAST-MODIFIED:20260303T140819Z
UID:10006341-1796414400-1796421600@sovgracechurch.ca
SUMMARY:Singles Theology Night
DESCRIPTION:All singles are invited to spend the evening with Pastor Josh\, talking about theology and having fellowship! \nThis is held on the first Friday (or occasionally\, Saturday) of the month! \nPlease reach out to admin@sovgracechurch.ca to RSVP.
URL:https://sovgracechurch.ca/event/singles-theology-night/2026-12-04/
END:VEVENT
BEGIN:VEVENT
DTSTART;TZID=America/Toronto:20261206T103000
DTEND;TZID=America/Toronto:20261206T123000
DTSTAMP:20260424T011015
CREATED:20240304T210358Z
LAST-MODIFIED:20240304T225237Z
UID:10004718-1796553000-1796560200@sovgracechurch.ca
SUMMARY:Sunday Gathering
DESCRIPTION:Join us! Everyone is welcomed. \nWe gather every Sunday for singing\, teaching and fellowship. \nPre-service prayer is at 9:45am in the family room.
URL:https://sovgracechurch.ca/event/__trashed-7/2026-12-06/
LOCATION:Sovereign Grace Church\, 1466 5th Sideroad\, Bradford\, Ontario\, L3Z4A8\, Canada
CATEGORIES:Sunday Services
GEO:44.044413;-79.62542
X-APPLE-STRUCTURED-LOCATION;VALUE=URI;X-ADDRESS=Sovereign Grace Church 1466 5th Sideroad Bradford Ontario L3Z4A8 Canada;X-APPLE-RADIUS=500;X-TITLE=1466 5th Sideroad:geo:-79.62542,44.044413
END:VEVENT
BEGIN:VEVENT
DTSTART;TZID=America/Toronto:20261213T103000
DTEND;TZID=America/Toronto:20261213T123000
DTSTAMP:20260424T011015
CREATED:20240304T210358Z
LAST-MODIFIED:20240304T225237Z
UID:10004719-1797157800-1797165000@sovgracechurch.ca
SUMMARY:Sunday Gathering
DESCRIPTION:Join us! Everyone is welcomed. \nWe gather every Sunday for singing\, teaching and fellowship. \nPre-service prayer is at 9:45am in the family room.
URL:https://sovgracechurch.ca/event/__trashed-7/2026-12-13/
LOCATION:Sovereign Grace Church\, 1466 5th Sideroad\, Bradford\, Ontario\, L3Z4A8\, Canada
CATEGORIES:Sunday Services
GEO:44.044413;-79.62542
X-APPLE-STRUCTURED-LOCATION;VALUE=URI;X-ADDRESS=Sovereign Grace Church 1466 5th Sideroad Bradford Ontario L3Z4A8 Canada;X-APPLE-RADIUS=500;X-TITLE=1466 5th Sideroad:geo:-79.62542,44.044413
END:VEVENT
BEGIN:VEVENT
DTSTART;TZID=America/Toronto:20261216T193000
DTEND;TZID=America/Toronto:20261216T203000
DTSTAMP:20260424T011015
CREATED:20251217T164233Z
LAST-MODIFIED:20251217T164641Z
UID:10006234-1797449400-1797453000@sovgracechurch.ca
SUMMARY:Prayer Meeting
DESCRIPTION:We have prayer meetings on the 1st and 3rd Wednesday of every month. Come pray with us!
URL:https://sovgracechurch.ca/event/prayer-meeting-6/2026-12-16/
END:VEVENT
BEGIN:VEVENT
DTSTART;TZID=America/Toronto:20261220T103000
DTEND;TZID=America/Toronto:20261220T123000
DTSTAMP:20260424T011015
CREATED:20240304T210358Z
LAST-MODIFIED:20240304T225237Z
UID:10004720-1797762600-1797769800@sovgracechurch.ca
SUMMARY:Sunday Gathering
DESCRIPTION:Join us! Everyone is welcomed. \nWe gather every Sunday for singing\, teaching and fellowship. \nPre-service prayer is at 9:45am in the family room.
URL:https://sovgracechurch.ca/event/__trashed-7/2026-12-20/
LOCATION:Sovereign Grace Church\, 1466 5th Sideroad\, Bradford\, Ontario\, L3Z4A8\, Canada
CATEGORIES:Sunday Services
GEO:44.044413;-79.62542
X-APPLE-STRUCTURED-LOCATION;VALUE=URI;X-ADDRESS=Sovereign Grace Church 1466 5th Sideroad Bradford Ontario L3Z4A8 Canada;X-APPLE-RADIUS=500;X-TITLE=1466 5th Sideroad:geo:-79.62542,44.044413
END:VEVENT
BEGIN:VEVENT
DTSTART;TZID=America/Toronto:20261224T163000
DTEND;TZID=America/Toronto:20261224T173000
DTSTAMP:20260424T011015
CREATED:20250827T183916Z
LAST-MODIFIED:20251210T163844Z
UID:10005661-1798129800-1798133400@sovgracechurch.ca
SUMMARY:Christmas Eve Service
DESCRIPTION:
URL:https://sovgracechurch.ca/event/christmas-eve-service-3/
ATTACH;FMTTYPE=image/png:https://sovgracechurch.ca/wp-content/uploads/2025/08/WebBanner.png
END:VEVENT
BEGIN:VEVENT
DTSTART;TZID=America/Toronto:20261227T103000
DTEND;TZID=America/Toronto:20261227T123000
DTSTAMP:20260424T011015
CREATED:20250827T183951Z
LAST-MODIFIED:20250827T183951Z
UID:10004721-1798367400-1798374600@sovgracechurch.ca
SUMMARY:Testimony Sunday
DESCRIPTION:Join us! Everyone is welcomed. \nWe gather every Sunday for singing\, teaching and fellowship. \nPre-service prayer is at 9:45am in the family room.
URL:https://sovgracechurch.ca/event/__trashed-7-5/
LOCATION:Sovereign Grace Church\, 1466 5th Sideroad\, Bradford\, Ontario\, L3Z4A8\, Canada
CATEGORIES:Sunday Services
GEO:44.044413;-79.62542
X-APPLE-STRUCTURED-LOCATION;VALUE=URI;X-ADDRESS=Sovereign Grace Church 1466 5th Sideroad Bradford Ontario L3Z4A8 Canada;X-APPLE-RADIUS=500;X-TITLE=1466 5th Sideroad:geo:-79.62542,44.044413
END:VEVENT
END:VCALENDAR