BEGIN:VCALENDAR
VERSION:2.0
PRODID:-//Sovereign Grace Church - ECPv6.15.20//NONSGML v1.0//EN
CALSCALE:GREGORIAN
METHOD:PUBLISH
X-WR-CALNAME:Sovereign Grace Church
X-ORIGINAL-URL:https://sovgracechurch.ca
X-WR-CALDESC:Events for Sovereign Grace Church
REFRESH-INTERVAL;VALUE=DURATION:PT1H
X-Robots-Tag:noindex
X-PUBLISHED-TTL:PT1H
BEGIN:VTIMEZONE
TZID:America/Toronto
BEGIN:DAYLIGHT
TZOFFSETFROM:-0500
TZOFFSETTO:-0400
TZNAME:EDT
DTSTART:20250309T070000
END:DAYLIGHT
BEGIN:STANDARD
TZOFFSETFROM:-0400
TZOFFSETTO:-0500
TZNAME:EST
DTSTART:20251102T060000
END:STANDARD
BEGIN:DAYLIGHT
TZOFFSETFROM:-0500
TZOFFSETTO:-0400
TZNAME:EDT
DTSTART:20260308T070000
END:DAYLIGHT
BEGIN:STANDARD
TZOFFSETFROM:-0400
TZOFFSETTO:-0500
TZNAME:EST
DTSTART:20261101T060000
END:STANDARD
BEGIN:DAYLIGHT
TZOFFSETFROM:-0500
TZOFFSETTO:-0400
TZNAME:EDT
DTSTART:20270314T070000
END:DAYLIGHT
BEGIN:STANDARD
TZOFFSETFROM:-0400
TZOFFSETTO:-0500
TZNAME:EST
DTSTART:20271107T060000
END:STANDARD
END:VTIMEZONE
BEGIN:VEVENT
DTSTART;TZID=America/Toronto:20260906T090000
DTEND;TZID=America/Toronto:20260906T100000
DTSTAMP:20260423T183012
CREATED:20250827T183621Z
LAST-MODIFIED:20250827T183621Z
UID:10005645-1788685200-1788688800@sovgracechurch.ca
SUMMARY:Foundations Class
DESCRIPTION:
URL:https://sovgracechurch.ca/event/foundations-class-3/2026-09-06/
END:VEVENT
BEGIN:VEVENT
DTSTART;TZID=America/Toronto:20260913T090000
DTEND;TZID=America/Toronto:20260913T100000
DTSTAMP:20260423T183012
CREATED:20250827T183621Z
LAST-MODIFIED:20250827T183621Z
UID:10005646-1789290000-1789293600@sovgracechurch.ca
SUMMARY:Foundations Class
DESCRIPTION:
URL:https://sovgracechurch.ca/event/foundations-class-3/2026-09-13/
END:VEVENT
BEGIN:VEVENT
DTSTART;TZID=America/Toronto:20260920T090000
DTEND;TZID=America/Toronto:20260920T100000
DTSTAMP:20260423T183012
CREATED:20250827T183621Z
LAST-MODIFIED:20250827T183621Z
UID:10005647-1789894800-1789898400@sovgracechurch.ca
SUMMARY:Foundations Class
DESCRIPTION:
URL:https://sovgracechurch.ca/event/foundations-class-3/2026-09-20/
END:VEVENT
BEGIN:VEVENT
DTSTART;TZID=America/Toronto:20260927T090000
DTEND;TZID=America/Toronto:20260927T100000
DTSTAMP:20260423T183012
CREATED:20250827T183621Z
LAST-MODIFIED:20250827T183621Z
UID:10005648-1790499600-1790503200@sovgracechurch.ca
SUMMARY:Foundations Class
DESCRIPTION:
URL:https://sovgracechurch.ca/event/foundations-class-3/2026-09-27/
END:VEVENT
BEGIN:VEVENT
DTSTART;TZID=America/Toronto:20261004T090000
DTEND;TZID=America/Toronto:20261004T100000
DTSTAMP:20260423T183012
CREATED:20250827T183621Z
LAST-MODIFIED:20250827T183621Z
UID:10005649-1791104400-1791108000@sovgracechurch.ca
SUMMARY:Foundations Class
DESCRIPTION:
URL:https://sovgracechurch.ca/event/foundations-class-3/2026-10-04/
END:VEVENT
BEGIN:VEVENT
DTSTART;TZID=America/Toronto:20261011T090000
DTEND;TZID=America/Toronto:20261011T100000
DTSTAMP:20260423T183012
CREATED:20250827T183621Z
LAST-MODIFIED:20250827T183621Z
UID:10005650-1791709200-1791712800@sovgracechurch.ca
SUMMARY:Foundations Class
DESCRIPTION:
URL:https://sovgracechurch.ca/event/foundations-class-3/2026-10-11/
END:VEVENT
BEGIN:VEVENT
DTSTART;TZID=America/Toronto:20261018T090000
DTEND;TZID=America/Toronto:20261018T100000
DTSTAMP:20260423T183012
CREATED:20250827T183621Z
LAST-MODIFIED:20250827T183621Z
UID:10005651-1792314000-1792317600@sovgracechurch.ca
SUMMARY:Foundations Class
DESCRIPTION:
URL:https://sovgracechurch.ca/event/foundations-class-3/2026-10-18/
END:VEVENT
BEGIN:VEVENT
DTSTART;TZID=America/Toronto:20261025T090000
DTEND;TZID=America/Toronto:20261025T100000
DTSTAMP:20260423T183012
CREATED:20250827T183621Z
LAST-MODIFIED:20250827T183621Z
UID:10005652-1792918800-1792922400@sovgracechurch.ca
SUMMARY:Foundations Class
DESCRIPTION:
URL:https://sovgracechurch.ca/event/foundations-class-3/2026-10-25/
END:VEVENT
BEGIN:VEVENT
DTSTART;TZID=America/Toronto:20261101T090000
DTEND;TZID=America/Toronto:20261101T100000
DTSTAMP:20260423T183012
CREATED:20250827T183621Z
LAST-MODIFIED:20250827T183621Z
UID:10005653-1793523600-1793527200@sovgracechurch.ca
SUMMARY:Foundations Class
DESCRIPTION:
URL:https://sovgracechurch.ca/event/foundations-class-3/2026-11-01/
END:VEVENT
BEGIN:VEVENT
DTSTART;TZID=America/Toronto:20261108T090000
DTEND;TZID=America/Toronto:20261108T100000
DTSTAMP:20260423T183012
CREATED:20250827T183621Z
LAST-MODIFIED:20250827T183621Z
UID:10005654-1794128400-1794132000@sovgracechurch.ca
SUMMARY:Foundations Class
DESCRIPTION:
URL:https://sovgracechurch.ca/event/foundations-class-3/2026-11-08/
END:VEVENT
BEGIN:VEVENT
DTSTART;TZID=America/Toronto:20261115T090000
DTEND;TZID=America/Toronto:20261115T100000
DTSTAMP:20260423T183012
CREATED:20250827T183621Z
LAST-MODIFIED:20250827T183621Z
UID:10005655-1794733200-1794736800@sovgracechurch.ca
SUMMARY:Foundations Class
DESCRIPTION:
URL:https://sovgracechurch.ca/event/foundations-class-3/2026-11-15/
END:VEVENT
BEGIN:VEVENT
DTSTART;TZID=America/Toronto:20261122T090000
DTEND;TZID=America/Toronto:20261122T100000
DTSTAMP:20260423T183012
CREATED:20250827T183621Z
LAST-MODIFIED:20250827T183621Z
UID:10005656-1795338000-1795341600@sovgracechurch.ca
SUMMARY:Foundations Class
DESCRIPTION:
URL:https://sovgracechurch.ca/event/foundations-class-3/2026-11-22/
END:VEVENT
BEGIN:VEVENT
DTSTART;TZID=America/Toronto:20261129T090000
DTEND;TZID=America/Toronto:20261129T100000
DTSTAMP:20260423T183012
CREATED:20250827T183621Z
LAST-MODIFIED:20250827T183621Z
UID:10005657-1795942800-1795946400@sovgracechurch.ca
SUMMARY:Foundations Class
DESCRIPTION:
URL:https://sovgracechurch.ca/event/foundations-class-3/2026-11-29/
END:VEVENT
END:VCALENDAR