BEGIN:VCALENDAR
VERSION:2.0
PRODID:-//Sovereign Grace Church - ECPv6.15.20//NONSGML v1.0//EN
CALSCALE:GREGORIAN
METHOD:PUBLISH
X-WR-CALNAME:Sovereign Grace Church
X-ORIGINAL-URL:https://sovgracechurch.ca
X-WR-CALDESC:Events for Sovereign Grace Church
REFRESH-INTERVAL;VALUE=DURATION:PT1H
X-Robots-Tag:noindex
X-PUBLISHED-TTL:PT1H
BEGIN:VTIMEZONE
TZID:America/Toronto
BEGIN:DAYLIGHT
TZOFFSETFROM:-0500
TZOFFSETTO:-0400
TZNAME:EDT
DTSTART:20250309T070000
END:DAYLIGHT
BEGIN:STANDARD
TZOFFSETFROM:-0400
TZOFFSETTO:-0500
TZNAME:EST
DTSTART:20251102T060000
END:STANDARD
BEGIN:DAYLIGHT
TZOFFSETFROM:-0500
TZOFFSETTO:-0400
TZNAME:EDT
DTSTART:20260308T070000
END:DAYLIGHT
BEGIN:STANDARD
TZOFFSETFROM:-0400
TZOFFSETTO:-0500
TZNAME:EST
DTSTART:20261101T060000
END:STANDARD
BEGIN:DAYLIGHT
TZOFFSETFROM:-0500
TZOFFSETTO:-0400
TZNAME:EDT
DTSTART:20270314T070000
END:DAYLIGHT
BEGIN:STANDARD
TZOFFSETFROM:-0400
TZOFFSETTO:-0500
TZNAME:EST
DTSTART:20271107T060000
END:STANDARD
END:VTIMEZONE
BEGIN:VEVENT
DTSTART;TZID=America/Toronto:20260426T160000
DTEND;TZID=America/Toronto:20260426T193000
DTSTAMP:20260423T144149
CREATED:20250915T160503Z
LAST-MODIFIED:20250915T160503Z
UID:10005750-1777219200-1777231800@sovgracechurch.ca
SUMMARY:Bradford Town CG
DESCRIPTION:This group is hosted and led by Henry Vroom in Bradford. They meet every 2nd and 4th Sunday of the month at 4pm.  \nFor more information\, please contact info@sovgracechurch.ca
URL:https://sovgracechurch.ca/event/bradford-town-cg/2026-04-26/
END:VEVENT
BEGIN:VEVENT
DTSTART;TZID=America/Toronto:20260510T160000
DTEND;TZID=America/Toronto:20260510T193000
DTSTAMP:20260423T144149
CREATED:20250915T160503Z
LAST-MODIFIED:20250915T160503Z
UID:10005751-1778428800-1778441400@sovgracechurch.ca
SUMMARY:Bradford Town CG
DESCRIPTION:This group is hosted and led by Henry Vroom in Bradford. They meet every 2nd and 4th Sunday of the month at 4pm.  \nFor more information\, please contact info@sovgracechurch.ca
URL:https://sovgracechurch.ca/event/bradford-town-cg/2026-05-10/
END:VEVENT
BEGIN:VEVENT
DTSTART;TZID=America/Toronto:20260524T160000
DTEND;TZID=America/Toronto:20260524T193000
DTSTAMP:20260423T144149
CREATED:20250915T160503Z
LAST-MODIFIED:20250915T160503Z
UID:10005752-1779638400-1779651000@sovgracechurch.ca
SUMMARY:Bradford Town CG
DESCRIPTION:This group is hosted and led by Henry Vroom in Bradford. They meet every 2nd and 4th Sunday of the month at 4pm.  \nFor more information\, please contact info@sovgracechurch.ca
URL:https://sovgracechurch.ca/event/bradford-town-cg/2026-05-24/
END:VEVENT
BEGIN:VEVENT
DTSTART;TZID=America/Toronto:20260614T160000
DTEND;TZID=America/Toronto:20260614T193000
DTSTAMP:20260423T144149
CREATED:20250915T160503Z
LAST-MODIFIED:20250915T160503Z
UID:10005753-1781452800-1781465400@sovgracechurch.ca
SUMMARY:Bradford Town CG
DESCRIPTION:This group is hosted and led by Henry Vroom in Bradford. They meet every 2nd and 4th Sunday of the month at 4pm.  \nFor more information\, please contact info@sovgracechurch.ca
URL:https://sovgracechurch.ca/event/bradford-town-cg/2026-06-14/
END:VEVENT
BEGIN:VEVENT
DTSTART;TZID=America/Toronto:20260628T160000
DTEND;TZID=America/Toronto:20260628T193000
DTSTAMP:20260423T144149
CREATED:20250915T160503Z
LAST-MODIFIED:20250915T160503Z
UID:10005754-1782662400-1782675000@sovgracechurch.ca
SUMMARY:Bradford Town CG
DESCRIPTION:This group is hosted and led by Henry Vroom in Bradford. They meet every 2nd and 4th Sunday of the month at 4pm.  \nFor more information\, please contact info@sovgracechurch.ca
URL:https://sovgracechurch.ca/event/bradford-town-cg/2026-06-28/
END:VEVENT
END:VCALENDAR