BEGIN:VCALENDAR
VERSION:2.0
PRODID:-//Sovereign Grace Church - ECPv6.15.20//NONSGML v1.0//EN
CALSCALE:GREGORIAN
METHOD:PUBLISH
X-WR-CALNAME:Sovereign Grace Church
X-ORIGINAL-URL:https://sovgracechurch.ca
X-WR-CALDESC:Events for Sovereign Grace Church
REFRESH-INTERVAL;VALUE=DURATION:PT1H
X-Robots-Tag:noindex
X-PUBLISHED-TTL:PT1H
BEGIN:VTIMEZONE
TZID:America/Toronto
BEGIN:DAYLIGHT
TZOFFSETFROM:-0500
TZOFFSETTO:-0400
TZNAME:EDT
DTSTART:20250309T070000
END:DAYLIGHT
BEGIN:STANDARD
TZOFFSETFROM:-0400
TZOFFSETTO:-0500
TZNAME:EST
DTSTART:20251102T060000
END:STANDARD
BEGIN:DAYLIGHT
TZOFFSETFROM:-0500
TZOFFSETTO:-0400
TZNAME:EDT
DTSTART:20260308T070000
END:DAYLIGHT
BEGIN:STANDARD
TZOFFSETFROM:-0400
TZOFFSETTO:-0500
TZNAME:EST
DTSTART:20261101T060000
END:STANDARD
BEGIN:DAYLIGHT
TZOFFSETFROM:-0500
TZOFFSETTO:-0400
TZNAME:EDT
DTSTART:20270314T070000
END:DAYLIGHT
BEGIN:STANDARD
TZOFFSETFROM:-0400
TZOFFSETTO:-0500
TZNAME:EST
DTSTART:20271107T060000
END:STANDARD
END:VTIMEZONE
BEGIN:VEVENT
DTSTART;TZID=America/Toronto:20260424T193000
DTEND;TZID=America/Toronto:20260424T213000
DTSTAMP:20260423T153127
CREATED:20251029T195452Z
LAST-MODIFIED:20260406T125442Z
UID:10006358-1777059000-1777066200@sovgracechurch.ca
SUMMARY:Parenting Group
DESCRIPTION:The Parenting Group is open to all parents with children of all ages. Join us to be equipped to disciple your children. Sign up here.
URL:https://sovgracechurch.ca/event/parenting-group/2026-04-24/
END:VEVENT
BEGIN:VEVENT
DTSTART;TZID=America/Toronto:20260508T193000
DTEND;TZID=America/Toronto:20260508T213000
DTSTAMP:20260423T153127
CREATED:20251029T195452Z
LAST-MODIFIED:20260406T125442Z
UID:10005986-1778268600-1778275800@sovgracechurch.ca
SUMMARY:Parenting Group
DESCRIPTION:The Parenting Group is open to all parents with children of all ages. Join us to be equipped to disciple your children. Sign up here.
URL:https://sovgracechurch.ca/event/parenting-group/2026-05-08/
END:VEVENT
END:VCALENDAR