BEGIN:VCALENDAR
VERSION:2.0
PRODID:-//Sovereign Grace Church - ECPv6.15.20//NONSGML v1.0//EN
CALSCALE:GREGORIAN
METHOD:PUBLISH
X-WR-CALNAME:Sovereign Grace Church
X-ORIGINAL-URL:https://sovgracechurch.ca
X-WR-CALDESC:Events for Sovereign Grace Church
REFRESH-INTERVAL;VALUE=DURATION:PT1H
X-Robots-Tag:noindex
X-PUBLISHED-TTL:PT1H
BEGIN:VTIMEZONE
TZID:America/Toronto
BEGIN:DAYLIGHT
TZOFFSETFROM:-0500
TZOFFSETTO:-0400
TZNAME:EDT
DTSTART:20250309T070000
END:DAYLIGHT
BEGIN:STANDARD
TZOFFSETFROM:-0400
TZOFFSETTO:-0500
TZNAME:EST
DTSTART:20251102T060000
END:STANDARD
BEGIN:DAYLIGHT
TZOFFSETFROM:-0500
TZOFFSETTO:-0400
TZNAME:EDT
DTSTART:20260308T070000
END:DAYLIGHT
BEGIN:STANDARD
TZOFFSETFROM:-0400
TZOFFSETTO:-0500
TZNAME:EST
DTSTART:20261101T060000
END:STANDARD
BEGIN:DAYLIGHT
TZOFFSETFROM:-0500
TZOFFSETTO:-0400
TZNAME:EDT
DTSTART:20270314T070000
END:DAYLIGHT
BEGIN:STANDARD
TZOFFSETFROM:-0400
TZOFFSETTO:-0500
TZNAME:EST
DTSTART:20271107T060000
END:STANDARD
END:VTIMEZONE
BEGIN:VEVENT
DTSTART;TZID=America/Toronto:20260428T103000
DTEND;TZID=America/Toronto:20260428T120000
DTSTAMP:20260423T140425
CREATED:20250825T150358Z
LAST-MODIFIED:20250825T150358Z
UID:10005614-1777372200-1777377600@sovgracechurch.ca
SUMMARY:Flourish with Josephine
DESCRIPTION:Women’s Small Group Led by Josephine Wong. \nAll are welcome. \nFor more info\, please contact admin@sovgracechurch.ca
URL:https://sovgracechurch.ca/event/flourish-with-josephine/2026-04-28/
END:VEVENT
BEGIN:VEVENT
DTSTART;TZID=America/Toronto:20260512T103000
DTEND;TZID=America/Toronto:20260512T120000
DTSTAMP:20260423T140425
CREATED:20250825T150358Z
LAST-MODIFIED:20250825T150358Z
UID:10005615-1778581800-1778587200@sovgracechurch.ca
SUMMARY:Flourish with Josephine
DESCRIPTION:Women’s Small Group Led by Josephine Wong. \nAll are welcome. \nFor more info\, please contact admin@sovgracechurch.ca
URL:https://sovgracechurch.ca/event/flourish-with-josephine/2026-05-12/
END:VEVENT
BEGIN:VEVENT
DTSTART;TZID=America/Toronto:20260526T103000
DTEND;TZID=America/Toronto:20260526T120000
DTSTAMP:20260423T140425
CREATED:20250825T150358Z
LAST-MODIFIED:20250825T150358Z
UID:10005616-1779791400-1779796800@sovgracechurch.ca
SUMMARY:Flourish with Josephine
DESCRIPTION:Women’s Small Group Led by Josephine Wong. \nAll are welcome. \nFor more info\, please contact admin@sovgracechurch.ca
URL:https://sovgracechurch.ca/event/flourish-with-josephine/2026-05-26/
END:VEVENT
BEGIN:VEVENT
DTSTART;TZID=America/Toronto:20260609T103000
DTEND;TZID=America/Toronto:20260609T120000
DTSTAMP:20260423T140425
CREATED:20250825T150358Z
LAST-MODIFIED:20250825T150358Z
UID:10005617-1781001000-1781006400@sovgracechurch.ca
SUMMARY:Flourish with Josephine
DESCRIPTION:Women’s Small Group Led by Josephine Wong. \nAll are welcome. \nFor more info\, please contact admin@sovgracechurch.ca
URL:https://sovgracechurch.ca/event/flourish-with-josephine/2026-06-09/
END:VEVENT
BEGIN:VEVENT
DTSTART;TZID=America/Toronto:20260623T103000
DTEND;TZID=America/Toronto:20260623T120000
DTSTAMP:20260423T140425
CREATED:20250825T150358Z
LAST-MODIFIED:20250825T150358Z
UID:10005618-1782210600-1782216000@sovgracechurch.ca
SUMMARY:Flourish with Josephine
DESCRIPTION:Women’s Small Group Led by Josephine Wong. \nAll are welcome. \nFor more info\, please contact admin@sovgracechurch.ca
URL:https://sovgracechurch.ca/event/flourish-with-josephine/2026-06-23/
END:VEVENT
END:VCALENDAR