BEGIN:VCALENDAR
VERSION:2.0
PRODID:-//Sovereign Grace Church - ECPv6.15.20//NONSGML v1.0//EN
CALSCALE:GREGORIAN
METHOD:PUBLISH
X-WR-CALNAME:Sovereign Grace Church
X-ORIGINAL-URL:https://sovgracechurch.ca
X-WR-CALDESC:Events for Sovereign Grace Church
REFRESH-INTERVAL;VALUE=DURATION:PT1H
X-Robots-Tag:noindex
X-PUBLISHED-TTL:PT1H
BEGIN:VTIMEZONE
TZID:America/Toronto
BEGIN:DAYLIGHT
TZOFFSETFROM:-0500
TZOFFSETTO:-0400
TZNAME:EDT
DTSTART:20230312T070000
END:DAYLIGHT
BEGIN:STANDARD
TZOFFSETFROM:-0400
TZOFFSETTO:-0500
TZNAME:EST
DTSTART:20231105T060000
END:STANDARD
BEGIN:DAYLIGHT
TZOFFSETFROM:-0500
TZOFFSETTO:-0400
TZNAME:EDT
DTSTART:20240310T070000
END:DAYLIGHT
BEGIN:STANDARD
TZOFFSETFROM:-0400
TZOFFSETTO:-0500
TZNAME:EST
DTSTART:20241103T060000
END:STANDARD
BEGIN:DAYLIGHT
TZOFFSETFROM:-0500
TZOFFSETTO:-0400
TZNAME:EDT
DTSTART:20250309T070000
END:DAYLIGHT
BEGIN:STANDARD
TZOFFSETFROM:-0400
TZOFFSETTO:-0500
TZNAME:EST
DTSTART:20251102T060000
END:STANDARD
END:VTIMEZONE
BEGIN:VEVENT
DTSTART;TZID=America/Toronto:20240625T103000
DTEND;TZID=America/Toronto:20240625T120000
DTSTAMP:20260424T131521
CREATED:20240305T004526Z
LAST-MODIFIED:20240305T004526Z
UID:10004489-1719311400-1719316800@sovgracechurch.ca
SUMMARY:Flourish (Women's Ministry)
DESCRIPTION:Come join us for the study of Psalm 119 as we learn to delight in God through His Word. This study will focus on learning how to pray with the psalmist as we affirm our utter dependence on God and His unchanging divine attributes. \nWe meet on every 2nd and 4th Tuesday at the church (babysitting provided). \nPlease email info@sovgracechurch.ca for more information.
URL:https://sovgracechurch.ca/event/flourish-womens-ministry/2024-06-25/
LOCATION:Sovereign Grace Church\, 1466 5th Sideroad\, Bradford\, Ontario\, L3Z4A8\, Canada
ATTACH;FMTTYPE=image/jpeg:https://sovgracechurch.ca/wp-content/uploads/2023/01/Flourish2.jpg
GEO:44.044413;-79.62542
X-APPLE-STRUCTURED-LOCATION;VALUE=URI;X-ADDRESS=Sovereign Grace Church 1466 5th Sideroad Bradford Ontario L3Z4A8 Canada;X-APPLE-RADIUS=500;X-TITLE=1466 5th Sideroad:geo:-79.62542,44.044413
END:VEVENT
BEGIN:VEVENT
DTSTART;TZID=America/Toronto:20240611T103000
DTEND;TZID=America/Toronto:20240611T120000
DTSTAMP:20260424T131521
CREATED:20240304T203412Z
LAST-MODIFIED:20240305T004443Z
UID:10003809-1718101800-1718107200@sovgracechurch.ca
SUMMARY:Flourish (Women's Ministry)
DESCRIPTION:Come join us for the study of Psalm 119 as we learn to delight in God through His Word. This study will focus on learning how to pray with the psalmist as we affirm our utter dependence on God and His unchanging divine attributes. \nWe meet on every 2nd and 4th Tuesday at the church (babysitting provided). \nPlease email info@sovgracechurch.ca for more information.
URL:https://sovgracechurch.ca/event/flourish-14-2-2/2024-06-11/
LOCATION:Sovereign Grace Church\, 1466 5th Sideroad\, Bradford\, Ontario\, L3Z4A8\, Canada
ATTACH;FMTTYPE=image/jpeg:https://sovgracechurch.ca/wp-content/uploads/2023/01/Flourish2.jpg
GEO:44.044413;-79.62542
X-APPLE-STRUCTURED-LOCATION;VALUE=URI;X-ADDRESS=Sovereign Grace Church 1466 5th Sideroad Bradford Ontario L3Z4A8 Canada;X-APPLE-RADIUS=500;X-TITLE=1466 5th Sideroad:geo:-79.62542,44.044413
END:VEVENT
BEGIN:VEVENT
DTSTART;TZID=America/Toronto:20240608T083000
DTEND;TZID=America/Toronto:20240608T100000
DTSTAMP:20260424T131521
CREATED:20240507T014631Z
LAST-MODIFIED:20240507T014631Z
UID:10004508-1717835400-1717840800@sovgracechurch.ca
SUMMARY:Equip (Invite Only)
DESCRIPTION:This is an invite only mentoring group for women.
URL:https://sovgracechurch.ca/event/womens-fellowship-time-2-2/
LOCATION:Sovereign Grace Church\, 1466 5th Sideroad\, Bradford\, Ontario\, L3Z4A8\, Canada
ATTACH;FMTTYPE=image/jpeg:https://sovgracechurch.ca/wp-content/uploads/2023/01/Flourish2.jpg
GEO:44.044413;-79.62542
X-APPLE-STRUCTURED-LOCATION;VALUE=URI;X-ADDRESS=Sovereign Grace Church 1466 5th Sideroad Bradford Ontario L3Z4A8 Canada;X-APPLE-RADIUS=500;X-TITLE=1466 5th Sideroad:geo:-79.62542,44.044413
END:VEVENT
BEGIN:VEVENT
DTSTART;TZID=America/Toronto:20240604T103000
DTEND;TZID=America/Toronto:20240604T120000
DTSTAMP:20260424T131521
CREATED:20240305T005007Z
LAST-MODIFIED:20240305T005007Z
UID:10004498-1717497000-1717502400@sovgracechurch.ca
SUMMARY:Women's Fellowship Time
DESCRIPTION:An informal gathering for women. Kids are welcome! \nWe meet on 1st and 3rd Tuesdays at the church. \nPlease email info@sovgracechurch.ca for more information.
URL:https://sovgracechurch.ca/event/womens-fellowship-time/2024-06-04/
LOCATION:Sovereign Grace Church\, 1466 5th Sideroad\, Bradford\, Ontario\, L3Z4A8\, Canada
ATTACH;FMTTYPE=image/jpeg:https://sovgracechurch.ca/wp-content/uploads/2023/01/Flourish2.jpg
GEO:44.044413;-79.62542
X-APPLE-STRUCTURED-LOCATION;VALUE=URI;X-ADDRESS=Sovereign Grace Church 1466 5th Sideroad Bradford Ontario L3Z4A8 Canada;X-APPLE-RADIUS=500;X-TITLE=1466 5th Sideroad:geo:-79.62542,44.044413
END:VEVENT
BEGIN:VEVENT
DTSTART;TZID=America/Toronto:20240528T103000
DTEND;TZID=America/Toronto:20240528T120000
DTSTAMP:20260424T131521
CREATED:20240305T004526Z
LAST-MODIFIED:20240305T004526Z
UID:10004488-1716892200-1716897600@sovgracechurch.ca
SUMMARY:Flourish (Women's Ministry)
DESCRIPTION:Come join us for the study of Psalm 119 as we learn to delight in God through His Word. This study will focus on learning how to pray with the psalmist as we affirm our utter dependence on God and His unchanging divine attributes. \nWe meet on every 2nd and 4th Tuesday at the church (babysitting provided). \nPlease email info@sovgracechurch.ca for more information.
URL:https://sovgracechurch.ca/event/flourish-womens-ministry/2024-05-28/
LOCATION:Sovereign Grace Church\, 1466 5th Sideroad\, Bradford\, Ontario\, L3Z4A8\, Canada
ATTACH;FMTTYPE=image/jpeg:https://sovgracechurch.ca/wp-content/uploads/2023/01/Flourish2.jpg
GEO:44.044413;-79.62542
X-APPLE-STRUCTURED-LOCATION;VALUE=URI;X-ADDRESS=Sovereign Grace Church 1466 5th Sideroad Bradford Ontario L3Z4A8 Canada;X-APPLE-RADIUS=500;X-TITLE=1466 5th Sideroad:geo:-79.62542,44.044413
END:VEVENT
BEGIN:VEVENT
DTSTART;TZID=America/Toronto:20240521T103000
DTEND;TZID=America/Toronto:20240521T120000
DTSTAMP:20260424T131521
CREATED:20240314T183706Z
LAST-MODIFIED:20240314T183706Z
UID:10004581-1716287400-1716292800@sovgracechurch.ca
SUMMARY:Women's Fellowship Time
DESCRIPTION:An informal gathering for women. Kids are welcome! \nWe meet on 1st and 3rd Tuesdays at the church. \nPlease email info@sovgracechurch.ca for more information.
URL:https://sovgracechurch.ca/event/womens-fellowship-time-3/2024-05-21/
LOCATION:Sovereign Grace Church\, 1466 5th Sideroad\, Bradford\, Ontario\, L3Z4A8\, Canada
ATTACH;FMTTYPE=image/jpeg:https://sovgracechurch.ca/wp-content/uploads/2023/01/Flourish2.jpg
GEO:44.044413;-79.62542
X-APPLE-STRUCTURED-LOCATION;VALUE=URI;X-ADDRESS=Sovereign Grace Church 1466 5th Sideroad Bradford Ontario L3Z4A8 Canada;X-APPLE-RADIUS=500;X-TITLE=1466 5th Sideroad:geo:-79.62542,44.044413
END:VEVENT
BEGIN:VEVENT
DTSTART;TZID=America/Toronto:20240514T103000
DTEND;TZID=America/Toronto:20240514T120000
DTSTAMP:20260424T131521
CREATED:20240304T203412Z
LAST-MODIFIED:20240305T004443Z
UID:10003808-1715682600-1715688000@sovgracechurch.ca
SUMMARY:Flourish (Women's Ministry)
DESCRIPTION:Come join us for the study of Psalm 119 as we learn to delight in God through His Word. This study will focus on learning how to pray with the psalmist as we affirm our utter dependence on God and His unchanging divine attributes. \nWe meet on every 2nd and 4th Tuesday at the church (babysitting provided). \nPlease email info@sovgracechurch.ca for more information.
URL:https://sovgracechurch.ca/event/flourish-14-2-2/2024-05-14/
LOCATION:Sovereign Grace Church\, 1466 5th Sideroad\, Bradford\, Ontario\, L3Z4A8\, Canada
ATTACH;FMTTYPE=image/jpeg:https://sovgracechurch.ca/wp-content/uploads/2023/01/Flourish2.jpg
GEO:44.044413;-79.62542
X-APPLE-STRUCTURED-LOCATION;VALUE=URI;X-ADDRESS=Sovereign Grace Church 1466 5th Sideroad Bradford Ontario L3Z4A8 Canada;X-APPLE-RADIUS=500;X-TITLE=1466 5th Sideroad:geo:-79.62542,44.044413
END:VEVENT
BEGIN:VEVENT
DTSTART;TZID=America/Toronto:20240507T103000
DTEND;TZID=America/Toronto:20240507T120000
DTSTAMP:20260424T131521
CREATED:20240305T005007Z
LAST-MODIFIED:20240305T005007Z
UID:10004497-1715077800-1715083200@sovgracechurch.ca
SUMMARY:Women's Fellowship Time
DESCRIPTION:An informal gathering for women. Kids are welcome! \nWe meet on 1st and 3rd Tuesdays at the church. \nPlease email info@sovgracechurch.ca for more information.
URL:https://sovgracechurch.ca/event/womens-fellowship-time/2024-05-07/
LOCATION:Sovereign Grace Church\, 1466 5th Sideroad\, Bradford\, Ontario\, L3Z4A8\, Canada
ATTACH;FMTTYPE=image/jpeg:https://sovgracechurch.ca/wp-content/uploads/2023/01/Flourish2.jpg
GEO:44.044413;-79.62542
X-APPLE-STRUCTURED-LOCATION;VALUE=URI;X-ADDRESS=Sovereign Grace Church 1466 5th Sideroad Bradford Ontario L3Z4A8 Canada;X-APPLE-RADIUS=500;X-TITLE=1466 5th Sideroad:geo:-79.62542,44.044413
END:VEVENT
BEGIN:VEVENT
DTSTART;TZID=America/Toronto:20240504T083000
DTEND;TZID=America/Toronto:20240504T100000
DTSTAMP:20260424T131521
CREATED:20240305T005042Z
LAST-MODIFIED:20240305T005241Z
UID:10004507-1714811400-1714816800@sovgracechurch.ca
SUMMARY:Equip (Invite Only)
DESCRIPTION:This is an invite only mentoring group for women.
URL:https://sovgracechurch.ca/event/womens-fellowship-time-2/2024-05-04/
LOCATION:Sovereign Grace Church\, 1466 5th Sideroad\, Bradford\, Ontario\, L3Z4A8\, Canada
ATTACH;FMTTYPE=image/jpeg:https://sovgracechurch.ca/wp-content/uploads/2023/01/Flourish2.jpg
GEO:44.044413;-79.62542
X-APPLE-STRUCTURED-LOCATION;VALUE=URI;X-ADDRESS=Sovereign Grace Church 1466 5th Sideroad Bradford Ontario L3Z4A8 Canada;X-APPLE-RADIUS=500;X-TITLE=1466 5th Sideroad:geo:-79.62542,44.044413
END:VEVENT
BEGIN:VEVENT
DTSTART;TZID=America/Toronto:20240423T103000
DTEND;TZID=America/Toronto:20240423T120000
DTSTAMP:20260424T131521
CREATED:20240305T004526Z
LAST-MODIFIED:20240305T004526Z
UID:10004487-1713868200-1713873600@sovgracechurch.ca
SUMMARY:Flourish (Women's Ministry)
DESCRIPTION:Come join us for the study of Psalm 119 as we learn to delight in God through His Word. This study will focus on learning how to pray with the psalmist as we affirm our utter dependence on God and His unchanging divine attributes. \nWe meet on every 2nd and 4th Tuesday at the church (babysitting provided). \nPlease email info@sovgracechurch.ca for more information.
URL:https://sovgracechurch.ca/event/flourish-womens-ministry/2024-04-23/
LOCATION:Sovereign Grace Church\, 1466 5th Sideroad\, Bradford\, Ontario\, L3Z4A8\, Canada
ATTACH;FMTTYPE=image/jpeg:https://sovgracechurch.ca/wp-content/uploads/2023/01/Flourish2.jpg
GEO:44.044413;-79.62542
X-APPLE-STRUCTURED-LOCATION;VALUE=URI;X-ADDRESS=Sovereign Grace Church 1466 5th Sideroad Bradford Ontario L3Z4A8 Canada;X-APPLE-RADIUS=500;X-TITLE=1466 5th Sideroad:geo:-79.62542,44.044413
END:VEVENT
BEGIN:VEVENT
DTSTART;TZID=America/Toronto:20240416T103000
DTEND;TZID=America/Toronto:20240416T120000
DTSTAMP:20260424T131521
CREATED:20240314T183706Z
LAST-MODIFIED:20240314T183706Z
UID:10004580-1713263400-1713268800@sovgracechurch.ca
SUMMARY:Women's Fellowship Time
DESCRIPTION:An informal gathering for women. Kids are welcome! \nWe meet on 1st and 3rd Tuesdays at the church. \nPlease email info@sovgracechurch.ca for more information.
URL:https://sovgracechurch.ca/event/womens-fellowship-time-3/2024-04-16/
LOCATION:Sovereign Grace Church\, 1466 5th Sideroad\, Bradford\, Ontario\, L3Z4A8\, Canada
ATTACH;FMTTYPE=image/jpeg:https://sovgracechurch.ca/wp-content/uploads/2023/01/Flourish2.jpg
GEO:44.044413;-79.62542
X-APPLE-STRUCTURED-LOCATION;VALUE=URI;X-ADDRESS=Sovereign Grace Church 1466 5th Sideroad Bradford Ontario L3Z4A8 Canada;X-APPLE-RADIUS=500;X-TITLE=1466 5th Sideroad:geo:-79.62542,44.044413
END:VEVENT
BEGIN:VEVENT
DTSTART;TZID=America/Toronto:20240409T103000
DTEND;TZID=America/Toronto:20240409T120000
DTSTAMP:20260424T131521
CREATED:20240304T203412Z
LAST-MODIFIED:20240305T004443Z
UID:10003807-1712658600-1712664000@sovgracechurch.ca
SUMMARY:Flourish (Women's Ministry)
DESCRIPTION:Come join us for the study of Psalm 119 as we learn to delight in God through His Word. This study will focus on learning how to pray with the psalmist as we affirm our utter dependence on God and His unchanging divine attributes. \nWe meet on every 2nd and 4th Tuesday at the church (babysitting provided). \nPlease email info@sovgracechurch.ca for more information.
URL:https://sovgracechurch.ca/event/flourish-14-2-2/2024-04-09/
LOCATION:Sovereign Grace Church\, 1466 5th Sideroad\, Bradford\, Ontario\, L3Z4A8\, Canada
ATTACH;FMTTYPE=image/jpeg:https://sovgracechurch.ca/wp-content/uploads/2023/01/Flourish2.jpg
GEO:44.044413;-79.62542
X-APPLE-STRUCTURED-LOCATION;VALUE=URI;X-ADDRESS=Sovereign Grace Church 1466 5th Sideroad Bradford Ontario L3Z4A8 Canada;X-APPLE-RADIUS=500;X-TITLE=1466 5th Sideroad:geo:-79.62542,44.044413
END:VEVENT
BEGIN:VEVENT
DTSTART;TZID=America/Toronto:20240406T083000
DTEND;TZID=America/Toronto:20240406T100000
DTSTAMP:20260424T131521
CREATED:20240305T005042Z
LAST-MODIFIED:20240305T005241Z
UID:10004506-1712392200-1712397600@sovgracechurch.ca
SUMMARY:Equip (Invite Only)
DESCRIPTION:This is an invite only mentoring group for women.
URL:https://sovgracechurch.ca/event/womens-fellowship-time-2/2024-04-06/
LOCATION:Sovereign Grace Church\, 1466 5th Sideroad\, Bradford\, Ontario\, L3Z4A8\, Canada
ATTACH;FMTTYPE=image/jpeg:https://sovgracechurch.ca/wp-content/uploads/2023/01/Flourish2.jpg
GEO:44.044413;-79.62542
X-APPLE-STRUCTURED-LOCATION;VALUE=URI;X-ADDRESS=Sovereign Grace Church 1466 5th Sideroad Bradford Ontario L3Z4A8 Canada;X-APPLE-RADIUS=500;X-TITLE=1466 5th Sideroad:geo:-79.62542,44.044413
END:VEVENT
BEGIN:VEVENT
DTSTART;TZID=America/Toronto:20240402T103000
DTEND;TZID=America/Toronto:20240402T120000
DTSTAMP:20260424T131521
CREATED:20240305T005007Z
LAST-MODIFIED:20240305T005007Z
UID:10004496-1712053800-1712059200@sovgracechurch.ca
SUMMARY:Women's Fellowship Time
DESCRIPTION:An informal gathering for women. Kids are welcome! \nWe meet on 1st and 3rd Tuesdays at the church. \nPlease email info@sovgracechurch.ca for more information.
URL:https://sovgracechurch.ca/event/womens-fellowship-time/2024-04-02/
LOCATION:Sovereign Grace Church\, 1466 5th Sideroad\, Bradford\, Ontario\, L3Z4A8\, Canada
ATTACH;FMTTYPE=image/jpeg:https://sovgracechurch.ca/wp-content/uploads/2023/01/Flourish2.jpg
GEO:44.044413;-79.62542
X-APPLE-STRUCTURED-LOCATION;VALUE=URI;X-ADDRESS=Sovereign Grace Church 1466 5th Sideroad Bradford Ontario L3Z4A8 Canada;X-APPLE-RADIUS=500;X-TITLE=1466 5th Sideroad:geo:-79.62542,44.044413
END:VEVENT
BEGIN:VEVENT
DTSTART;TZID=America/Toronto:20240326T103000
DTEND;TZID=America/Toronto:20240326T120000
DTSTAMP:20260424T131521
CREATED:20240305T004526Z
LAST-MODIFIED:20240305T004526Z
UID:10004486-1711449000-1711454400@sovgracechurch.ca
SUMMARY:Flourish (Women's Ministry)
DESCRIPTION:Come join us for the study of Psalm 119 as we learn to delight in God through His Word. This study will focus on learning how to pray with the psalmist as we affirm our utter dependence on God and His unchanging divine attributes. \nWe meet on every 2nd and 4th Tuesday at the church (babysitting provided). \nPlease email info@sovgracechurch.ca for more information.
URL:https://sovgracechurch.ca/event/flourish-womens-ministry/2024-03-26/
LOCATION:Sovereign Grace Church\, 1466 5th Sideroad\, Bradford\, Ontario\, L3Z4A8\, Canada
ATTACH;FMTTYPE=image/jpeg:https://sovgracechurch.ca/wp-content/uploads/2023/01/Flourish2.jpg
GEO:44.044413;-79.62542
X-APPLE-STRUCTURED-LOCATION;VALUE=URI;X-ADDRESS=Sovereign Grace Church 1466 5th Sideroad Bradford Ontario L3Z4A8 Canada;X-APPLE-RADIUS=500;X-TITLE=1466 5th Sideroad:geo:-79.62542,44.044413
END:VEVENT
BEGIN:VEVENT
DTSTART;TZID=America/Toronto:20240312T103000
DTEND;TZID=America/Toronto:20240312T120000
DTSTAMP:20260424T131521
CREATED:20240304T203412Z
LAST-MODIFIED:20240305T004443Z
UID:10003806-1710239400-1710244800@sovgracechurch.ca
SUMMARY:Flourish (Women's Ministry)
DESCRIPTION:Come join us for the study of Psalm 119 as we learn to delight in God through His Word. This study will focus on learning how to pray with the psalmist as we affirm our utter dependence on God and His unchanging divine attributes. \nWe meet on every 2nd and 4th Tuesday at the church (babysitting provided). \nPlease email info@sovgracechurch.ca for more information.
URL:https://sovgracechurch.ca/event/flourish-14-2-2/2024-03-12/
LOCATION:Sovereign Grace Church\, 1466 5th Sideroad\, Bradford\, Ontario\, L3Z4A8\, Canada
ATTACH;FMTTYPE=image/jpeg:https://sovgracechurch.ca/wp-content/uploads/2023/01/Flourish2.jpg
GEO:44.044413;-79.62542
X-APPLE-STRUCTURED-LOCATION;VALUE=URI;X-ADDRESS=Sovereign Grace Church 1466 5th Sideroad Bradford Ontario L3Z4A8 Canada;X-APPLE-RADIUS=500;X-TITLE=1466 5th Sideroad:geo:-79.62542,44.044413
END:VEVENT
BEGIN:VEVENT
DTSTART;TZID=America/Toronto:20240305T103000
DTEND;TZID=America/Toronto:20240305T120000
DTSTAMP:20260424T131521
CREATED:20240305T005007Z
LAST-MODIFIED:20240305T005007Z
UID:10004495-1709634600-1709640000@sovgracechurch.ca
SUMMARY:Women's Fellowship Time
DESCRIPTION:An informal gathering for women. Kids are welcome! \nWe meet on 1st and 3rd Tuesdays at the church. \nPlease email info@sovgracechurch.ca for more information.
URL:https://sovgracechurch.ca/event/womens-fellowship-time/2024-03-05/
LOCATION:Sovereign Grace Church\, 1466 5th Sideroad\, Bradford\, Ontario\, L3Z4A8\, Canada
ATTACH;FMTTYPE=image/jpeg:https://sovgracechurch.ca/wp-content/uploads/2023/01/Flourish2.jpg
GEO:44.044413;-79.62542
X-APPLE-STRUCTURED-LOCATION;VALUE=URI;X-ADDRESS=Sovereign Grace Church 1466 5th Sideroad Bradford Ontario L3Z4A8 Canada;X-APPLE-RADIUS=500;X-TITLE=1466 5th Sideroad:geo:-79.62542,44.044413
END:VEVENT
END:VCALENDAR