BEGIN:VCALENDAR
VERSION:2.0
PRODID:-//Sovereign Grace Church - ECPv6.15.20//NONSGML v1.0//EN
CALSCALE:GREGORIAN
METHOD:PUBLISH
X-WR-CALNAME:Sovereign Grace Church
X-ORIGINAL-URL:https://sovgracechurch.ca
X-WR-CALDESC:Events for Sovereign Grace Church
REFRESH-INTERVAL;VALUE=DURATION:PT1H
X-Robots-Tag:noindex
X-PUBLISHED-TTL:PT1H
BEGIN:VTIMEZONE
TZID:America/Toronto
BEGIN:DAYLIGHT
TZOFFSETFROM:-0500
TZOFFSETTO:-0400
TZNAME:EDT
DTSTART:20230312T070000
END:DAYLIGHT
BEGIN:STANDARD
TZOFFSETFROM:-0400
TZOFFSETTO:-0500
TZNAME:EST
DTSTART:20231105T060000
END:STANDARD
BEGIN:DAYLIGHT
TZOFFSETFROM:-0500
TZOFFSETTO:-0400
TZNAME:EDT
DTSTART:20240310T070000
END:DAYLIGHT
BEGIN:STANDARD
TZOFFSETFROM:-0400
TZOFFSETTO:-0500
TZNAME:EST
DTSTART:20241103T060000
END:STANDARD
BEGIN:DAYLIGHT
TZOFFSETFROM:-0500
TZOFFSETTO:-0400
TZNAME:EDT
DTSTART:20250309T070000
END:DAYLIGHT
BEGIN:STANDARD
TZOFFSETFROM:-0400
TZOFFSETTO:-0500
TZNAME:EST
DTSTART:20251102T060000
END:STANDARD
END:VTIMEZONE
BEGIN:VEVENT
DTSTART;TZID=America/Toronto:20240609T133000
DTEND;TZID=America/Toronto:20240609T160000
DTSTAMP:20260424T131521
CREATED:20240407T141903Z
LAST-MODIFIED:20240526T082530Z
UID:10003896-1717939800-1717948800@sovgracechurch.ca
SUMMARY:Schomberg Community Group
DESCRIPTION:This will be our last social before we break for the summer! \nLocation varies. \nPlease email info@sovgracechurch.ca for more information.
URL:https://sovgracechurch.ca/event/schomberg-community-group-2/
END:VEVENT
BEGIN:VEVENT
DTSTART;TZID=America/Toronto:20240505T133000
DTEND;TZID=America/Toronto:20240505T160000
DTSTAMP:20260424T131521
CREATED:20231128T060255Z
LAST-MODIFIED:20240407T142059Z
UID:10003888-1714915800-1714924800@sovgracechurch.ca
SUMMARY:Schomberg Community Group
DESCRIPTION:We meet every 1st and 3rd Sunday of the month! \nLocation varies. \nPlease email info@sovgracechurch.ca for more information.
URL:https://sovgracechurch.ca/event/schomberg-community-group-12/2024-05-05/
END:VEVENT
BEGIN:VEVENT
DTSTART;TZID=America/Toronto:20240421T133000
DTEND;TZID=America/Toronto:20240421T160000
DTSTAMP:20260424T131521
CREATED:20240304T212156Z
LAST-MODIFIED:20240407T141743Z
UID:10003895-1713706200-1713715200@sovgracechurch.ca
SUMMARY:Schomberg Community Group
DESCRIPTION:We meet every 1st and 3rd Sunday of the month! \nLocation varies. \nPlease email info@sovgracechurch.ca for more information.
URL:https://sovgracechurch.ca/event/schomberg-community-group/2024-04-21/
END:VEVENT
BEGIN:VEVENT
DTSTART;TZID=America/Toronto:20240407T133000
DTEND;TZID=America/Toronto:20240407T160000
DTSTAMP:20260424T131521
CREATED:20231128T060255Z
LAST-MODIFIED:20240407T142059Z
UID:10003887-1712496600-1712505600@sovgracechurch.ca
SUMMARY:Schomberg Community Group
DESCRIPTION:We meet every 1st and 3rd Sunday of the month! \nLocation varies. \nPlease email info@sovgracechurch.ca for more information.
URL:https://sovgracechurch.ca/event/schomberg-community-group-12/2024-04-07/
END:VEVENT
BEGIN:VEVENT
DTSTART;TZID=America/Toronto:20240317T133000
DTEND;TZID=America/Toronto:20240317T160000
DTSTAMP:20260424T131521
CREATED:20240304T212156Z
LAST-MODIFIED:20240407T141743Z
UID:10003894-1710682200-1710691200@sovgracechurch.ca
SUMMARY:Schomberg Community Group
DESCRIPTION:We meet every 1st and 3rd Sunday of the month! \nLocation varies. \nPlease email info@sovgracechurch.ca for more information.
URL:https://sovgracechurch.ca/event/schomberg-community-group/2024-03-17/
END:VEVENT
BEGIN:VEVENT
DTSTART;TZID=America/Toronto:20240303T133000
DTEND;TZID=America/Toronto:20240303T160000
DTSTAMP:20260424T131521
CREATED:20231128T060255Z
LAST-MODIFIED:20240407T142059Z
UID:10003886-1709472600-1709481600@sovgracechurch.ca
SUMMARY:Schomberg Community Group
DESCRIPTION:We meet every 1st and 3rd Sunday of the month! \nLocation varies. \nPlease email info@sovgracechurch.ca for more information.
URL:https://sovgracechurch.ca/event/schomberg-community-group-12/2024-03-03/
END:VEVENT
END:VCALENDAR