BEGIN:VCALENDAR
VERSION:2.0
PRODID:-//Sovereign Grace Church - ECPv6.15.20//NONSGML v1.0//EN
CALSCALE:GREGORIAN
METHOD:PUBLISH
X-WR-CALNAME:Sovereign Grace Church
X-ORIGINAL-URL:https://sovgracechurch.ca
X-WR-CALDESC:Events for Sovereign Grace Church
REFRESH-INTERVAL;VALUE=DURATION:PT1H
X-Robots-Tag:noindex
X-PUBLISHED-TTL:PT1H
BEGIN:VTIMEZONE
TZID:America/Toronto
BEGIN:DAYLIGHT
TZOFFSETFROM:-0500
TZOFFSETTO:-0400
TZNAME:EDT
DTSTART:20230312T070000
END:DAYLIGHT
BEGIN:STANDARD
TZOFFSETFROM:-0400
TZOFFSETTO:-0500
TZNAME:EST
DTSTART:20231105T060000
END:STANDARD
BEGIN:DAYLIGHT
TZOFFSETFROM:-0500
TZOFFSETTO:-0400
TZNAME:EDT
DTSTART:20240310T070000
END:DAYLIGHT
BEGIN:STANDARD
TZOFFSETFROM:-0400
TZOFFSETTO:-0500
TZNAME:EST
DTSTART:20241103T060000
END:STANDARD
BEGIN:DAYLIGHT
TZOFFSETFROM:-0500
TZOFFSETTO:-0400
TZNAME:EDT
DTSTART:20250309T070000
END:DAYLIGHT
BEGIN:STANDARD
TZOFFSETFROM:-0400
TZOFFSETTO:-0500
TZNAME:EST
DTSTART:20251102T060000
END:STANDARD
BEGIN:DAYLIGHT
TZOFFSETFROM:-0500
TZOFFSETTO:-0400
TZNAME:EDT
DTSTART:20260308T070000
END:DAYLIGHT
BEGIN:STANDARD
TZOFFSETFROM:-0400
TZOFFSETTO:-0500
TZNAME:EST
DTSTART:20261101T060000
END:STANDARD
END:VTIMEZONE
BEGIN:VEVENT
DTSTART;TZID=America/Toronto:20250531T093000
DTEND;TZID=America/Toronto:20250531T143000
DTSTAMP:20260424T040451
CREATED:20250106T144226Z
LAST-MODIFIED:20250331T150847Z
UID:10005501-1748683800-1748701800@sovgracechurch.ca
SUMMARY:Beginning the Journey (Membership Class)
DESCRIPTION:Join our membership class at the church called “Beginning the Journey”. The purpose of this class is to give you a big picture view of our church’s doctrine and values so that you can make an informed decision about whether to make Sovereign Grace your church home. \nPlease email info@sovgracechurch.ca for more information. \nRegister here!
URL:https://sovgracechurch.ca/event/beginning-the-journey-membership-class-4/
LOCATION:Sovereign Grace Church\, 1466 5th Sideroad\, Bradford\, Ontario\, L3Z4A8\, Canada
GEO:44.044413;-79.62542
X-APPLE-STRUCTURED-LOCATION;VALUE=URI;X-ADDRESS=Sovereign Grace Church 1466 5th Sideroad Bradford Ontario L3Z4A8 Canada;X-APPLE-RADIUS=500;X-TITLE=1466 5th Sideroad:geo:-79.62542,44.044413
END:VEVENT
BEGIN:VEVENT
DTSTART;TZID=America/Toronto:20250125T093000
DTEND;TZID=America/Toronto:20250125T143000
DTSTAMP:20260424T040451
CREATED:20250102T205824Z
LAST-MODIFIED:20250102T210019Z
UID:10005359-1737797400-1737815400@sovgracechurch.ca
SUMMARY:Beginning the Journey (Membership Class)
DESCRIPTION:Join our membership class at the church called “Beginning the Journey”. The purpose of this class is to give you a big picture view of our church’s doctrine and values so that you can make an informed decision about whether to make Sovereign Grace your church home. \nPlease email info@sovgracechurch.ca for more information. \nRegister here: https://sovgrace.churchcenter.com/people/forms/874802
URL:https://sovgracechurch.ca/event/beginning-the-journey-membership-class-3/
LOCATION:Sovereign Grace Church\, 1466 5th Sideroad\, Bradford\, Ontario\, L3Z4A8\, Canada
GEO:44.044413;-79.62542
X-APPLE-STRUCTURED-LOCATION;VALUE=URI;X-ADDRESS=Sovereign Grace Church 1466 5th Sideroad Bradford Ontario L3Z4A8 Canada;X-APPLE-RADIUS=500;X-TITLE=1466 5th Sideroad:geo:-79.62542,44.044413
END:VEVENT
BEGIN:VEVENT
DTSTART;TZID=America/Toronto:20240921T093000
DTEND;TZID=America/Toronto:20240921T143000
DTSTAMP:20260424T040451
CREATED:20240730T184022Z
LAST-MODIFIED:20240819T133142Z
UID:10004509-1726911000-1726929000@sovgracechurch.ca
SUMMARY:Beginning the Journey (Membership Class)
DESCRIPTION:Join our membership class at the church called “Beginning the Journey”. The purpose of this class is to give you a big picture view of our church’s doctrine and values so that you can make an informed decision about whether to make Sovereign Grace your church home. \nPlease email info@sovgracechurch.ca for more information. \nRegister here: https://sovgrace.churchcenter.com/people/forms/781552
URL:https://sovgracechurch.ca/event/beginning-the-journey-membership-class-2/
LOCATION:Sovereign Grace Church\, 1466 5th Sideroad\, Bradford\, Ontario\, L3Z4A8\, Canada
GEO:44.044413;-79.62542
X-APPLE-STRUCTURED-LOCATION;VALUE=URI;X-ADDRESS=Sovereign Grace Church 1466 5th Sideroad Bradford Ontario L3Z4A8 Canada;X-APPLE-RADIUS=500;X-TITLE=1466 5th Sideroad:geo:-79.62542,44.044413
END:VEVENT
BEGIN:VEVENT
DTSTART;TZID=America/Toronto:20240525T093000
DTEND;TZID=America/Toronto:20240525T143000
DTSTAMP:20260424T040451
CREATED:20240301T193400Z
LAST-MODIFIED:20240702T193155Z
UID:10003776-1716629400-1716647400@sovgracechurch.ca
SUMMARY:Beginning the Journey (Membership Class)
DESCRIPTION:Join our membership class at the church called “Beginning the Journey”. The purpose of this class is to give you a big picture view of our church’s doctrine and values so that you can make an informed decision about whether to make Sovereign Grace your church home. \nPlease email info@sovgracechurch.ca for more information. \nRegistration link coming soon!
URL:https://sovgracechurch.ca/event/beginning-the-journey-membership-class/
LOCATION:Sovereign Grace Church\, 1466 5th Sideroad\, Bradford\, Ontario\, L3Z4A8\, Canada
GEO:44.044413;-79.62542
X-APPLE-STRUCTURED-LOCATION;VALUE=URI;X-ADDRESS=Sovereign Grace Church 1466 5th Sideroad Bradford Ontario L3Z4A8 Canada;X-APPLE-RADIUS=500;X-TITLE=1466 5th Sideroad:geo:-79.62542,44.044413
END:VEVENT
END:VCALENDAR