BEGIN:VCALENDAR
VERSION:2.0
PRODID:-//Sovereign Grace Church - ECPv6.15.20//NONSGML v1.0//EN
CALSCALE:GREGORIAN
METHOD:PUBLISH
X-WR-CALNAME:Sovereign Grace Church
X-ORIGINAL-URL:https://sovgracechurch.ca
X-WR-CALDESC:Events for Sovereign Grace Church
REFRESH-INTERVAL;VALUE=DURATION:PT1H
X-Robots-Tag:noindex
X-PUBLISHED-TTL:PT1H
BEGIN:VTIMEZONE
TZID:America/Toronto
BEGIN:DAYLIGHT
TZOFFSETFROM:-0500
TZOFFSETTO:-0400
TZNAME:EDT
DTSTART:20220313T070000
END:DAYLIGHT
BEGIN:STANDARD
TZOFFSETFROM:-0400
TZOFFSETTO:-0500
TZNAME:EST
DTSTART:20221106T060000
END:STANDARD
BEGIN:DAYLIGHT
TZOFFSETFROM:-0500
TZOFFSETTO:-0400
TZNAME:EDT
DTSTART:20230312T070000
END:DAYLIGHT
BEGIN:STANDARD
TZOFFSETFROM:-0400
TZOFFSETTO:-0500
TZNAME:EST
DTSTART:20231105T060000
END:STANDARD
BEGIN:DAYLIGHT
TZOFFSETFROM:-0500
TZOFFSETTO:-0400
TZNAME:EDT
DTSTART:20240310T070000
END:DAYLIGHT
BEGIN:STANDARD
TZOFFSETFROM:-0400
TZOFFSETTO:-0500
TZNAME:EST
DTSTART:20241103T060000
END:STANDARD
BEGIN:DAYLIGHT
TZOFFSETFROM:-0500
TZOFFSETTO:-0400
TZNAME:EDT
DTSTART:20250309T070000
END:DAYLIGHT
BEGIN:STANDARD
TZOFFSETFROM:-0400
TZOFFSETTO:-0500
TZNAME:EST
DTSTART:20251102T060000
END:STANDARD
END:VTIMEZONE
BEGIN:VEVENT
DTSTART;TZID=America/Toronto:20240626T200000
DTEND;TZID=America/Toronto:20240626T213000
DTSTAMP:20260424T150055
CREATED:20230926T223806Z
LAST-MODIFIED:20240305T153958Z
UID:10004527-1719432000-1719437400@sovgracechurch.ca
SUMMARY:Kerr Marriage Tag (B)
DESCRIPTION:This TAG is currently full\, but if you’re interested in learning more\, please email us at info@sovgracechurch.ca
URL:https://sovgracechurch.ca/event/marriage-tag-b-3/2024-06-26/
END:VEVENT
BEGIN:VEVENT
DTSTART;TZID=America/Toronto:20240522T200000
DTEND;TZID=America/Toronto:20240522T213000
DTSTAMP:20260424T150055
CREATED:20230926T223806Z
LAST-MODIFIED:20240305T153958Z
UID:10004526-1716408000-1716413400@sovgracechurch.ca
SUMMARY:Kerr Marriage Tag (B)
DESCRIPTION:This TAG is currently full\, but if you’re interested in learning more\, please email us at info@sovgracechurch.ca
URL:https://sovgracechurch.ca/event/marriage-tag-b-3/2024-05-22/
END:VEVENT
BEGIN:VEVENT
DTSTART;TZID=America/Toronto:20240424T200000
DTEND;TZID=America/Toronto:20240424T213000
DTSTAMP:20260424T150055
CREATED:20230926T223806Z
LAST-MODIFIED:20240305T153958Z
UID:10004525-1713988800-1713994200@sovgracechurch.ca
SUMMARY:Kerr Marriage Tag (B)
DESCRIPTION:This TAG is currently full\, but if you’re interested in learning more\, please email us at info@sovgracechurch.ca
URL:https://sovgracechurch.ca/event/marriage-tag-b-3/2024-04-24/
END:VEVENT
BEGIN:VEVENT
DTSTART;TZID=America/Toronto:20240327T200000
DTEND;TZID=America/Toronto:20240327T213000
DTSTAMP:20260424T150055
CREATED:20230926T223806Z
LAST-MODIFIED:20240305T153958Z
UID:10004524-1711569600-1711575000@sovgracechurch.ca
SUMMARY:Kerr Marriage Tag (B)
DESCRIPTION:This TAG is currently full\, but if you’re interested in learning more\, please email us at info@sovgracechurch.ca
URL:https://sovgracechurch.ca/event/marriage-tag-b-3/2024-03-27/
END:VEVENT
BEGIN:VEVENT
DTSTART;TZID=America/Toronto:20240228T200000
DTEND;TZID=America/Toronto:20240228T213000
DTSTAMP:20260424T150055
CREATED:20230926T223806Z
LAST-MODIFIED:20240305T153958Z
UID:10004523-1709150400-1709155800@sovgracechurch.ca
SUMMARY:Kerr Marriage Tag (B)
DESCRIPTION:This TAG is currently full\, but if you’re interested in learning more\, please email us at info@sovgracechurch.ca
URL:https://sovgracechurch.ca/event/marriage-tag-b-3/2024-02-28/
END:VEVENT
BEGIN:VEVENT
DTSTART;TZID=America/Toronto:20240124T200000
DTEND;TZID=America/Toronto:20240124T213000
DTSTAMP:20260424T150055
CREATED:20230926T223806Z
LAST-MODIFIED:20240305T153958Z
UID:10004522-1706126400-1706131800@sovgracechurch.ca
SUMMARY:Kerr Marriage Tag (B)
DESCRIPTION:This TAG is currently full\, but if you’re interested in learning more\, please email us at info@sovgracechurch.ca
URL:https://sovgracechurch.ca/event/marriage-tag-b-3/2024-01-24/
END:VEVENT
BEGIN:VEVENT
DTSTART;TZID=America/Toronto:20231227T200000
DTEND;TZID=America/Toronto:20231227T213000
DTSTAMP:20260424T150055
CREATED:20230926T223806Z
LAST-MODIFIED:20240305T153958Z
UID:10004521-1703707200-1703712600@sovgracechurch.ca
SUMMARY:Kerr Marriage Tag (B)
DESCRIPTION:This TAG is currently full\, but if you’re interested in learning more\, please email us at info@sovgracechurch.ca
URL:https://sovgracechurch.ca/event/marriage-tag-b-3/2023-12-27/
END:VEVENT
BEGIN:VEVENT
DTSTART;TZID=America/Toronto:20231122T200000
DTEND;TZID=America/Toronto:20231122T213000
DTSTAMP:20260424T150055
CREATED:20230926T223806Z
LAST-MODIFIED:20240305T153958Z
UID:10004520-1700683200-1700688600@sovgracechurch.ca
SUMMARY:Kerr Marriage Tag (B)
DESCRIPTION:This TAG is currently full\, but if you’re interested in learning more\, please email us at info@sovgracechurch.ca
URL:https://sovgracechurch.ca/event/marriage-tag-b-3/2023-11-22/
END:VEVENT
BEGIN:VEVENT
DTSTART;TZID=America/Toronto:20231025T200000
DTEND;TZID=America/Toronto:20231025T213000
DTSTAMP:20260424T150055
CREATED:20230926T223806Z
LAST-MODIFIED:20240305T153958Z
UID:10004519-1698264000-1698269400@sovgracechurch.ca
SUMMARY:Kerr Marriage Tag (B)
DESCRIPTION:This TAG is currently full\, but if you’re interested in learning more\, please email us at info@sovgracechurch.ca
URL:https://sovgracechurch.ca/event/marriage-tag-b-3/2023-10-25/
END:VEVENT
BEGIN:VEVENT
DTSTART;TZID=America/Toronto:20230927T200000
DTEND;TZID=America/Toronto:20230927T213000
DTSTAMP:20260424T150055
CREATED:20230926T223806Z
LAST-MODIFIED:20240305T153958Z
UID:10004518-1695844800-1695850200@sovgracechurch.ca
SUMMARY:Kerr Marriage Tag (B)
DESCRIPTION:This TAG is currently full\, but if you’re interested in learning more\, please email us at info@sovgracechurch.ca
URL:https://sovgracechurch.ca/event/marriage-tag-b-3/2023-09-27/
END:VEVENT
END:VCALENDAR