BEGIN:VCALENDAR
VERSION:2.0
PRODID:-//Sovereign Grace Church - ECPv6.15.20//NONSGML v1.0//EN
CALSCALE:GREGORIAN
METHOD:PUBLISH
X-ORIGINAL-URL:https://sovgracechurch.ca
X-WR-CALDESC:Events for Sovereign Grace Church
REFRESH-INTERVAL;VALUE=DURATION:PT1H
X-Robots-Tag:noindex
X-PUBLISHED-TTL:PT1H
BEGIN:VTIMEZONE
TZID:America/Toronto
BEGIN:DAYLIGHT
TZOFFSETFROM:-0500
TZOFFSETTO:-0400
TZNAME:EDT
DTSTART:20230312T070000
END:DAYLIGHT
BEGIN:STANDARD
TZOFFSETFROM:-0400
TZOFFSETTO:-0500
TZNAME:EST
DTSTART:20231105T060000
END:STANDARD
BEGIN:DAYLIGHT
TZOFFSETFROM:-0500
TZOFFSETTO:-0400
TZNAME:EDT
DTSTART:20240310T070000
END:DAYLIGHT
BEGIN:STANDARD
TZOFFSETFROM:-0400
TZOFFSETTO:-0500
TZNAME:EST
DTSTART:20241103T060000
END:STANDARD
BEGIN:DAYLIGHT
TZOFFSETFROM:-0500
TZOFFSETTO:-0400
TZNAME:EDT
DTSTART:20250309T070000
END:DAYLIGHT
BEGIN:STANDARD
TZOFFSETFROM:-0400
TZOFFSETTO:-0500
TZNAME:EST
DTSTART:20251102T060000
END:STANDARD
END:VTIMEZONE
BEGIN:VEVENT
DTSTART;TZID=America/Toronto:20240612T200000
DTEND;TZID=America/Toronto:20240612T213000
DTSTAMP:20260424T180123
CREATED:20240305T153737Z
LAST-MODIFIED:20240305T154146Z
UID:10004530-1718222400-1718227800@sovgracechurch.ca
SUMMARY:Kerr Marriage TAG (Group A)
DESCRIPTION:This TAG is currently full\, but if you’re interested in learning more\, please email us at info@sovgracechurch.ca
URL:https://sovgracechurch.ca/event/kerr-marriage-tag-2/2024-06-12/
LOCATION:Tim and Joanne Kerr’s Home
CATEGORIES:Kerr Marriage TAG
END:VEVENT
BEGIN:VEVENT
DTSTART;TZID=America/Toronto:20240508T200000
DTEND;TZID=America/Toronto:20240508T213000
DTSTAMP:20260424T180123
CREATED:20240305T153737Z
LAST-MODIFIED:20240305T154146Z
UID:10004529-1715198400-1715203800@sovgracechurch.ca
SUMMARY:Kerr Marriage TAG (Group A)
DESCRIPTION:This TAG is currently full\, but if you’re interested in learning more\, please email us at info@sovgracechurch.ca
URL:https://sovgracechurch.ca/event/kerr-marriage-tag-2/2024-05-08/
LOCATION:Tim and Joanne Kerr’s Home
CATEGORIES:Kerr Marriage TAG
END:VEVENT
BEGIN:VEVENT
DTSTART;TZID=America/Toronto:20240410T200000
DTEND;TZID=America/Toronto:20240410T213000
DTSTAMP:20260424T180123
CREATED:20240305T153737Z
LAST-MODIFIED:20240305T154146Z
UID:10004528-1712779200-1712784600@sovgracechurch.ca
SUMMARY:Kerr Marriage TAG (Group A)
DESCRIPTION:This TAG is currently full\, but if you’re interested in learning more\, please email us at info@sovgracechurch.ca
URL:https://sovgracechurch.ca/event/kerr-marriage-tag-2/2024-04-10/
LOCATION:Tim and Joanne Kerr’s Home
CATEGORIES:Kerr Marriage TAG
END:VEVENT
BEGIN:VEVENT
DTSTART;TZID=America/Toronto:20240313T200000
DTEND;TZID=America/Toronto:20240313T213000
DTSTAMP:20260424T180123
CREATED:20240305T153737Z
LAST-MODIFIED:20240305T154146Z
UID:10000451-1710360000-1710365400@sovgracechurch.ca
SUMMARY:Kerr Marriage TAG (Group A)
DESCRIPTION:This TAG is currently full\, but if you’re interested in learning more\, please email us at info@sovgracechurch.ca
URL:https://sovgracechurch.ca/event/kerr-marriage-tag-2/2024-03-13/
LOCATION:Tim and Joanne Kerr’s Home
CATEGORIES:Kerr Marriage TAG
END:VEVENT
END:VCALENDAR