BEGIN:VCALENDAR
VERSION:2.0
PRODID:-//Sovereign Grace Church - ECPv6.15.20//NONSGML v1.0//EN
CALSCALE:GREGORIAN
METHOD:PUBLISH
X-WR-CALNAME:Sovereign Grace Church
X-ORIGINAL-URL:https://sovgracechurch.ca
X-WR-CALDESC:Events for Sovereign Grace Church
REFRESH-INTERVAL;VALUE=DURATION:PT1H
X-Robots-Tag:noindex
X-PUBLISHED-TTL:PT1H
BEGIN:VTIMEZONE
TZID:America/Toronto
BEGIN:DAYLIGHT
TZOFFSETFROM:-0500
TZOFFSETTO:-0400
TZNAME:EDT
DTSTART:20230312T070000
END:DAYLIGHT
BEGIN:STANDARD
TZOFFSETFROM:-0400
TZOFFSETTO:-0500
TZNAME:EST
DTSTART:20231105T060000
END:STANDARD
BEGIN:DAYLIGHT
TZOFFSETFROM:-0500
TZOFFSETTO:-0400
TZNAME:EDT
DTSTART:20240310T070000
END:DAYLIGHT
BEGIN:STANDARD
TZOFFSETFROM:-0400
TZOFFSETTO:-0500
TZNAME:EST
DTSTART:20241103T060000
END:STANDARD
BEGIN:DAYLIGHT
TZOFFSETFROM:-0500
TZOFFSETTO:-0400
TZNAME:EDT
DTSTART:20250309T070000
END:DAYLIGHT
BEGIN:STANDARD
TZOFFSETFROM:-0400
TZOFFSETTO:-0500
TZNAME:EST
DTSTART:20251102T060000
END:STANDARD
END:VTIMEZONE
BEGIN:VEVENT
DTSTART;TZID=America/Toronto:20240229T190000
DTEND;TZID=America/Toronto:20240229T210000
DTSTAMP:20260424T170407
CREATED:20240119T222526Z
LAST-MODIFIED:20240304T222404Z
UID:10003562-1709233200-1709240400@sovgracechurch.ca
SUMMARY:Karate
DESCRIPTION:We meet weekly in the church gym\, newcomers are welcomed to join us at any point of the year! \n7:00-7:50 (Ages 6-12) \n8:00-8:50 (Teens + Adults) \nPlease email info@sovgracechurch.ca for more information. \nLearn More
URL:https://sovgracechurch.ca/event/karate-10/2024-02-29/
ATTACH;FMTTYPE=image/jpeg:https://sovgracechurch.ca/wp-content/uploads/2023/01/SGCKarate.jpg
END:VEVENT
BEGIN:VEVENT
DTSTART;TZID=America/Toronto:20240222T190000
DTEND;TZID=America/Toronto:20240222T210000
DTSTAMP:20260424T170407
CREATED:20240119T222526Z
LAST-MODIFIED:20240304T222404Z
UID:10003561-1708628400-1708635600@sovgracechurch.ca
SUMMARY:Karate
DESCRIPTION:We meet weekly in the church gym\, newcomers are welcomed to join us at any point of the year! \n7:00-7:50 (Ages 6-12) \n8:00-8:50 (Teens + Adults) \nPlease email info@sovgracechurch.ca for more information. \nLearn More
URL:https://sovgracechurch.ca/event/karate-10/2024-02-22/
ATTACH;FMTTYPE=image/jpeg:https://sovgracechurch.ca/wp-content/uploads/2023/01/SGCKarate.jpg
END:VEVENT
BEGIN:VEVENT
DTSTART;TZID=America/Toronto:20240215T190000
DTEND;TZID=America/Toronto:20240215T210000
DTSTAMP:20260424T170407
CREATED:20240119T222526Z
LAST-MODIFIED:20240304T222404Z
UID:10003560-1708023600-1708030800@sovgracechurch.ca
SUMMARY:Karate
DESCRIPTION:We meet weekly in the church gym\, newcomers are welcomed to join us at any point of the year! \n7:00-7:50 (Ages 6-12) \n8:00-8:50 (Teens + Adults) \nPlease email info@sovgracechurch.ca for more information. \nLearn More
URL:https://sovgracechurch.ca/event/karate-10/2024-02-15/
ATTACH;FMTTYPE=image/jpeg:https://sovgracechurch.ca/wp-content/uploads/2023/01/SGCKarate.jpg
END:VEVENT
BEGIN:VEVENT
DTSTART;TZID=America/Toronto:20240208T190000
DTEND;TZID=America/Toronto:20240208T210000
DTSTAMP:20260424T170407
CREATED:20240119T222526Z
LAST-MODIFIED:20240304T222404Z
UID:10003559-1707418800-1707426000@sovgracechurch.ca
SUMMARY:Karate
DESCRIPTION:We meet weekly in the church gym\, newcomers are welcomed to join us at any point of the year! \n7:00-7:50 (Ages 6-12) \n8:00-8:50 (Teens + Adults) \nPlease email info@sovgracechurch.ca for more information. \nLearn More
URL:https://sovgracechurch.ca/event/karate-10/2024-02-08/
ATTACH;FMTTYPE=image/jpeg:https://sovgracechurch.ca/wp-content/uploads/2023/01/SGCKarate.jpg
END:VEVENT
BEGIN:VEVENT
DTSTART;TZID=America/Toronto:20240201T190000
DTEND;TZID=America/Toronto:20240201T210000
DTSTAMP:20260424T170407
CREATED:20240119T222526Z
LAST-MODIFIED:20240304T222404Z
UID:10003558-1706814000-1706821200@sovgracechurch.ca
SUMMARY:Karate
DESCRIPTION:We meet weekly in the church gym\, newcomers are welcomed to join us at any point of the year! \n7:00-7:50 (Ages 6-12) \n8:00-8:50 (Teens + Adults) \nPlease email info@sovgracechurch.ca for more information. \nLearn More
URL:https://sovgracechurch.ca/event/karate-10/2024-02-01/
ATTACH;FMTTYPE=image/jpeg:https://sovgracechurch.ca/wp-content/uploads/2023/01/SGCKarate.jpg
END:VEVENT
BEGIN:VEVENT
DTSTART;TZID=America/Toronto:20240125T190000
DTEND;TZID=America/Toronto:20240125T210000
DTSTAMP:20260424T170407
CREATED:20240119T222526Z
LAST-MODIFIED:20240304T222404Z
UID:10003557-1706209200-1706216400@sovgracechurch.ca
SUMMARY:Karate
DESCRIPTION:We meet weekly in the church gym\, newcomers are welcomed to join us at any point of the year! \n7:00-7:50 (Ages 6-12) \n8:00-8:50 (Teens + Adults) \nPlease email info@sovgracechurch.ca for more information. \nLearn More
URL:https://sovgracechurch.ca/event/karate-10/2024-01-25/
ATTACH;FMTTYPE=image/jpeg:https://sovgracechurch.ca/wp-content/uploads/2023/01/SGCKarate.jpg
END:VEVENT
BEGIN:VEVENT
DTSTART;TZID=America/Toronto:20240118T190000
DTEND;TZID=America/Toronto:20240118T210000
DTSTAMP:20260424T170407
CREATED:20240119T222526Z
LAST-MODIFIED:20240304T222404Z
UID:10003556-1705604400-1705611600@sovgracechurch.ca
SUMMARY:Karate
DESCRIPTION:We meet weekly in the church gym\, newcomers are welcomed to join us at any point of the year! \n7:00-7:50 (Ages 6-12) \n8:00-8:50 (Teens + Adults) \nPlease email info@sovgracechurch.ca for more information. \nLearn More
URL:https://sovgracechurch.ca/event/karate-10/2024-01-18/
ATTACH;FMTTYPE=image/jpeg:https://sovgracechurch.ca/wp-content/uploads/2023/01/SGCKarate.jpg
END:VEVENT
BEGIN:VEVENT
DTSTART;TZID=America/Toronto:20240111T190000
DTEND;TZID=America/Toronto:20240111T210000
DTSTAMP:20260424T170407
CREATED:20240119T222526Z
LAST-MODIFIED:20240304T222404Z
UID:10003555-1704999600-1705006800@sovgracechurch.ca
SUMMARY:Karate
DESCRIPTION:We meet weekly in the church gym\, newcomers are welcomed to join us at any point of the year! \n7:00-7:50 (Ages 6-12) \n8:00-8:50 (Teens + Adults) \nPlease email info@sovgracechurch.ca for more information. \nLearn More
URL:https://sovgracechurch.ca/event/karate-10/2024-01-11/
ATTACH;FMTTYPE=image/jpeg:https://sovgracechurch.ca/wp-content/uploads/2023/01/SGCKarate.jpg
END:VEVENT
END:VCALENDAR