BEGIN:VCALENDAR
VERSION:2.0
PRODID:-//Sovereign Grace Church - ECPv6.15.20//NONSGML v1.0//EN
CALSCALE:GREGORIAN
METHOD:PUBLISH
X-ORIGINAL-URL:https://sovgracechurch.ca
X-WR-CALDESC:Events for Sovereign Grace Church
REFRESH-INTERVAL;VALUE=DURATION:PT1H
X-Robots-Tag:noindex
X-PUBLISHED-TTL:PT1H
BEGIN:VTIMEZONE
TZID:America/Toronto
BEGIN:DAYLIGHT
TZOFFSETFROM:-0500
TZOFFSETTO:-0400
TZNAME:EDT
DTSTART:20230312T070000
END:DAYLIGHT
BEGIN:STANDARD
TZOFFSETFROM:-0400
TZOFFSETTO:-0500
TZNAME:EST
DTSTART:20231105T060000
END:STANDARD
BEGIN:DAYLIGHT
TZOFFSETFROM:-0500
TZOFFSETTO:-0400
TZNAME:EDT
DTSTART:20240310T070000
END:DAYLIGHT
BEGIN:STANDARD
TZOFFSETFROM:-0400
TZOFFSETTO:-0500
TZNAME:EST
DTSTART:20241103T060000
END:STANDARD
BEGIN:DAYLIGHT
TZOFFSETFROM:-0500
TZOFFSETTO:-0400
TZNAME:EDT
DTSTART:20250309T070000
END:DAYLIGHT
BEGIN:STANDARD
TZOFFSETFROM:-0400
TZOFFSETTO:-0500
TZNAME:EST
DTSTART:20251102T060000
END:STANDARD
END:VTIMEZONE
BEGIN:VEVENT
DTSTART;TZID=America/Toronto:20240626T200000
DTEND;TZID=America/Toronto:20240626T220000
DTSTAMP:20260424T133421
CREATED:20240304T215258Z
LAST-MODIFIED:20240305T154541Z
UID:10003933-1719432000-1719439200@sovgracechurch.ca
SUMMARY:Richmond Hill Community Group
DESCRIPTION:We meet every 2nd and 4th Wednesdays of the month! \nPlease email info@sovgracechurch.ca for more information.
URL:https://sovgracechurch.ca/event/richmond-hill-community-group-2/2024-06-26/
LOCATION:Lee and Priscilla Wong’s Home
END:VEVENT
BEGIN:VEVENT
DTSTART;TZID=America/Toronto:20240522T200000
DTEND;TZID=America/Toronto:20240522T220000
DTSTAMP:20260424T133421
CREATED:20240304T215258Z
LAST-MODIFIED:20240305T154541Z
UID:10003932-1716408000-1716415200@sovgracechurch.ca
SUMMARY:Richmond Hill Community Group
DESCRIPTION:We meet every 2nd and 4th Wednesdays of the month! \nPlease email info@sovgracechurch.ca for more information.
URL:https://sovgracechurch.ca/event/richmond-hill-community-group-2/2024-05-22/
LOCATION:Lee and Priscilla Wong’s Home
END:VEVENT
BEGIN:VEVENT
DTSTART;TZID=America/Toronto:20240424T200000
DTEND;TZID=America/Toronto:20240424T220000
DTSTAMP:20260424T133421
CREATED:20240304T215258Z
LAST-MODIFIED:20240305T154541Z
UID:10003931-1713988800-1713996000@sovgracechurch.ca
SUMMARY:Richmond Hill Community Group
DESCRIPTION:We meet every 2nd and 4th Wednesdays of the month! \nPlease email info@sovgracechurch.ca for more information.
URL:https://sovgracechurch.ca/event/richmond-hill-community-group-2/2024-04-24/
LOCATION:Lee and Priscilla Wong’s Home
END:VEVENT
BEGIN:VEVENT
DTSTART;TZID=America/Toronto:20240327T200000
DTEND;TZID=America/Toronto:20240327T220000
DTSTAMP:20260424T133421
CREATED:20240304T215258Z
LAST-MODIFIED:20240305T154541Z
UID:10003930-1711569600-1711576800@sovgracechurch.ca
SUMMARY:Richmond Hill Community Group
DESCRIPTION:We meet every 2nd and 4th Wednesdays of the month! \nPlease email info@sovgracechurch.ca for more information.
URL:https://sovgracechurch.ca/event/richmond-hill-community-group-2/2024-03-27/
LOCATION:Lee and Priscilla Wong’s Home
END:VEVENT
END:VCALENDAR